Back to Multiple platform build/check report for BioC 3.22:   simplified   long
ABCDEFGHIJKLM[N]OPQRSTUVWXYZ

This page was generated on 2025-11-01 12:03 -0400 (Sat, 01 Nov 2025).

HostnameOSArch (*)R versionInstalled pkgs
nebbiolo2Linux (Ubuntu 24.04.3 LTS)x86_644.5.1 Patched (2025-08-23 r88802) -- "Great Square Root" 4901
lconwaymacOS 12.7.6 Montereyx86_644.5.1 Patched (2025-09-10 r88807) -- "Great Square Root" 4691
kjohnson3macOS 13.7.7 Venturaarm644.5.1 Patched (2025-09-10 r88807) -- "Great Square Root" 4637
Click on any hostname to see more info about the system (e.g. compilers)      (*) as reported by 'uname -p', except on Windows and Mac OS X

Package 1475/2361HostnameOS / ArchINSTALLBUILDCHECKBUILD BIN
notameViz 1.0.0  (landing page)
Vilhelm Suksi
Snapshot Date: 2025-10-31 13:45 -0400 (Fri, 31 Oct 2025)
git_url: https://git.bioconductor.org/packages/notameViz
git_branch: RELEASE_3_22
git_last_commit: bb6e677
git_last_commit_date: 2025-10-29 11:38:35 -0400 (Wed, 29 Oct 2025)
nebbiolo2Linux (Ubuntu 24.04.3 LTS) / x86_64  OK    OK    OK  UNNEEDED, same version is already published
lconwaymacOS 12.7.6 Monterey / x86_64  OK    OK    OK    OK  UNNEEDED, same version is already published
kjohnson3macOS 13.7.7 Ventura / arm64  OK    OK    OK    OK  UNNEEDED, same version is already published


CHECK results for notameViz on nebbiolo2

To the developers/maintainers of the notameViz package:
- Allow up to 24 hours (and sometimes 48 hours) for your latest push to git@git.bioconductor.org:packages/notameViz.git to reflect on this report. See Troubleshooting Build Report for more information.
- Use the following Renviron settings to reproduce errors and warnings.
- If 'R CMD check' started to fail recently on the Linux builder(s) over a missing dependency, add the missing dependency to 'Suggests:' in your DESCRIPTION file. See Renviron.bioc for more information.

raw results


Summary

Package: notameViz
Version: 1.0.0
Command: /home/biocbuild/bbs-3.22-bioc/R/bin/R CMD check --install=check:notameViz.install-out.txt --library=/home/biocbuild/bbs-3.22-bioc/R/site-library --timings notameViz_1.0.0.tar.gz
StartedAt: 2025-11-01 02:19:31 -0400 (Sat, 01 Nov 2025)
EndedAt: 2025-11-01 02:24:30 -0400 (Sat, 01 Nov 2025)
EllapsedTime: 298.3 seconds
RetCode: 0
Status:   OK  
CheckDir: notameViz.Rcheck
Warnings: 0

Command output

##############################################################################
##############################################################################
###
### Running command:
###
###   /home/biocbuild/bbs-3.22-bioc/R/bin/R CMD check --install=check:notameViz.install-out.txt --library=/home/biocbuild/bbs-3.22-bioc/R/site-library --timings notameViz_1.0.0.tar.gz
###
##############################################################################
##############################################################################


* using log directory ‘/home/biocbuild/bbs-3.22-bioc/meat/notameViz.Rcheck’
* using R version 4.5.1 Patched (2025-08-23 r88802)
* using platform: x86_64-pc-linux-gnu
* R was compiled by
    gcc (Ubuntu 13.3.0-6ubuntu2~24.04) 13.3.0
    GNU Fortran (Ubuntu 13.3.0-6ubuntu2~24.04) 13.3.0
* running under: Ubuntu 24.04.3 LTS
* using session charset: UTF-8
* checking for file ‘notameViz/DESCRIPTION’ ... OK
* checking extension type ... Package
* this is package ‘notameViz’ version ‘1.0.0’
* package encoding: UTF-8
* checking package namespace information ... OK
* checking package dependencies ... OK
* checking if this is a source package ... OK
* checking if there is a namespace ... OK
* checking for hidden files and directories ... OK
* checking for portable file names ... OK
* checking for sufficient/correct file permissions ... OK
* checking whether package ‘notameViz’ can be installed ... OK
* checking installed package size ... OK
* checking package directory ... OK
* checking ‘build’ directory ... OK
* checking DESCRIPTION meta-information ... NOTE
License stub is invalid DCF.
* checking top-level files ... OK
* checking for left-over files ... OK
* checking index information ... OK
* checking package subdirectories ... OK
* checking code files for non-ASCII characters ... OK
* checking R files for syntax errors ... OK
* checking whether the package can be loaded ... OK
* checking whether the package can be loaded with stated dependencies ... OK
* checking whether the package can be unloaded cleanly ... OK
* checking whether the namespace can be loaded with stated dependencies ... OK
* checking whether the namespace can be unloaded cleanly ... OK
* checking loading without being on the library search path ... OK
* checking dependencies in R code ... OK
* checking S3 generic/method consistency ... OK
* checking replacement functions ... OK
* checking foreign function calls ... OK
* checking R code for possible problems ... OK
* checking Rd files ... OK
* checking Rd metadata ... OK
* checking Rd cross-references ... NOTE
Found the following Rd file(s) with Rd \link{} targets missing package
anchors:
  save_dc_plots.Rd: correct_drift
Please provide package anchors for all Rd \link{} targets not in the
package itself and the base packages.
* checking for missing documentation entries ... OK
* checking for code/documentation mismatches ... OK
* checking Rd \usage sections ... OK
* checking Rd contents ... OK
* checking for unstated dependencies in examples ... OK
* checking files in ‘vignettes’ ... OK
* checking examples ... OK
Examples with CPU (user + system) or elapsed time > 5s
                       user system elapsed
plot_injection_lm    11.853  4.770   5.221
save_QC_plots        12.372  2.429  11.020
save_batch_plots      8.887  0.101   8.993
manhattan_plot        6.989  1.385   5.103
save_group_boxplots   7.728  0.463   8.192
save_group_lineplots  7.100  0.111   7.213
plot_effect_heatmap   5.033  1.495   3.190
mz_rt_plot            4.758  1.408   2.825
save_beeswarm_plots   5.608  0.053   5.649
plot_p_histogram      3.733  1.326   1.765
* checking for unstated dependencies in ‘tests’ ... OK
* checking tests ...
  Running ‘testthat.R’
 OK
* checking for unstated dependencies in vignettes ... OK
* checking package vignettes ... OK
* checking re-building of vignette outputs ... OK
* checking PDF version of manual ... OK
* DONE

Status: 2 NOTEs
See
  ‘/home/biocbuild/bbs-3.22-bioc/meat/notameViz.Rcheck/00check.log’
for details.


Installation output

notameViz.Rcheck/00install.out

##############################################################################
##############################################################################
###
### Running command:
###
###   /home/biocbuild/bbs-3.22-bioc/R/bin/R CMD INSTALL notameViz
###
##############################################################################
##############################################################################


* installing to library ‘/home/biocbuild/bbs-3.22-bioc/R/site-library’
* installing *source* package ‘notameViz’ ...
** this is package ‘notameViz’ version ‘1.0.0’
** using staged installation
** R
** inst
** byte-compile and prepare package for lazy loading
** help
*** installing help indices
** building package indices
** installing vignettes
** testing if installed package can be loaded from temporary location
** testing if installed package can be loaded from final location
** testing if installed package keeps a record of temporary installation path
* DONE (notameViz)

Tests output

notameViz.Rcheck/tests/testthat.Rout


R version 4.5.1 Patched (2025-08-23 r88802) -- "Great Square Root"
Copyright (C) 2025 The R Foundation for Statistical Computing
Platform: x86_64-pc-linux-gnu

R is free software and comes with ABSOLUTELY NO WARRANTY.
You are welcome to redistribute it under certain conditions.
Type 'license()' or 'licence()' for distribution details.

R is a collaborative project with many contributors.
Type 'contributors()' for more information and
'citation()' on how to cite R or R packages in publications.

Type 'demo()' for some demos, 'help()' for on-line help, or
'help.start()' for an HTML browser interface to help.
Type 'q()' to quit R.

> library(testthat)
> library(notameViz)
Loading required package: ggplot2
Loading required package: SummarizedExperiment
Loading required package: MatrixGenerics
Loading required package: matrixStats

Attaching package: 'MatrixGenerics'

The following objects are masked from 'package:matrixStats':

    colAlls, colAnyNAs, colAnys, colAvgsPerRowSet, colCollapse,
    colCounts, colCummaxs, colCummins, colCumprods, colCumsums,
    colDiffs, colIQRDiffs, colIQRs, colLogSumExps, colMadDiffs,
    colMads, colMaxs, colMeans2, colMedians, colMins, colOrderStats,
    colProds, colQuantiles, colRanges, colRanks, colSdDiffs, colSds,
    colSums2, colTabulates, colVarDiffs, colVars, colWeightedMads,
    colWeightedMeans, colWeightedMedians, colWeightedSds,
    colWeightedVars, rowAlls, rowAnyNAs, rowAnys, rowAvgsPerColSet,
    rowCollapse, rowCounts, rowCummaxs, rowCummins, rowCumprods,
    rowCumsums, rowDiffs, rowIQRDiffs, rowIQRs, rowLogSumExps,
    rowMadDiffs, rowMads, rowMaxs, rowMeans2, rowMedians, rowMins,
    rowOrderStats, rowProds, rowQuantiles, rowRanges, rowRanks,
    rowSdDiffs, rowSds, rowSums2, rowTabulates, rowVarDiffs, rowVars,
    rowWeightedMads, rowWeightedMeans, rowWeightedMedians,
    rowWeightedSds, rowWeightedVars

Loading required package: GenomicRanges
Loading required package: stats4
Loading required package: BiocGenerics
Loading required package: generics

Attaching package: 'generics'

The following objects are masked from 'package:base':

    as.difftime, as.factor, as.ordered, intersect, is.element, setdiff,
    setequal, union


Attaching package: 'BiocGenerics'

The following objects are masked from 'package:stats':

    IQR, mad, sd, var, xtabs

The following objects are masked from 'package:base':

    Filter, Find, Map, Position, Reduce, anyDuplicated, aperm, append,
    as.data.frame, basename, cbind, colnames, dirname, do.call,
    duplicated, eval, evalq, get, grep, grepl, is.unsorted, lapply,
    mapply, match, mget, order, paste, pmax, pmax.int, pmin, pmin.int,
    rank, rbind, rownames, sapply, saveRDS, table, tapply, unique,
    unsplit, which.max, which.min

Loading required package: S4Vectors

Attaching package: 'S4Vectors'

The following object is masked from 'package:utils':

    findMatches

The following objects are masked from 'package:base':

    I, expand.grid, unname

Loading required package: IRanges
Loading required package: Seqinfo
Loading required package: Biobase
Welcome to Bioconductor

    Vignettes contain introductory material; view with
    'browseVignettes()'. To cite Bioconductor, see
    'citation("Biobase")', and for packages 'citation("pkgname")'.


Attaching package: 'Biobase'

The following object is masked from 'package:MatrixGenerics':

    rowMedians

The following objects are masked from 'package:matrixStats':

    anyMissing, rowMedians

> 
> test_check("notameViz")
Running tests in parallel requires the 3rd edition
INFO [2025-11-01 02:23:45] Saved to: /tmp/RtmpgXd7IJ\test\recursive/file703715f0b785d.pdf
INFO [2025-11-01 02:23:45] Saved to: /tmp/RtmpgXd7IJ/file703712eb3a39.pdf
INFO [2025-11-01 02:23:45] Saved to: /tmp/RtmpgXd7IJ/file7037128f8059b.emf
INFO [2025-11-01 02:23:45] Saved to: /tmp/RtmpgXd7IJ/file7037162409be5.svg
INFO [2025-11-01 02:23:45] Saved to: /tmp/RtmpgXd7IJ/file703717078812.png
INFO [2025-11-01 02:23:45] Saved to: /tmp/RtmpgXd7IJ/file7037144a57f86.tiff
INFO [2025-11-01 02:23:46] Saved to: /tmp/RtmpgXd7IJ\test\/HILIC_neg_259_9623a4_4322.emf
INFO [2025-11-01 02:23:47] Saved to: /tmp/RtmpgXd7IJ\test\/HILIC_neg_108_1065a2_6121.emf
INFO [2025-11-01 02:23:47] Saved to: /tmp/RtmpgXd7IJ\test\/HILIC_neg_158_23a1_4128.emf
INFO [2025-11-01 02:23:48] Saved to: /tmp/RtmpgXd7IJ\test\/HILIC_neg_251_0056a0_6161.emf
INFO [2025-11-01 02:23:48] Saved to: /tmp/RtmpgXd7IJ\test\/HILIC_neg_401_52a4_211.emf
INFO [2025-11-01 02:23:48] Saved line plots with mean line to: /tmp/RtmpgXd7IJ\test\
INFO [2025-11-01 02:23:49] Saved to: /tmp/RtmpgXd7IJ\test\/Glucose.emf
INFO [2025-11-01 02:23:49] Saved to: /tmp/RtmpgXd7IJ\test\/Threoline.emf
INFO [2025-11-01 02:23:49] Saved to: /tmp/RtmpgXd7IJ\test\/5-AVAB.emf
INFO [2025-11-01 02:23:50] Saved to: /tmp/RtmpgXd7IJ\test\/1_2 acid.emf
INFO [2025-11-01 02:23:50] Saved to: /tmp/RtmpgXd7IJ\test\/20_0 carbon chain.emf
INFO [2025-11-01 02:23:50] Saved line plots with mean line to: /tmp/RtmpgXd7IJ\test\
INFO [2025-11-01 02:23:50] Saved to: /tmp/RtmpgXd7IJ\test\/HILIC_neg_259_9623a4_4322.emf
INFO [2025-11-01 02:23:51] Saved to: /tmp/RtmpgXd7IJ\test\/HILIC_neg_108_1065a2_6121.emf
INFO [2025-11-01 02:23:51] Saved to: /tmp/RtmpgXd7IJ\test\/HILIC_neg_158_23a1_4128.emf
INFO [2025-11-01 02:23:51] Saved to: /tmp/RtmpgXd7IJ\test\/HILIC_neg_251_0056a0_6161.emf
INFO [2025-11-01 02:23:52] Saved to: /tmp/RtmpgXd7IJ\test\/HILIC_neg_401_52a4_211.emf
INFO [2025-11-01 02:23:52] Saved group boxplots to: /tmp/RtmpgXd7IJ\test\
INFO [2025-11-01 02:23:52] Saved to: /tmp/RtmpgXd7IJ\test\/HILIC_neg_259_9623a4_4322.emf
INFO [2025-11-01 02:23:53] Saved to: /tmp/RtmpgXd7IJ\test\/HILIC_neg_108_1065a2_6121.emf
INFO [2025-11-01 02:23:53] Saved to: /tmp/RtmpgXd7IJ\test\/HILIC_neg_158_23a1_4128.emf
INFO [2025-11-01 02:23:53] Saved to: /tmp/RtmpgXd7IJ\test\/HILIC_neg_251_0056a0_6161.emf
INFO [2025-11-01 02:23:53] Saved to: /tmp/RtmpgXd7IJ\test\/HILIC_neg_401_52a4_211.emf
INFO [2025-11-01 02:23:53] Saved group boxplots to: /tmp/RtmpgXd7IJ\test\
INFO [2025-11-01 02:23:54] Saved to: /tmp/RtmpgXd7IJ\test\/HILIC_neg_259_9623a4_4322.emf
INFO [2025-11-01 02:23:54] Saved to: /tmp/RtmpgXd7IJ\test\/HILIC_neg_108_1065a2_6121.emf
INFO [2025-11-01 02:23:54] Saved to: /tmp/RtmpgXd7IJ\test\/HILIC_neg_158_23a1_4128.emf
INFO [2025-11-01 02:23:55] Saved to: /tmp/RtmpgXd7IJ\test\/HILIC_neg_251_0056a0_6161.emf
INFO [2025-11-01 02:23:55] Saved to: /tmp/RtmpgXd7IJ\test\/HILIC_neg_401_52a4_211.emf
INFO [2025-11-01 02:23:55] Saved beeswarm plots to: /tmp/RtmpgXd7IJ\test\
INFO [2025-11-01 02:23:55] Saved to: /tmp/RtmpgXd7IJ\test\/Glucose.emf
INFO [2025-11-01 02:23:56] Saved to: /tmp/RtmpgXd7IJ\test\/Threoline.emf
INFO [2025-11-01 02:23:56] Saved to: /tmp/RtmpgXd7IJ\test\/5-AVAB.emf
INFO [2025-11-01 02:23:56] Saved to: /tmp/RtmpgXd7IJ\test\/1_2 acid.emf
INFO [2025-11-01 02:23:57] Saved to: /tmp/RtmpgXd7IJ\test\/20_0 carbon chain.emf
INFO [2025-11-01 02:23:57] Saved beeswarm plots to: /tmp/RtmpgXd7IJ\test\
INFO [2025-11-01 02:23:57] Saved to: /tmp/RtmpgXd7IJ\test\/HILIC_neg_259_9623a4_4322.emf
INFO [2025-11-01 02:23:57] Saved to: /tmp/RtmpgXd7IJ\test\/HILIC_neg_108_1065a2_6121.emf
INFO [2025-11-01 02:23:58] Saved to: /tmp/RtmpgXd7IJ\test\/HILIC_neg_158_23a1_4128.emf
INFO [2025-11-01 02:23:58] Saved to: /tmp/RtmpgXd7IJ\test\/HILIC_neg_251_0056a0_6161.emf
INFO [2025-11-01 02:23:58] Saved to: /tmp/RtmpgXd7IJ\test\/HILIC_neg_401_52a4_211.emf
INFO [2025-11-01 02:23:58] Saved scatter plots to: /tmp/RtmpgXd7IJ\test\
INFO [2025-11-01 02:23:59] Saved to: /tmp/RtmpgXd7IJ\test\/HILIC_neg_259_9623a4_4322.emf
INFO [2025-11-01 02:23:59] Saved to: /tmp/RtmpgXd7IJ\test\/HILIC_neg_108_1065a2_6121.emf
INFO [2025-11-01 02:23:59] Saved to: /tmp/RtmpgXd7IJ\test\/HILIC_neg_158_23a1_4128.emf
INFO [2025-11-01 02:23:59] Saved to: /tmp/RtmpgXd7IJ\test\/HILIC_neg_251_0056a0_6161.emf
INFO [2025-11-01 02:24:00] Saved to: /tmp/RtmpgXd7IJ\test\/HILIC_neg_401_52a4_211.emf
INFO [2025-11-01 02:24:00] Saved scatter plots to: /tmp/RtmpgXd7IJ\test\
INFO [2025-11-01 02:24:00] Saved to: /tmp/RtmpgXd7IJ\test\/HILIC_neg_259_9623a4_4322.emf
INFO [2025-11-01 02:24:01] Saved to: /tmp/RtmpgXd7IJ\test\/HILIC_neg_108_1065a2_6121.emf
INFO [2025-11-01 02:24:01] Saved to: /tmp/RtmpgXd7IJ\test\/HILIC_neg_158_23a1_4128.emf
INFO [2025-11-01 02:24:02] Saved to: /tmp/RtmpgXd7IJ\test\/HILIC_neg_251_0056a0_6161.emf
INFO [2025-11-01 02:24:02] Saved to: /tmp/RtmpgXd7IJ\test\/HILIC_neg_401_52a4_211.emf
INFO [2025-11-01 02:24:02] Saved line plots with mean line to: /tmp/RtmpgXd7IJ\test\
INFO [2025-11-01 02:24:03] Saved to: /tmp/RtmpgXd7IJ\test\/HILIC_neg_259_9623a4_4322.emf
INFO [2025-11-01 02:24:03] Saved to: /tmp/RtmpgXd7IJ\test\/HILIC_neg_108_1065a2_6121.emf
INFO [2025-11-01 02:24:03] Saved to: /tmp/RtmpgXd7IJ\test\/HILIC_neg_158_23a1_4128.emf
INFO [2025-11-01 02:24:04] Saved to: /tmp/RtmpgXd7IJ\test\/HILIC_neg_251_0056a0_6161.emf
INFO [2025-11-01 02:24:04] Saved to: /tmp/RtmpgXd7IJ\test\/HILIC_neg_401_52a4_211.emf
INFO [2025-11-01 02:24:04] Saved line plots with mean line to: /tmp/RtmpgXd7IJ\test\
INFO [2025-11-01 02:24:05] 
Saved batch plots to: /tmp/RtmpgXd7IJ\test\batch_plots.pdf
INFO [2025-11-01 02:24:05] Identified m/z column Average_Mz and retention time column Average_Rt_min
INFO [2025-11-01 02:24:05] Identified m/z column Average_Mz and retention time column Average_Rt_min
INFO [2025-11-01 02:24:06] Identified m/z column Average_Mz and retention time column Average_Rt_min
INFO [2025-11-01 02:24:06] 
92% of features flagged for low quality
INFO [2025-11-01 02:24:06] Identified m/z column Average_Mz and retention time column Average_Rt_min
INFO [2025-11-01 02:24:06] Identified m/z column Average_Mz and retention time column Average_Rt_min
[ FAIL 0 | WARN 182 | SKIP 0 | PASS 26 ]

[ FAIL 0 | WARN 182 | SKIP 0 | PASS 26 ]
> 
> proc.time()
   user  system elapsed 
 28.658   1.400  30.050 

Example timings

notameViz.Rcheck/notameViz-Ex.timings

nameusersystemelapsed
manhattan_plot6.9891.3855.103
mz_rt_plot4.7581.4082.825
plot_dendrogram0.5040.0490.553
plot_dist_density1.4560.5511.446
plot_effect_heatmap5.0331.4953.190
plot_injection_lm11.853 4.770 5.221
plot_p_histogram3.7331.3261.765
plot_pca0.4110.0290.440
plot_pca_arrows0.8370.0530.890
plot_pca_hexbin0.2370.0250.262
plot_pca_loadings0.2990.0100.308
plot_quality1.3170.0501.367
plot_sample_boxplots1.1440.0291.174
plot_sample_heatmap0.6630.0140.678
plot_tsne0.4580.0040.463
plot_tsne_arrows0.8430.0470.890
plot_tsne_hexbin0.2610.0050.266
save_QC_plots12.372 2.42911.020
save_batch_plots8.8870.1018.993
save_beeswarm_plots5.6080.0535.649
save_dc_plots3.1610.8013.416
save_group_boxplots7.7280.4638.192
save_group_lineplots7.1000.1117.213
save_plot0.7010.0070.709
save_scatter_plots3.1810.0063.188
save_subject_line_plots3.4830.2463.729
visualize_clusters1.8840.0111.895
volcano_plot3.1861.2881.447