| Back to Multiple platform build/check report for BioC 3.22: simplified long |
|
This page was generated on 2025-10-31 12:03 -0400 (Fri, 31 Oct 2025).
| Hostname | OS | Arch (*) | R version | Installed pkgs |
|---|---|---|---|---|
| nebbiolo2 | Linux (Ubuntu 24.04.3 LTS) | x86_64 | 4.5.1 Patched (2025-08-23 r88802) -- "Great Square Root" | 4901 |
| lconway | macOS 12.7.6 Monterey | x86_64 | 4.5.1 Patched (2025-09-10 r88807) -- "Great Square Root" | 4691 |
| kjohnson3 | macOS 13.7.7 Ventura | arm64 | 4.5.1 Patched (2025-09-10 r88807) -- "Great Square Root" | 4637 |
| Click on any hostname to see more info about the system (e.g. compilers) (*) as reported by 'uname -p', except on Windows and Mac OS X | ||||
| Package 1474/2361 | Hostname | OS / Arch | INSTALL | BUILD | CHECK | BUILD BIN | ||||||||
| notameStats 1.0.0 (landing page) Vilhelm Suksi
| nebbiolo2 | Linux (Ubuntu 24.04.3 LTS) / x86_64 | OK | OK | OK | |||||||||
| lconway | macOS 12.7.6 Monterey / x86_64 | OK | OK | OK | OK | |||||||||
| kjohnson3 | macOS 13.7.7 Ventura / arm64 | OK | OK | OK | OK | |||||||||
|
To the developers/maintainers of the notameStats package: - Allow up to 24 hours (and sometimes 48 hours) for your latest push to git@git.bioconductor.org:packages/notameStats.git to reflect on this report. See Troubleshooting Build Report for more information. - Use the following Renviron settings to reproduce errors and warnings. - If 'R CMD check' started to fail recently on the Linux builder(s) over a missing dependency, add the missing dependency to 'Suggests:' in your DESCRIPTION file. See Renviron.bioc for more information. |
| Package: notameStats |
| Version: 1.0.0 |
| Command: /home/biocbuild/bbs-3.22-bioc/R/bin/R CMD check --install=check:notameStats.install-out.txt --library=/home/biocbuild/bbs-3.22-bioc/R/site-library --timings notameStats_1.0.0.tar.gz |
| StartedAt: 2025-10-31 02:09:19 -0400 (Fri, 31 Oct 2025) |
| EndedAt: 2025-10-31 02:14:17 -0400 (Fri, 31 Oct 2025) |
| EllapsedTime: 298.3 seconds |
| RetCode: 0 |
| Status: OK |
| CheckDir: notameStats.Rcheck |
| Warnings: 0 |
##############################################################################
##############################################################################
###
### Running command:
###
### /home/biocbuild/bbs-3.22-bioc/R/bin/R CMD check --install=check:notameStats.install-out.txt --library=/home/biocbuild/bbs-3.22-bioc/R/site-library --timings notameStats_1.0.0.tar.gz
###
##############################################################################
##############################################################################
* using log directory ‘/home/biocbuild/bbs-3.22-bioc/meat/notameStats.Rcheck’
* using R version 4.5.1 Patched (2025-08-23 r88802)
* using platform: x86_64-pc-linux-gnu
* R was compiled by
gcc (Ubuntu 13.3.0-6ubuntu2~24.04) 13.3.0
GNU Fortran (Ubuntu 13.3.0-6ubuntu2~24.04) 13.3.0
* running under: Ubuntu 24.04.3 LTS
* using session charset: UTF-8
* checking for file ‘notameStats/DESCRIPTION’ ... OK
* checking extension type ... Package
* this is package ‘notameStats’ version ‘1.0.0’
* package encoding: UTF-8
* checking package namespace information ... OK
* checking package dependencies ... OK
* checking if this is a source package ... OK
* checking if there is a namespace ... OK
* checking for hidden files and directories ... OK
* checking for portable file names ... OK
* checking for sufficient/correct file permissions ... OK
* checking whether package ‘notameStats’ can be installed ... OK
* checking installed package size ... OK
* checking package directory ... OK
* checking ‘build’ directory ... OK
* checking DESCRIPTION meta-information ... NOTE
License stub is invalid DCF.
* checking top-level files ... OK
* checking for left-over files ... OK
* checking index information ... OK
* checking package subdirectories ... OK
* checking code files for non-ASCII characters ... OK
* checking R files for syntax errors ... OK
* checking whether the package can be loaded ... OK
* checking whether the package can be loaded with stated dependencies ... OK
* checking whether the package can be unloaded cleanly ... OK
* checking whether the namespace can be loaded with stated dependencies ... OK
* checking whether the namespace can be unloaded cleanly ... OK
* checking loading without being on the library search path ... OK
* checking dependencies in R code ... OK
* checking S3 generic/method consistency ... OK
* checking replacement functions ... OK
* checking foreign function calls ... OK
* checking R code for possible problems ... OK
* checking Rd files ... OK
* checking Rd metadata ... OK
* checking Rd cross-references ... OK
* checking for missing documentation entries ... OK
* checking for code/documentation mismatches ... OK
* checking Rd \usage sections ... OK
* checking Rd contents ... OK
* checking for unstated dependencies in examples ... OK
* checking files in ‘vignettes’ ... OK
* checking examples ... OK
Examples with CPU (user + system) or elapsed time > 5s
user system elapsed
perform_auc 16.857 2.462 5.285
pls_da 17.156 0.392 17.549
perform_non_parametric 10.312 5.599 4.088
muvr_analysis 14.852 0.774 15.631
perform_lmer 12.067 1.767 4.997
pls 8.166 0.805 8.876
perform_correlation_tests 4.951 3.101 3.571
perform_lm_anova 4.302 2.001 0.863
perform_kruskal_wallis 3.483 1.989 0.866
* checking for unstated dependencies in ‘tests’ ... OK
* checking tests ...
Running ‘testthat.R’
OK
* checking for unstated dependencies in vignettes ... OK
* checking package vignettes ... OK
* checking re-building of vignette outputs ... OK
* checking PDF version of manual ... OK
* DONE
Status: 1 NOTE
See
‘/home/biocbuild/bbs-3.22-bioc/meat/notameStats.Rcheck/00check.log’
for details.
notameStats.Rcheck/00install.out
############################################################################## ############################################################################## ### ### Running command: ### ### /home/biocbuild/bbs-3.22-bioc/R/bin/R CMD INSTALL notameStats ### ############################################################################## ############################################################################## * installing to library ‘/home/biocbuild/bbs-3.22-bioc/R/site-library’ * installing *source* package ‘notameStats’ ... ** this is package ‘notameStats’ version ‘1.0.0’ ** using staged installation ** R ** inst ** byte-compile and prepare package for lazy loading ** help *** installing help indices ** building package indices ** installing vignettes ** testing if installed package can be loaded from temporary location ** testing if installed package can be loaded from final location ** testing if installed package keeps a record of temporary installation path * DONE (notameStats)
notameStats.Rcheck/tests/testthat.Rout
R version 4.5.1 Patched (2025-08-23 r88802) -- "Great Square Root"
Copyright (C) 2025 The R Foundation for Statistical Computing
Platform: x86_64-pc-linux-gnu
R is free software and comes with ABSOLUTELY NO WARRANTY.
You are welcome to redistribute it under certain conditions.
Type 'license()' or 'licence()' for distribution details.
R is a collaborative project with many contributors.
Type 'contributors()' for more information and
'citation()' on how to cite R or R packages in publications.
Type 'demo()' for some demos, 'help()' for on-line help, or
'help.start()' for an HTML browser interface to help.
Type 'q()' to quit R.
> library(testthat)
> library(notameStats)
Loading required package: SummarizedExperiment
Loading required package: MatrixGenerics
Loading required package: matrixStats
Attaching package: 'MatrixGenerics'
The following objects are masked from 'package:matrixStats':
colAlls, colAnyNAs, colAnys, colAvgsPerRowSet, colCollapse,
colCounts, colCummaxs, colCummins, colCumprods, colCumsums,
colDiffs, colIQRDiffs, colIQRs, colLogSumExps, colMadDiffs,
colMads, colMaxs, colMeans2, colMedians, colMins, colOrderStats,
colProds, colQuantiles, colRanges, colRanks, colSdDiffs, colSds,
colSums2, colTabulates, colVarDiffs, colVars, colWeightedMads,
colWeightedMeans, colWeightedMedians, colWeightedSds,
colWeightedVars, rowAlls, rowAnyNAs, rowAnys, rowAvgsPerColSet,
rowCollapse, rowCounts, rowCummaxs, rowCummins, rowCumprods,
rowCumsums, rowDiffs, rowIQRDiffs, rowIQRs, rowLogSumExps,
rowMadDiffs, rowMads, rowMaxs, rowMeans2, rowMedians, rowMins,
rowOrderStats, rowProds, rowQuantiles, rowRanges, rowRanks,
rowSdDiffs, rowSds, rowSums2, rowTabulates, rowVarDiffs, rowVars,
rowWeightedMads, rowWeightedMeans, rowWeightedMedians,
rowWeightedSds, rowWeightedVars
Loading required package: GenomicRanges
Loading required package: stats4
Loading required package: BiocGenerics
Loading required package: generics
Attaching package: 'generics'
The following objects are masked from 'package:base':
as.difftime, as.factor, as.ordered, intersect, is.element, setdiff,
setequal, union
Attaching package: 'BiocGenerics'
The following objects are masked from 'package:stats':
IQR, mad, sd, var, xtabs
The following objects are masked from 'package:base':
Filter, Find, Map, Position, Reduce, anyDuplicated, aperm, append,
as.data.frame, basename, cbind, colnames, dirname, do.call,
duplicated, eval, evalq, get, grep, grepl, is.unsorted, lapply,
mapply, match, mget, order, paste, pmax, pmax.int, pmin, pmin.int,
rank, rbind, rownames, sapply, saveRDS, table, tapply, unique,
unsplit, which.max, which.min
Loading required package: S4Vectors
Attaching package: 'S4Vectors'
The following object is masked from 'package:utils':
findMatches
The following objects are masked from 'package:base':
I, expand.grid, unname
Loading required package: IRanges
Loading required package: Seqinfo
Loading required package: Biobase
Welcome to Bioconductor
Vignettes contain introductory material; view with
'browseVignettes()'. To cite Bioconductor, see
'citation("Biobase")', and for packages 'citation("pkgname")'.
Attaching package: 'Biobase'
The following object is masked from 'package:MatrixGenerics':
rowMedians
The following objects are masked from 'package:matrixStats':
anyMissing, rowMedians
>
> test_check("notameStats")
Running tests in parallel requires the 3rd edition
INFO [2025-10-31 02:13:33] Starting to compute Cohen's D between groups B & A from time change 2 - 1
INFO [2025-10-31 02:13:33] Cohen's D computed.
INFO [2025-10-31 02:13:33] Starting to compute Cohen's D between groups B & A
INFO [2025-10-31 02:13:33] Cohen's D computed.
INFO [2025-10-31 02:13:33] Starting to compute fold changes.
INFO [2025-10-31 02:13:33] Fold changes computed.
INFO [2025-10-31 02:13:34] Starting to compute fold changes.
INFO [2025-10-31 02:13:34] Fold changes computed.
INFO [2025-10-31 02:13:34] Starting linear regression.
INFO [2025-10-31 02:13:35] Linear regression performed.
INFO [2025-10-31 02:13:35] Starting linear regression.
INFO [2025-10-31 02:13:36] Linear regression performed.
INFO [2025-10-31 02:13:36]
92% of features flagged for low quality
INFO [2025-10-31 02:13:36] Starting linear regression.
INFO [2025-10-31 02:13:38] Linear regression performed.
INFO [2025-10-31 02:13:38] Starting logistic regression
INFO [2025-10-31 02:13:39] Logistic regression performed.
INFO [2025-10-31 02:13:39] Starting logistic regression
INFO [2025-10-31 02:13:41] Logistic regression performed.
INFO [2025-10-31 02:13:41] Starting to compute Cohen's D between groups B & A
INFO [2025-10-31 02:13:41] Cohen's D computed.
INFO [2025-10-31 02:13:41] Starting to compute Cohen's D between groups C & A
INFO [2025-10-31 02:13:41] Cohen's D computed.
INFO [2025-10-31 02:13:41] Starting to compute Cohen's D between groups C & B
INFO [2025-10-31 02:13:42] Cohen's D computed.
INFO [2025-10-31 02:13:42] Starting to compute Cohen's D between groups B & A from time change 2 - 1
INFO [2025-10-31 02:13:42] Cohen's D computed.
INFO [2025-10-31 02:13:42] Starting to compute Cohen's D between groups B & A from time change 3 - 1
INFO [2025-10-31 02:13:43] Cohen's D computed.
INFO [2025-10-31 02:13:43] Starting to compute Cohen's D between groups B & A from time change 3 - 2
INFO [2025-10-31 02:13:43] Cohen's D computed.
INFO [2025-10-31 02:13:43] Starting to compute Cohen's D between groups C & A from time change 2 - 1
INFO [2025-10-31 02:13:43] Cohen's D computed.
INFO [2025-10-31 02:13:43] Starting to compute Cohen's D between groups C & A from time change 3 - 1
INFO [2025-10-31 02:13:43] Cohen's D computed.
INFO [2025-10-31 02:13:43] Starting to compute Cohen's D between groups C & A from time change 3 - 2
INFO [2025-10-31 02:13:43] Cohen's D computed.
INFO [2025-10-31 02:13:44] Starting to compute Cohen's D between groups C & B from time change 2 - 1
INFO [2025-10-31 02:13:44] Cohen's D computed.
INFO [2025-10-31 02:13:44] Starting to compute Cohen's D between groups C & B from time change 3 - 1
INFO [2025-10-31 02:13:44] Cohen's D computed.
INFO [2025-10-31 02:13:44] Starting to compute Cohen's D between groups C & B from time change 3 - 2
INFO [2025-10-31 02:13:44] Cohen's D computed.
INFO [2025-10-31 02:13:44] Starting to compute Cohen's D between groups B & A from time change 2 - 1
INFO [2025-10-31 02:13:44] Cohen's D computed.
INFO [2025-10-31 02:13:45] Starting to compute Cohen's D between groups B & A from time change 3 - 1
INFO [2025-10-31 02:13:45] Cohen's D computed.
INFO [2025-10-31 02:13:45] Starting to compute Cohen's D between groups B & A from time change 3 - 2
INFO [2025-10-31 02:13:45] Cohen's D computed.
INFO [2025-10-31 02:13:45] Starting to compute Cohen's D between groups C & A from time change 2 - 1
INFO [2025-10-31 02:13:45] Cohen's D computed.
INFO [2025-10-31 02:13:45] Starting to compute Cohen's D between groups C & A from time change 3 - 1
INFO [2025-10-31 02:13:45] Cohen's D computed.
INFO [2025-10-31 02:13:45] Starting to compute Cohen's D between groups C & A from time change 3 - 2
INFO [2025-10-31 02:13:45] Cohen's D computed.
INFO [2025-10-31 02:13:46] Starting to compute Cohen's D between groups C & B from time change 2 - 1
INFO [2025-10-31 02:13:46] Cohen's D computed.
INFO [2025-10-31 02:13:46] Starting to compute Cohen's D between groups C & B from time change 3 - 1
INFO [2025-10-31 02:13:46] Cohen's D computed.
INFO [2025-10-31 02:13:46] Starting to compute Cohen's D between groups C & B from time change 3 - 2
INFO [2025-10-31 02:13:46] Cohen's D computed.
INFO [2025-10-31 02:13:46] Starting to compute Cohen's D between groups B & A from time change 2 - 1
INFO [2025-10-31 02:13:46] Cohen's D computed.
INFO [2025-10-31 02:13:46] Starting to compute Cohen's D between groups B & A from time change 3 - 1
INFO [2025-10-31 02:13:47] Cohen's D computed.
INFO [2025-10-31 02:13:47] Starting to compute Cohen's D between groups B & A from time change 3 - 2
INFO [2025-10-31 02:13:47] Cohen's D computed.
INFO [2025-10-31 02:13:47] Starting to compute Cohen's D between groups C & A from time change 2 - 1
INFO [2025-10-31 02:13:47] Cohen's D computed.
INFO [2025-10-31 02:13:47] Starting to compute Cohen's D between groups C & B from time change 2 - 1
INFO [2025-10-31 02:13:47] Cohen's D computed.
INFO [2025-10-31 02:13:47] Starting to compute Cohen's D between groups B & A from time change 2 - 1
INFO [2025-10-31 02:13:48] Cohen's D computed.
INFO [2025-10-31 02:13:48] Starting to compute Cohen's D between groups B & A from time change 3 - 1
INFO [2025-10-31 02:13:48] Cohen's D computed.
INFO [2025-10-31 02:13:48] Starting to compute Cohen's D between groups B & A from time change 3 - 2
INFO [2025-10-31 02:13:48] Cohen's D computed.
INFO [2025-10-31 02:13:48] Starting to compute Cohen's D between groups C & A from time change 2 - 1
INFO [2025-10-31 02:13:48] Cohen's D computed.
INFO [2025-10-31 02:13:48] Starting to compute Cohen's D between groups C & B from time change 2 - 1
INFO [2025-10-31 02:13:48] Cohen's D computed.
INFO [2025-10-31 02:13:49] Starting to compute Cohen's D between groups B & A from time change 3 - 2
INFO [2025-10-31 02:13:49] Cohen's D computed.
INFO [2025-10-31 02:13:49] Starting to compute Cohen's D between groups C & A from time change 2 - 1
INFO [2025-10-31 02:13:49] Cohen's D computed.
INFO [2025-10-31 02:13:49] Starting to compute Cohen's D between groups C & A from time change 3 - 1
INFO [2025-10-31 02:13:49] Cohen's D computed.
INFO [2025-10-31 02:13:49] Starting to compute Cohen's D between groups C & A from time change 3 - 2
INFO [2025-10-31 02:13:49] Cohen's D computed.
INFO [2025-10-31 02:13:49] Starting to compute Cohen's D between groups C & B from time change 2 - 1
INFO [2025-10-31 02:13:50] Cohen's D computed.
INFO [2025-10-31 02:13:50] Starting to compute Cohen's D between groups C & B from time change 3 - 1
INFO [2025-10-31 02:13:50] Cohen's D computed.
INFO [2025-10-31 02:13:50] Starting to compute Cohen's D between groups C & B from time change 3 - 2
INFO [2025-10-31 02:13:50] Cohen's D computed.
INFO [2025-10-31 02:13:50] Starting paired tests for 1 & 2
INFO [2025-10-31 02:13:50] Found 20 complete pairs.
INFO [2025-10-31 02:13:50] Paired tests performed.
INFO [2025-10-31 02:13:50] Starting tests for 1 & 2
INFO [2025-10-31 02:13:51] Tests performed
INFO [2025-10-31 02:13:51] Starting tests for 1 & 3
INFO [2025-10-31 02:13:51] Tests performed
INFO [2025-10-31 02:13:51] Starting tests for 2 & 3
INFO [2025-10-31 02:13:51] Tests performed
INFO [2025-10-31 02:13:51] Starting tests for 1 & 2
INFO [2025-10-31 02:13:52] Tests performed
INFO [2025-10-31 02:13:52] Starting tests for 1 & 3
INFO [2025-10-31 02:13:52] Tests performed
INFO [2025-10-31 02:13:52] Starting tests for 2 & 3
INFO [2025-10-31 02:13:52] Tests performed
INFO [2025-10-31 02:13:52] Starting paired tests for 1 & 2
INFO [2025-10-31 02:13:52] Found 4 complete pairs.
INFO [2025-10-31 02:13:52] Paired tests performed.
INFO [2025-10-31 02:13:52] Starting paired tests for 1 & 3
INFO [2025-10-31 02:13:52] Found 4 complete pairs.
INFO [2025-10-31 02:13:53] Paired tests performed.
INFO [2025-10-31 02:13:53] Starting paired tests for 2 & 3
INFO [2025-10-31 02:13:53] Found 4 complete pairs.
INFO [2025-10-31 02:13:53] Paired tests performed.
INFO [2025-10-31 02:13:53] Starting paired tests for 1 & 2
INFO [2025-10-31 02:13:53] Found 8 complete pairs.
INFO [2025-10-31 02:13:53] Paired tests performed.
INFO [2025-10-31 02:13:53] Starting paired tests for 1 & 3
INFO [2025-10-31 02:13:53] Found 8 complete pairs.
INFO [2025-10-31 02:13:53] Paired tests performed.
INFO [2025-10-31 02:13:54] Starting paired tests for 2 & 3
INFO [2025-10-31 02:13:54] Found 8 complete pairs.
INFO [2025-10-31 02:13:54] Paired tests performed.
INFO [2025-10-31 02:13:54] Starting paired tests for 1 & 2
INFO [2025-10-31 02:13:54] Found 4 complete pairs.
INFO [2025-10-31 02:13:54] Paired tests performed.
INFO [2025-10-31 02:13:54] Starting paired tests for 1 & 3
INFO [2025-10-31 02:13:54] Found 4 complete pairs.
INFO [2025-10-31 02:13:54] Paired tests performed.
INFO [2025-10-31 02:13:54] Starting paired tests for 2 & 3
INFO [2025-10-31 02:13:54] Found 4 complete pairs.
INFO [2025-10-31 02:13:54] Paired tests performed.
INFO [2025-10-31 02:13:55] Starting tests for A & B
INFO [2025-10-31 02:13:55] Tests performed
INFO [2025-10-31 02:13:56] Starting paired tests for 1 & 2
INFO [2025-10-31 02:13:56] Found 20 complete pairs.
INFO [2025-10-31 02:13:57] Paired tests performed.
INFO [2025-10-31 02:13:57] Starting tests for 1 & 2
INFO [2025-10-31 02:13:58] Tests performed
INFO [2025-10-31 02:13:58] Starting tests for 1 & 3
INFO [2025-10-31 02:13:58] Tests performed
INFO [2025-10-31 02:13:58] Starting tests for 2 & 3
INFO [2025-10-31 02:13:59] Tests performed
INFO [2025-10-31 02:13:59] Starting tests for 1 & 2
INFO [2025-10-31 02:13:59] Tests performed
INFO [2025-10-31 02:13:59] Starting tests for 1 & 3
INFO [2025-10-31 02:14:00] Tests performed
INFO [2025-10-31 02:14:00] Starting tests for 2 & 3
INFO [2025-10-31 02:14:00] Tests performed
INFO [2025-10-31 02:14:00] Starting paired tests for 1 & 2
INFO [2025-10-31 02:14:00] Found 4 complete pairs.
INFO [2025-10-31 02:14:00] Paired tests performed.
INFO [2025-10-31 02:14:01] Starting paired tests for 1 & 3
INFO [2025-10-31 02:14:01] Found 4 complete pairs.
INFO [2025-10-31 02:14:01] Paired tests performed.
INFO [2025-10-31 02:14:01] Starting paired tests for 2 & 3
INFO [2025-10-31 02:14:01] Found 4 complete pairs.
INFO [2025-10-31 02:14:01] Paired tests performed.
INFO [2025-10-31 02:14:01] Starting correlation tests.
INFO [2025-10-31 02:14:01] Performing correlation tests for single object
INFO [2025-10-31 02:14:01] Correlation tests performed.
INFO [2025-10-31 02:14:01] Starting correlation tests.
INFO [2025-10-31 02:14:01] Starting correlation tests.
INFO [2025-10-31 02:14:01] Starting correlation tests.
INFO [2025-10-31 02:14:02] Starting correlation tests.
INFO [2025-10-31 02:14:02] Performing correlation tests for two objects
INFO [2025-10-31 02:14:02] Correlation tests performed.
INFO [2025-10-31 02:14:02] Starting correlation tests.
INFO [2025-10-31 02:14:02] Performing correlation tests for two objects
INFO [2025-10-31 02:14:02] Correlation tests performed.
INFO [2025-10-31 02:14:02] Starting paired tests for 1 & 2
INFO [2025-10-31 02:14:02] Found 20 complete pairs.
INFO [2025-10-31 02:14:03] Paired tests performed.
INFO [2025-10-31 02:14:03] Starting tests for A & B
INFO [2025-10-31 02:14:03] Tests performed
[ FAIL 0 | WARN 1 | SKIP 0 | PASS 88 ]
[ FAIL 0 | WARN 1 | SKIP 0 | PASS 88 ]
>
> proc.time()
user system elapsed
52.640 35.949 43.951
notameStats.Rcheck/notameStats-Ex.timings
| name | user | system | elapsed | |
| cohens_d | 3.067 | 0.481 | 3.194 | |
| fit_rf | 0.176 | 0.015 | 0.192 | |
| fold_change | 0.303 | 0.428 | 0.338 | |
| importance_rf | 0.198 | 0.057 | 0.182 | |
| muvr_analysis | 14.852 | 0.774 | 15.631 | |
| perform_auc | 16.857 | 2.462 | 5.285 | |
| perform_correlation_tests | 4.951 | 3.101 | 3.571 | |
| perform_homoscedasticity_tests | 2.257 | 1.163 | 1.746 | |
| perform_kruskal_wallis | 3.483 | 1.989 | 0.866 | |
| perform_lm | 1.377 | 0.723 | 1.317 | |
| perform_lm_anova | 4.302 | 2.001 | 0.863 | |
| perform_lmer | 12.067 | 1.767 | 4.997 | |
| perform_logistic | 3.968 | 0.642 | 1.702 | |
| perform_non_parametric | 10.312 | 5.599 | 4.088 | |
| perform_oneway_anova | 2.776 | 1.518 | 0.767 | |
| perform_permanova | 1.844 | 0.340 | 1.552 | |
| perform_t_test | 1.349 | 2.124 | 1.770 | |
| pls | 8.166 | 0.805 | 8.876 | |
| pls_da | 17.156 | 0.392 | 17.549 | |
| summarize_results | 1.503 | 0.711 | 1.159 | |
| summary_statistics | 2.647 | 1.771 | 0.886 | |