| Back to Multiple platform build/check report for BioC 3.21: simplified long |
|
This page was generated on 2025-04-22 13:16 -0400 (Tue, 22 Apr 2025).
| Hostname | OS | Arch (*) | R version | Installed pkgs |
|---|---|---|---|---|
| nebbiolo1 | Linux (Ubuntu 24.04.1 LTS) | x86_64 | 4.5.0 RC (2025-04-04 r88126) -- "How About a Twenty-Six" | 4831 |
| palomino7 | Windows Server 2022 Datacenter | x64 | 4.5.0 RC (2025-04-04 r88126 ucrt) -- "How About a Twenty-Six" | 4573 |
| lconway | macOS 12.7.1 Monterey | x86_64 | 4.5.0 RC (2025-04-04 r88126) -- "How About a Twenty-Six" | 4599 |
| kjohnson3 | macOS 13.7.1 Ventura | arm64 | 4.5.0 RC (2025-04-04 r88126) -- "How About a Twenty-Six" | 4553 |
| kunpeng2 | Linux (openEuler 24.03 LTS) | aarch64 | R Under development (unstable) (2025-02-19 r87757) -- "Unsuffered Consequences" | 4570 |
| Click on any hostname to see more info about the system (e.g. compilers) (*) as reported by 'uname -p', except on Windows and Mac OS X | ||||
| Package 1445/2341 | Hostname | OS / Arch | INSTALL | BUILD | CHECK | BUILD BIN | ||||||||
| ngsReports 2.10.0 (landing page) Stevie Pederson
| nebbiolo1 | Linux (Ubuntu 24.04.1 LTS) / x86_64 | OK | OK | OK | |||||||||
| palomino7 | Windows Server 2022 Datacenter / x64 | OK | OK | OK | OK | |||||||||
| lconway | macOS 12.7.1 Monterey / x86_64 | OK | OK | OK | OK | |||||||||
| kjohnson3 | macOS 13.7.1 Ventura / arm64 | OK | OK | OK | OK | |||||||||
| kunpeng2 | Linux (openEuler 24.03 LTS) / aarch64 | OK | OK | OK | ||||||||||
|
To the developers/maintainers of the ngsReports package: - Allow up to 24 hours (and sometimes 48 hours) for your latest push to git@git.bioconductor.org:packages/ngsReports.git to reflect on this report. See Troubleshooting Build Report for more information. - Use the following Renviron settings to reproduce errors and warnings. - If 'R CMD check' started to fail recently on the Linux builder(s) over a missing dependency, add the missing dependency to 'Suggests:' in your DESCRIPTION file. See Renviron.bioc for more information. |
| Package: ngsReports |
| Version: 2.10.0 |
| Command: /Library/Frameworks/R.framework/Resources/bin/R CMD check --install=check:ngsReports.install-out.txt --library=/Library/Frameworks/R.framework/Resources/library --no-vignettes --timings ngsReports_2.10.0.tar.gz |
| StartedAt: 2025-04-21 22:18:28 -0400 (Mon, 21 Apr 2025) |
| EndedAt: 2025-04-21 22:21:56 -0400 (Mon, 21 Apr 2025) |
| EllapsedTime: 208.1 seconds |
| RetCode: 0 |
| Status: OK |
| CheckDir: ngsReports.Rcheck |
| Warnings: 0 |
##############################################################################
##############################################################################
###
### Running command:
###
### /Library/Frameworks/R.framework/Resources/bin/R CMD check --install=check:ngsReports.install-out.txt --library=/Library/Frameworks/R.framework/Resources/library --no-vignettes --timings ngsReports_2.10.0.tar.gz
###
##############################################################################
##############################################################################
* using log directory ‘/Users/biocbuild/bbs-3.21-bioc/meat/ngsReports.Rcheck’
* using R version 4.5.0 RC (2025-04-04 r88126)
* using platform: x86_64-apple-darwin20
* R was compiled by
Apple clang version 14.0.0 (clang-1400.0.29.202)
GNU Fortran (GCC) 14.2.0
* running under: macOS Monterey 12.7.6
* using session charset: UTF-8
* using option ‘--no-vignettes’
* checking for file ‘ngsReports/DESCRIPTION’ ... OK
* this is package ‘ngsReports’ version ‘2.10.0’
* package encoding: UTF-8
* checking package namespace information ... OK
* checking package dependencies ... OK
* checking if this is a source package ... OK
* checking if there is a namespace ... OK
* checking for hidden files and directories ... OK
* checking for portable file names ... OK
* checking for sufficient/correct file permissions ... OK
* checking whether package ‘ngsReports’ can be installed ... OK
* checking installed package size ... OK
* checking package directory ... OK
* checking ‘build’ directory ... OK
* checking DESCRIPTION meta-information ... OK
* checking top-level files ... OK
* checking for left-over files ... OK
* checking index information ... OK
* checking package subdirectories ... OK
* checking code files for non-ASCII characters ... OK
* checking R files for syntax errors ... OK
* checking whether the package can be loaded ... OK
* checking whether the package can be loaded with stated dependencies ... OK
* checking whether the package can be unloaded cleanly ... OK
* checking whether the namespace can be loaded with stated dependencies ... OK
* checking whether the namespace can be unloaded cleanly ... OK
* checking dependencies in R code ... OK
* checking S3 generic/method consistency ... OK
* checking replacement functions ... OK
* checking foreign function calls ... OK
* checking R code for possible problems ... OK
* checking Rd files ... OK
* checking Rd metadata ... OK
* checking Rd cross-references ... OK
* checking for missing documentation entries ... OK
* checking for code/documentation mismatches ... OK
* checking Rd \usage sections ... OK
* checking Rd contents ... OK
* checking for unstated dependencies in examples ... OK
* checking contents of ‘data’ directory ... OK
* checking data for non-ASCII characters ... OK
* checking LazyData ... OK
* checking data for ASCII and uncompressed saves ... OK
* checking files in ‘vignettes’ ... OK
* checking examples ... OK
* checking for unstated dependencies in ‘tests’ ... OK
* checking tests ...
Running ‘testthat.R’
OK
* checking for unstated dependencies in vignettes ... OK
* checking package vignettes ... OK
* checking running R code from vignettes ... SKIPPED
* checking re-building of vignette outputs ... SKIPPED
* checking PDF version of manual ... OK
* DONE
Status: OK
ngsReports.Rcheck/00install.out
############################################################################## ############################################################################## ### ### Running command: ### ### /Library/Frameworks/R.framework/Resources/bin/R CMD INSTALL ngsReports ### ############################################################################## ############################################################################## * installing to library ‘/Library/Frameworks/R.framework/Versions/4.5-x86_64/Resources/library’ * installing *source* package ‘ngsReports’ ... ** this is package ‘ngsReports’ version ‘2.10.0’ ** using staged installation ** R ** data *** moving datasets to lazyload DB ** inst ** byte-compile and prepare package for lazy loading ** help *** installing help indices *** copying figures ** building package indices ** installing vignettes ** testing if installed package can be loaded from temporary location ** testing if installed package can be loaded from final location ** testing if installed package keeps a record of temporary installation path * DONE (ngsReports)
ngsReports.Rcheck/tests/testthat.Rout
R version 4.5.0 RC (2025-04-04 r88126) -- "How About a Twenty-Six"
Copyright (C) 2025 The R Foundation for Statistical Computing
Platform: x86_64-apple-darwin20
R is free software and comes with ABSOLUTELY NO WARRANTY.
You are welcome to redistribute it under certain conditions.
Type 'license()' or 'licence()' for distribution details.
R is a collaborative project with many contributors.
Type 'contributors()' for more information and
'citation()' on how to cite R or R packages in publications.
Type 'demo()' for some demos, 'help()' for on-line help, or
'help.start()' for an HTML browser interface to help.
Type 'q()' to quit R.
> library(testthat)
> library(ngsReports)
Loading required package: BiocGenerics
Loading required package: generics
Attaching package: 'generics'
The following objects are masked from 'package:base':
as.difftime, as.factor, as.ordered, intersect, is.element, setdiff,
setequal, union
Attaching package: 'BiocGenerics'
The following objects are masked from 'package:stats':
IQR, mad, sd, var, xtabs
The following objects are masked from 'package:base':
Filter, Find, Map, Position, Reduce, anyDuplicated, aperm, append,
as.data.frame, basename, cbind, colnames, dirname, do.call,
duplicated, eval, evalq, get, grep, grepl, is.unsorted, lapply,
mapply, match, mget, order, paste, pmax, pmax.int, pmin, pmin.int,
rank, rbind, rownames, sapply, saveRDS, table, tapply, unique,
unsplit, which.max, which.min
Loading required package: ggplot2
Loading required package: patchwork
Loading required package: tibble
>
> test_check("ngsReports")
2025-04-21 22:21:32.516 R[1748:729173069] XType: com.apple.fonts is not accessible.
2025-04-21 22:21:32.517 R[1748:729173069] XType: XTFontStaticRegistry is enabled.
[ FAIL 0 | WARN 1 | SKIP 0 | PASS 387 ]
[ FAIL 0 | WARN 1 | SKIP 0 | PASS 387 ]
>
> proc.time()
user system elapsed
50.646 1.709 52.984
ngsReports.Rcheck/ngsReports-Ex.timings
| name | user | system | elapsed | |
| FastqcData | 0.090 | 0.007 | 0.098 | |
| FastqcDataList | 0.375 | 0.020 | 0.400 | |
| TheoreticalGC-class | 0.080 | 0.005 | 0.085 | |
| dot-FastqcFile-class | 0.003 | 0.002 | 0.005 | |
| dot-addPercent | 0.000 | 0.001 | 0.001 | |
| dot-emptyPlot | 0.151 | 0.005 | 0.157 | |
| dot-makeDendro | 0.539 | 0.022 | 0.565 | |
| dot-makeLabels | 0.001 | 0.000 | 0.001 | |
| dot-splitByTab | 0.003 | 0.000 | 0.003 | |
| estGcDistn | 0.022 | 0.001 | 0.025 | |
| extract-methods | 0.380 | 0.013 | 0.396 | |
| fqName-methods | 0.410 | 0.014 | 0.429 | |
| fqcVersion | 0.420 | 0.017 | 0.442 | |
| gcAvail | 0.023 | 0.000 | 0.024 | |
| gcTheoretical | 0.045 | 0.000 | 0.046 | |
| getColours-methods | 0.002 | 0.000 | 0.002 | |
| getGC | 0.02 | 0.00 | 0.02 | |
| getModule | 0.442 | 0.017 | 0.463 | |
| getSummary | 0.407 | 0.015 | 0.424 | |
| importNgsLogs | 0.023 | 0.001 | 0.024 | |
| importSJ | 0.007 | 0.001 | 0.009 | |
| isCompressed | 0.002 | 0.002 | 0.003 | |
| mData | 0.025 | 0.001 | 0.026 | |
| maxAdapterContent | 0.435 | 0.013 | 0.451 | |
| overRep2Fasta-methods | 0.411 | 0.014 | 0.429 | |
| path | 0.530 | 0.015 | 0.549 | |
| plotAdapterContent-methods | 2.739 | 0.038 | 2.797 | |
| plotAlignmentSummary | 0.601 | 0.004 | 0.608 | |
| plotAssemblyStats | 0.572 | 0.036 | 0.611 | |
| plotBaseQuals-methods | 1.571 | 0.045 | 1.626 | |
| plotDupLevels-methods | 1.041 | 0.019 | 1.068 | |
| plotFastqcPCA-methods | 0.656 | 0.018 | 0.681 | |
| plotGcContent-methods | 0.969 | 0.019 | 0.995 | |
| plotInsertSize-methods | 0.591 | 0.007 | 0.605 | |
| plotKmers-methods | 1.598 | 0.029 | 1.641 | |
| plotNContent-methods | 0.718 | 0.007 | 0.728 | |
| plotOverrep-methods | 0.767 | 0.016 | 0.789 | |
| plotReadTotals-methods | 0.738 | 0.018 | 0.762 | |
| plotSeqContent-methods | 3.331 | 0.039 | 3.391 | |
| plotSeqLengthDistn-methods | 1.278 | 0.022 | 1.311 | |
| plotSeqQuals-methods | 1.340 | 0.021 | 1.372 | |
| plotSummary-methods | 0.578 | 0.015 | 0.598 | |
| pwf | 0.004 | 0.001 | 0.005 | |
| readTotals | 0.424 | 0.015 | 0.441 | |
| summariseOverrep-methods | 0.787 | 0.019 | 0.811 | |
| writeHtmlReport | 0.000 | 0.000 | 0.001 | |