Back to Multiple platform build/check report for BioC 3.22:   simplified   long
ABCDEFGHIJKLM[N]OPQRSTUVWXYZ

This page was generated on 2025-11-24 12:06 -0500 (Mon, 24 Nov 2025).

HostnameOSArch (*)R versionInstalled pkgs
nebbiolo2Linux (Ubuntu 24.04.3 LTS)x86_644.5.2 (2025-10-31) -- "[Not] Part in a Rumble" 4873
merida1macOS 12.7.6 Montereyx86_644.5.2 Patched (2025-11-05 r88990) -- "[Not] Part in a Rumble" 4654
kjohnson1macOS 13.7.5 Venturaarm644.5.2 Patched (2025-11-04 r88984) -- "[Not] Part in a Rumble" 4600
taishanLinux (openEuler 24.03 LTS)aarch644.5.0 (2025-04-11) -- "How About a Twenty-Six" 4668
Click on any hostname to see more info about the system (e.g. compilers)      (*) as reported by 'uname -p', except on Windows and Mac OS X

Package 1462/2361HostnameOS / ArchINSTALLBUILDCHECKBUILD BIN
ngsReports 2.12.1  (landing page)
Stevie Pederson
Snapshot Date: 2025-11-20 15:01 -0500 (Thu, 20 Nov 2025)
git_url: https://git.bioconductor.org/packages/ngsReports
git_branch: RELEASE_3_22
git_last_commit: 6192978
git_last_commit_date: 2025-11-09 03:26:06 -0500 (Sun, 09 Nov 2025)
nebbiolo2Linux (Ubuntu 24.04.3 LTS) / x86_64  OK    OK    OK  UNNEEDED, same version is already published
merida1macOS 12.7.6 Monterey / x86_64  OK    OK    OK    OK  UNNEEDED, same version is already published
kjohnson1macOS 13.7.5 Ventura / arm64  OK    OK    OK    OK  UNNEEDED, same version is already published
taishanLinux (openEuler 24.03 LTS) / aarch64  OK    OK    OK  


CHECK results for ngsReports on kjohnson1

To the developers/maintainers of the ngsReports package:
- Allow up to 24 hours (and sometimes 48 hours) for your latest push to git@git.bioconductor.org:packages/ngsReports.git to reflect on this report. See Troubleshooting Build Report for more information.
- Use the following Renviron settings to reproduce errors and warnings.
- If 'R CMD check' started to fail recently on the Linux builder(s) over a missing dependency, add the missing dependency to 'Suggests:' in your DESCRIPTION file. See Renviron.bioc for more information.

raw results


Summary

Package: ngsReports
Version: 2.12.1
Command: /Library/Frameworks/R.framework/Resources/bin/R CMD check --install=check:ngsReports.install-out.txt --library=/Library/Frameworks/R.framework/Resources/library --no-vignettes --timings ngsReports_2.12.1.tar.gz
StartedAt: 2025-11-22 15:10:46 -0500 (Sat, 22 Nov 2025)
EndedAt: 2025-11-22 15:16:34 -0500 (Sat, 22 Nov 2025)
EllapsedTime: 348.2 seconds
RetCode: 0
Status:   OK  
CheckDir: ngsReports.Rcheck
Warnings: 0

Command output

##############################################################################
##############################################################################
###
### Running command:
###
###   /Library/Frameworks/R.framework/Resources/bin/R CMD check --install=check:ngsReports.install-out.txt --library=/Library/Frameworks/R.framework/Resources/library --no-vignettes --timings ngsReports_2.12.1.tar.gz
###
##############################################################################
##############################################################################


* using log directory ‘/Users/biocbuild/bbs-3.22-bioc/meat/ngsReports.Rcheck’
* using R version 4.5.2 Patched (2025-11-04 r88984)
* using platform: aarch64-apple-darwin20
* R was compiled by
    Apple clang version 16.0.0 (clang-1600.0.26.6)
    GNU Fortran (GCC) 14.2.0
* running under: macOS Ventura 13.7.8
* using session charset: UTF-8
* using option ‘--no-vignettes’
* checking for file ‘ngsReports/DESCRIPTION’ ... OK
* this is package ‘ngsReports’ version ‘2.12.1’
* package encoding: UTF-8
* checking package namespace information ... OK
* checking package dependencies ... OK
* checking if this is a source package ... OK
* checking if there is a namespace ... OK
* checking for hidden files and directories ... OK
* checking for portable file names ... OK
* checking for sufficient/correct file permissions ... OK
* checking whether package ‘ngsReports’ can be installed ... OK
* checking installed package size ... OK
* checking package directory ... OK
* checking ‘build’ directory ... OK
* checking DESCRIPTION meta-information ... OK
* checking top-level files ... OK
* checking for left-over files ... OK
* checking index information ... OK
* checking package subdirectories ... OK
* checking code files for non-ASCII characters ... OK
* checking R files for syntax errors ... OK
* checking whether the package can be loaded ... OK
* checking whether the package can be loaded with stated dependencies ... OK
* checking whether the package can be unloaded cleanly ... OK
* checking whether the namespace can be loaded with stated dependencies ... OK
* checking whether the namespace can be unloaded cleanly ... OK
* checking dependencies in R code ... OK
* checking S3 generic/method consistency ... OK
* checking replacement functions ... OK
* checking foreign function calls ... OK
* checking R code for possible problems ... OK
* checking Rd files ... OK
* checking Rd metadata ... OK
* checking Rd cross-references ... OK
* checking for missing documentation entries ... OK
* checking for code/documentation mismatches ... OK
* checking Rd \usage sections ... OK
* checking Rd contents ... OK
* checking for unstated dependencies in examples ... OK
* checking contents of ‘data’ directory ... OK
* checking data for non-ASCII characters ... OK
* checking LazyData ... OK
* checking data for ASCII and uncompressed saves ... OK
* checking files in ‘vignettes’ ... OK
* checking examples ... OK
Examples with CPU (user + system) or elapsed time > 5s
                        user system elapsed
plotSeqContent-methods 3.909  0.054   5.299
* checking for unstated dependencies in ‘tests’ ... OK
* checking tests ...
  Running ‘testthat.R’
 OK
* checking for unstated dependencies in vignettes ... OK
* checking package vignettes ... OK
* checking running R code from vignettes ... SKIPPED
* checking re-building of vignette outputs ... SKIPPED
* checking PDF version of manual ... OK
* DONE

Status: OK


Installation output

ngsReports.Rcheck/00install.out

##############################################################################
##############################################################################
###
### Running command:
###
###   /Library/Frameworks/R.framework/Resources/bin/R CMD INSTALL ngsReports
###
##############################################################################
##############################################################################


* installing to library ‘/Library/Frameworks/R.framework/Versions/4.5-arm64/Resources/library’
* installing *source* package ‘ngsReports’ ...
** this is package ‘ngsReports’ version ‘2.12.1’
** using staged installation
** R
** data
*** moving datasets to lazyload DB
** inst
** byte-compile and prepare package for lazy loading
** help
*** installing help indices
*** copying figures
** building package indices
** installing vignettes
** testing if installed package can be loaded from temporary location
** testing if installed package can be loaded from final location
** testing if installed package keeps a record of temporary installation path
* DONE (ngsReports)

Tests output

ngsReports.Rcheck/tests/testthat.Rout


R version 4.5.2 Patched (2025-11-04 r88984) -- "[Not] Part in a Rumble"
Copyright (C) 2025 The R Foundation for Statistical Computing
Platform: aarch64-apple-darwin20

R is free software and comes with ABSOLUTELY NO WARRANTY.
You are welcome to redistribute it under certain conditions.
Type 'license()' or 'licence()' for distribution details.

R is a collaborative project with many contributors.
Type 'contributors()' for more information and
'citation()' on how to cite R or R packages in publications.

Type 'demo()' for some demos, 'help()' for on-line help, or
'help.start()' for an HTML browser interface to help.
Type 'q()' to quit R.

> library(testthat)
> library(ngsReports)
Loading required package: BiocGenerics
Loading required package: generics

Attaching package: 'generics'

The following objects are masked from 'package:base':

    as.difftime, as.factor, as.ordered, intersect, is.element, setdiff,
    setequal, union


Attaching package: 'BiocGenerics'

The following objects are masked from 'package:stats':

    IQR, mad, sd, var, xtabs

The following objects are masked from 'package:base':

    Filter, Find, Map, Position, Reduce, anyDuplicated, aperm, append,
    as.data.frame, basename, cbind, colnames, dirname, do.call,
    duplicated, eval, evalq, get, grep, grepl, is.unsorted, lapply,
    mapply, match, mget, order, paste, pmax, pmax.int, pmin, pmin.int,
    rank, rbind, rownames, sapply, saveRDS, table, tapply, unique,
    unsplit, which.max, which.min

Loading required package: ggplot2
Loading required package: patchwork
Loading required package: tibble
> 
> test_check("ngsReports")
2025-11-22 15:15:55.862 R[72784:54530730] XType: Using static font registry.
[ FAIL 0 | WARN 0 | SKIP 0 | PASS 388 ]
> 
> proc.time()
   user  system elapsed 
 74.378   1.983 105.304 

Example timings

ngsReports.Rcheck/ngsReports-Ex.timings

nameusersystemelapsed
FastqcData0.1210.0090.175
FastqcDataList0.4120.0210.574
TheoreticalGC-class0.1040.0050.135
dot-FastqcFile-class0.0030.0010.004
dot-addPercent000
dot-emptyPlot0.2390.0040.317
dot-makeDendro0.4340.0160.576
dot-makeLabels0.0010.0000.001
dot-splitByTab0.0040.0010.008
estGcDistn0.0240.0010.039
extract-methods0.4100.0200.574
fqName-methods0.6020.0160.796
fqcVersion0.4360.0160.579
gcAvail0.0270.0010.049
gcTheoretical0.0560.0010.068
getColours-methods0.0030.0010.006
getGC0.0200.0010.026
getModule0.4680.0180.672
getSummary0.9380.0201.299
importNgsLogs0.0220.0020.024
importSJ0.0090.0020.018
isCompressed0.0020.0020.008
mData0.0200.0010.021
maxAdapterContent0.4530.0240.740
overRep2Fasta-methods0.4390.0250.586
path0.4100.0180.598
plotAdapterContent-methods3.3540.0684.740
plotAlignmentSummary0.4090.0060.576
plotAssemblyStats0.8910.0091.192
plotBaseQuals-methods2.1570.0553.022
plotDupLevels-methods1.5200.0302.174
plotFastqcPCA-methods0.8280.0221.139
plotGcContent-methods1.2890.0231.697
plotInsertSize-methods0.7100.0091.094
plotKmers-methods2.1470.0373.011
plotNContent-methods1.0730.0141.618
plotOverrep-methods1.0480.0211.480
plotReadTotals-methods1.0960.0231.502
plotSeqContent-methods3.9090.0545.299
plotSeqLengthDistn-methods1.6180.0262.057
plotSeqQuals-methods1.7970.0362.675
plotSummary-methods1.3050.0231.841
pwf0.0040.0010.011
readTotals0.3990.0150.571
summariseOverrep-methods1.2800.0281.887
writeHtmlReport0.0000.0000.001