Back to Multiple platform build/check report for BioC 3.21:   simplified   long
ABCDEFGHIJKLM[N]OPQRSTUVWXYZ

This page was generated on 2025-05-05 11:42 -0400 (Mon, 05 May 2025).

HostnameOSArch (*)R versionInstalled pkgs
nebbiolo1Linux (Ubuntu 24.04.1 LTS)x86_644.5.0 RC (2025-04-04 r88126) -- "How About a Twenty-Six" 4832
palomino7Windows Server 2022 Datacenterx644.5.0 RC (2025-04-04 r88126 ucrt) -- "How About a Twenty-Six" 4574
merida1macOS 12.7.5 Montereyx86_644.5.0 RC (2025-04-04 r88126) -- "How About a Twenty-Six" 4599
kjohnson1macOS 13.6.6 Venturaarm644.5.0 RC (2025-04-04 r88129) -- "How About a Twenty-Six" 4553
Click on any hostname to see more info about the system (e.g. compilers)      (*) as reported by 'uname -p', except on Windows and Mac OS X

Package 1442/2341HostnameOS / ArchINSTALLBUILDCHECKBUILD BIN
netZooR 1.12.0  (landing page)
Tara Eicher
Snapshot Date: 2025-05-01 13:40 -0400 (Thu, 01 May 2025)
git_url: https://git.bioconductor.org/packages/netZooR
git_branch: RELEASE_3_21
git_last_commit: 70d8e5d
git_last_commit_date: 2025-04-15 12:43:30 -0400 (Tue, 15 Apr 2025)
nebbiolo1Linux (Ubuntu 24.04.1 LTS) / x86_64  ERROR    ERROR  skipped
palomino7Windows Server 2022 Datacenter / x64  ERROR    ERROR  skippedskipped
merida1macOS 12.7.5 Monterey / x86_64  ERROR    ERROR  skippedskipped
kjohnson1macOS 13.6.6 Ventura / arm64  ERROR    ERROR  skippedskipped


BUILD results for netZooR on merida1

To the developers/maintainers of the netZooR package:
- Allow up to 24 hours (and sometimes 48 hours) for your latest push to git@git.bioconductor.org:packages/netZooR.git to reflect on this report. See Troubleshooting Build Report for more information.
- Use the following Renviron settings to reproduce errors and warnings.
- If 'R CMD check' started to fail recently on the Linux builder(s) over a missing dependency, add the missing dependency to 'Suggests:' in your DESCRIPTION file. See Renviron.bioc for more information.

raw results


Summary

Package: netZooR
Version: 1.12.0
Command: /Library/Frameworks/R.framework/Resources/bin/R CMD build --keep-empty-dirs --no-resave-data netZooR
StartedAt: 2025-05-01 20:56:04 -0400 (Thu, 01 May 2025)
EndedAt: 2025-05-01 20:56:08 -0400 (Thu, 01 May 2025)
EllapsedTime: 3.3 seconds
RetCode: 1
Status:   ERROR  
PackageFile: None
PackageFileSize: NA

Command output

##############################################################################
##############################################################################
###
### Running command:
###
###   /Library/Frameworks/R.framework/Resources/bin/R CMD build --keep-empty-dirs --no-resave-data netZooR
###
##############################################################################
##############################################################################


* checking for file ‘netZooR/DESCRIPTION’ ... OK
* preparing ‘netZooR’:
* checking DESCRIPTION meta-information ... OK
* installing the package to build vignettes
      -----------------------------------
ERROR: dependency ‘cmdstanr’ is not available for package ‘netZooR’
Perhaps try a variation of:
install.packages('cmdstanr')
* removing ‘/private/tmp/Rtmp4Zpl7B/Rinst702140bed2ed/netZooR’
      -----------------------------------
ERROR: package installation failed