Back to Multiple platform build/check report for BioC 3.21:   simplified   long
ABCDEFGHIJKL[M]NOPQRSTUVWXYZ

This page was generated on 2025-05-08 11:47 -0400 (Thu, 08 May 2025).

HostnameOSArch (*)R versionInstalled pkgs
nebbiolo1Linux (Ubuntu 24.04.1 LTS)x86_644.5.0 RC (2025-04-04 r88126) -- "How About a Twenty-Six" 4833
palomino7Windows Server 2022 Datacenterx644.5.0 RC (2025-04-04 r88126 ucrt) -- "How About a Twenty-Six" 4574
merida1macOS 12.7.5 Montereyx86_644.5.0 RC (2025-04-04 r88126) -- "How About a Twenty-Six" 4599
kjohnson1macOS 13.6.6 Venturaarm644.5.0 RC (2025-04-04 r88129) -- "How About a Twenty-Six" 4553
kunpeng2Linux (openEuler 24.03 LTS)aarch64R Under development (unstable) (2025-02-19 r87757) -- "Unsuffered Consequences" 4570
Click on any hostname to see more info about the system (e.g. compilers)      (*) as reported by 'uname -p', except on Windows and Mac OS X

Package 1411/2341HostnameOS / ArchINSTALLBUILDCHECKBUILD BIN
musicatk 2.2.0  (landing page)
Joshua D. Campbell
Snapshot Date: 2025-05-05 13:40 -0400 (Mon, 05 May 2025)
git_url: https://git.bioconductor.org/packages/musicatk
git_branch: RELEASE_3_21
git_last_commit: 030212f
git_last_commit_date: 2025-04-15 12:12:56 -0400 (Tue, 15 Apr 2025)
nebbiolo1Linux (Ubuntu 24.04.1 LTS) / x86_64  OK    OK    OK  UNNEEDED, same version is already published
palomino7Windows Server 2022 Datacenter / x64  OK    OK    OK    OK  UNNEEDED, same version is already published
merida1macOS 12.7.5 Monterey / x86_64  OK    OK    OK    OK  UNNEEDED, same version is already published
kjohnson1macOS 13.6.6 Ventura / arm64  OK    OK    OK    OK  UNNEEDED, same version is already published
kunpeng2Linux (openEuler 24.03 LTS) / aarch64  OK    OK    OK  


CHECK results for musicatk on kunpeng2

To the developers/maintainers of the musicatk package:
- Allow up to 24 hours (and sometimes 48 hours) for your latest push to git@git.bioconductor.org:packages/musicatk.git to reflect on this report. See Troubleshooting Build Report for more information.
- Use the following Renviron settings to reproduce errors and warnings.
- If 'R CMD check' started to fail recently on the Linux builder(s) over a missing dependency, add the missing dependency to 'Suggests:' in your DESCRIPTION file. See Renviron.bioc for more information.
- See Martin Grigorov's blog post for how to debug Linux ARM64 related issues on a x86_64 host.

raw results


Summary

Package: musicatk
Version: 2.2.0
Command: /home/biocbuild/R/R/bin/R CMD check --install=check:musicatk.install-out.txt --library=/home/biocbuild/R/R/site-library --no-vignettes --timings musicatk_2.2.0.tar.gz
StartedAt: 2025-05-06 11:18:30 -0000 (Tue, 06 May 2025)
EndedAt: 2025-05-06 11:36:53 -0000 (Tue, 06 May 2025)
EllapsedTime: 1102.9 seconds
RetCode: 0
Status:   OK  
CheckDir: musicatk.Rcheck
Warnings: 0

Command output

##############################################################################
##############################################################################
###
### Running command:
###
###   /home/biocbuild/R/R/bin/R CMD check --install=check:musicatk.install-out.txt --library=/home/biocbuild/R/R/site-library --no-vignettes --timings musicatk_2.2.0.tar.gz
###
##############################################################################
##############################################################################


* using log directory ‘/home/biocbuild/bbs-3.21-bioc/meat/musicatk.Rcheck’
* using R Under development (unstable) (2025-02-19 r87757)
* using platform: aarch64-unknown-linux-gnu
* R was compiled by
    aarch64-unknown-linux-gnu-gcc (GCC) 14.2.0
    GNU Fortran (GCC) 14.2.0
* running under: openEuler 24.03 (LTS-SP1)
* using session charset: UTF-8
* using option ‘--no-vignettes’
* checking for file ‘musicatk/DESCRIPTION’ ... OK
* checking extension type ... Package
* this is package ‘musicatk’ version ‘2.2.0’
* package encoding: UTF-8
* checking package namespace information ... OK
* checking package dependencies ... INFO
Imports includes 45 non-default packages.
Importing from so many packages makes the package vulnerable to any of
them becoming unavailable.  Move as many as possible to Suggests and
use conditionally.
* checking if this is a source package ... OK
* checking if there is a namespace ... OK
* checking for hidden files and directories ... OK
* checking for portable file names ... OK
* checking for sufficient/correct file permissions ... OK
* checking whether package ‘musicatk’ can be installed ... OK
* checking installed package size ... OK
* checking package directory ... OK
* checking ‘build’ directory ... OK
* checking DESCRIPTION meta-information ... OK
* checking top-level files ... OK
* checking for left-over files ... OK
* checking index information ... OK
* checking package subdirectories ... OK
* checking code files for non-ASCII characters ... OK
* checking R files for syntax errors ... OK
* checking whether the package can be loaded ... OK
* checking whether the package can be loaded with stated dependencies ... OK
* checking whether the package can be unloaded cleanly ... OK
* checking whether the namespace can be loaded with stated dependencies ... OK
* checking whether the namespace can be unloaded cleanly ... OK
* checking loading without being on the library search path ... OK
* checking dependencies in R code ... OK
* checking S3 generic/method consistency ... OK
* checking replacement functions ... OK
* checking foreign function calls ... OK
* checking R code for possible problems ... OK
* checking Rd files ... OK
* checking Rd metadata ... OK
* checking Rd cross-references ... NOTE
Found the following Rd file(s) with Rd \link{} targets missing package
anchors:
  add_flank_to_variants.Rd: BSgenome-class
  build_standard_table.Rd: BSgenome-class
  create_musica_from_variants.Rd: BSgenome-class
  create_sbs192_table.Rd: BSgenome-class
  create_sbs96_table.Rd: BSgenome-class
  extract_variants.Rd: CollapsedVCF-class, ExpandedVCF-class, MAF-class
  variants.Rd: data.table-class
Please provide package anchors for all Rd \link{} targets not in the
package itself and the base packages.
* checking for missing documentation entries ... OK
* checking for code/documentation mismatches ... OK
* checking Rd \usage sections ... OK
* checking Rd contents ... OK
* checking for unstated dependencies in examples ... OK
* checking contents of ‘data’ directory ... OK
* checking data for non-ASCII characters ... OK
* checking LazyData ... OK
* checking data for ASCII and uncompressed saves ... OK
* checking files in ‘vignettes’ ... OK
* checking examples ... OK
Examples with CPU (user + system) or elapsed time > 5s
                         user system elapsed
plot_k_comparison     246.889  9.479 288.758
compare_k_vals        225.042  3.804 260.464
build_standard_table    9.993  0.980  15.884
plot_cluster            6.434  0.180   7.211
create_umap             6.004  0.132   7.542
extract_variants        5.846  0.132   6.506
plot_umap               5.530  0.247   8.545
auto_predict_grid       4.291  0.554   5.277
add_flank_to_variants   3.844  0.327   5.336
* checking for unstated dependencies in ‘tests’ ... OK
* checking tests ...
  Running ‘testthat.R’
 OK
* checking for unstated dependencies in vignettes ... OK
* checking package vignettes ... OK
* checking running R code from vignettes ... SKIPPED
* checking re-building of vignette outputs ... SKIPPED
* checking PDF version of manual ... OK
* DONE

Status: 1 NOTE
See
  ‘/home/biocbuild/bbs-3.21-bioc/meat/musicatk.Rcheck/00check.log’
for details.


Installation output

musicatk.Rcheck/00install.out

##############################################################################
##############################################################################
###
### Running command:
###
###   /home/biocbuild/R/R/bin/R CMD INSTALL musicatk
###
##############################################################################
##############################################################################


* installing to library ‘/home/biocbuild/R/R-devel_2025-02-19/site-library’
* installing *source* package ‘musicatk’ ...
** this is package ‘musicatk’ version ‘2.2.0’
** using staged installation
** R
** data
*** moving datasets to lazyload DB
** inst
** byte-compile and prepare package for lazy loading
** help
*** installing help indices
** building package indices
** installing vignettes
** testing if installed package can be loaded from temporary location
** testing if installed package can be loaded from final location
** testing if installed package keeps a record of temporary installation path
* DONE (musicatk)

Tests output

musicatk.Rcheck/tests/testthat.Rout


R Under development (unstable) (2025-02-19 r87757) -- "Unsuffered Consequences"
Copyright (C) 2025 The R Foundation for Statistical Computing
Platform: aarch64-unknown-linux-gnu

R is free software and comes with ABSOLUTELY NO WARRANTY.
You are welcome to redistribute it under certain conditions.
Type 'license()' or 'licence()' for distribution details.

R is a collaborative project with many contributors.
Type 'contributors()' for more information and
'citation()' on how to cite R or R packages in publications.

Type 'demo()' for some demos, 'help()' for on-line help, or
'help.start()' for an HTML browser interface to help.
Type 'q()' to quit R.

> library("testthat")
> library("musicatk")
Loading required package: NMF
Loading required package: registry
Loading required package: rngtools
Loading required package: cluster
NMF - BioConductor layer [OK] | Shared memory capabilities [NO: bigmemory] | Cores 2/2
  To enable shared memory capabilities, try: install.extras('
NMF
')

Attaching package: 'NMF'

The following object is masked from 'package:generics':

    fit

The following object is masked from 'package:testthat':

    compare

> 
> test_check("musicatk")
[ FAIL 0 | WARN 2 | SKIP 0 | PASS 41 ]

[ FAIL 0 | WARN 2 | SKIP 0 | PASS 41 ]
> 
> proc.time()
   user  system elapsed 
 26.747   0.869  33.879 

Example timings

musicatk.Rcheck/musicatk-Ex.timings

nameusersystemelapsed
add_flank_to_variants3.8440.3275.336
add_variant_type0.0210.0000.021
annotate_replication_strand0.1720.0000.173
annotate_transcript_strand1.5820.1162.099
annotate_variant_length0.0210.0000.022
annotate_variant_type0.0030.0000.004
auto_predict_grid4.2910.5545.277
build_custom_table1.2870.0561.355
build_standard_table 9.993 0.98015.884
built_tables0.0030.0000.003
cluster_exposure0.0200.0010.040
combine_count_tables3.1910.1883.621
combine_predict_grid0.7940.0030.799
compare_cosmic_v24.1760.1074.795
compare_cosmic_v32.3710.0322.668
compare_k_vals225.042 3.804260.464
compare_results2.6160.1123.042
cosmic_v2_subtype_map0.0010.0000.002
create_musica_from_counts0.0050.0000.014
create_musica_from_variants1.0590.1201.487
create_result_model0.0020.0000.002
create_umap6.0040.1327.542
credible_intervals0.0000.0030.004
discover_signatures0.9660.1111.121
drop_annotation0.0020.0000.002
exposure_differential_analysis0.0150.0000.015
exposures0.0250.0040.029
extract_count_tables0.0050.0000.005
extract_variants5.8460.1326.506
extract_variants_from_maf0.1550.0000.155
extract_variants_from_maf_file0.1350.0000.134
extract_variants_from_matrix0.1520.0000.151
extract_variants_from_vcf0.8750.0120.920
extract_variants_from_vcf_file0.5960.0000.717
generate_result_grid0.5180.0160.535
get_modality0.0070.0000.007
get_model0.0060.0000.005
get_result_list_entry0.0060.0000.006
hyperparameter0.0020.0000.002
k_select1.0860.0081.131
metrics0.0030.0000.002
modality0.0020.0000.002
model_id0.0030.0000.002
musicatk000
name_signatures0.0450.0000.045
num_signatures0.0030.0000.002
other_parameters0.0030.0000.002
parameter0.0020.0000.002
pipe0.0000.0030.002
plot_cluster6.4340.1807.211
plot_differential_analysis0.2460.0120.264
plot_exposures0.4400.0320.472
plot_heatmap1.1220.1041.278
plot_k_comparison246.889 9.479288.758
plot_sample_counts0.7880.0200.946
plot_sample_reconstruction_error1.1460.0041.188
plot_signatures1.1980.0041.329
plot_umap5.5300.2478.545
predict_exposure1.8010.1072.131
rc0.0030.0000.003
result_list0.0040.0000.004
samp_annot0.0080.0000.008
sample_names0.0030.0000.003
select_genome000
signatures0.0260.0000.026
subset_musica_by_annotation0.0070.0000.014
subset_musica_by_counts0.0130.0000.025
subset_variant_by_type0.0070.0000.016
subset_variants_by_samples0.0070.0000.015
table_selected0.0020.0000.006
tables0.0050.0000.010
umap0.0030.0000.008
variants0.0070.0010.011