| Back to Multiple platform build/check report for BioC 3.21: simplified long |
|
This page was generated on 2025-04-22 13:16 -0400 (Tue, 22 Apr 2025).
| Hostname | OS | Arch (*) | R version | Installed pkgs |
|---|---|---|---|---|
| nebbiolo1 | Linux (Ubuntu 24.04.1 LTS) | x86_64 | 4.5.0 RC (2025-04-04 r88126) -- "How About a Twenty-Six" | 4831 |
| palomino7 | Windows Server 2022 Datacenter | x64 | 4.5.0 RC (2025-04-04 r88126 ucrt) -- "How About a Twenty-Six" | 4573 |
| lconway | macOS 12.7.1 Monterey | x86_64 | 4.5.0 RC (2025-04-04 r88126) -- "How About a Twenty-Six" | 4599 |
| kjohnson3 | macOS 13.7.1 Ventura | arm64 | 4.5.0 RC (2025-04-04 r88126) -- "How About a Twenty-Six" | 4553 |
| kunpeng2 | Linux (openEuler 24.03 LTS) | aarch64 | R Under development (unstable) (2025-02-19 r87757) -- "Unsuffered Consequences" | 4570 |
| Click on any hostname to see more info about the system (e.g. compilers) (*) as reported by 'uname -p', except on Windows and Mac OS X | ||||
| Package 1334/2341 | Hostname | OS / Arch | INSTALL | BUILD | CHECK | BUILD BIN | ||||||||
| monocle 2.36.0 (landing page) Cole Trapnell
| nebbiolo1 | Linux (Ubuntu 24.04.1 LTS) / x86_64 | OK | OK | OK | |||||||||
| palomino7 | Windows Server 2022 Datacenter / x64 | OK | OK | OK | OK | |||||||||
| lconway | macOS 12.7.1 Monterey / x86_64 | OK | OK | OK | OK | |||||||||
| kjohnson3 | macOS 13.7.1 Ventura / arm64 | OK | OK | OK | OK | |||||||||
| kunpeng2 | Linux (openEuler 24.03 LTS) / aarch64 | OK | OK | OK | ||||||||||
|
To the developers/maintainers of the monocle package: - Allow up to 24 hours (and sometimes 48 hours) for your latest push to git@git.bioconductor.org:packages/monocle.git to reflect on this report. See Troubleshooting Build Report for more information. - Use the following Renviron settings to reproduce errors and warnings. - If 'R CMD check' started to fail recently on the Linux builder(s) over a missing dependency, add the missing dependency to 'Suggests:' in your DESCRIPTION file. See Renviron.bioc for more information. |
| Package: monocle |
| Version: 2.36.0 |
| Command: /Library/Frameworks/R.framework/Resources/bin/R CMD check --install=check:monocle.install-out.txt --library=/Library/Frameworks/R.framework/Resources/library --no-vignettes --timings monocle_2.36.0.tar.gz |
| StartedAt: 2025-04-21 22:00:50 -0400 (Mon, 21 Apr 2025) |
| EndedAt: 2025-04-21 22:02:37 -0400 (Mon, 21 Apr 2025) |
| EllapsedTime: 106.6 seconds |
| RetCode: 0 |
| Status: OK |
| CheckDir: monocle.Rcheck |
| Warnings: 0 |
##############################################################################
##############################################################################
###
### Running command:
###
### /Library/Frameworks/R.framework/Resources/bin/R CMD check --install=check:monocle.install-out.txt --library=/Library/Frameworks/R.framework/Resources/library --no-vignettes --timings monocle_2.36.0.tar.gz
###
##############################################################################
##############################################################################
* using log directory ‘/Users/biocbuild/bbs-3.21-bioc/meat/monocle.Rcheck’
* using R version 4.5.0 RC (2025-04-04 r88126)
* using platform: x86_64-apple-darwin20
* R was compiled by
Apple clang version 14.0.0 (clang-1400.0.29.202)
GNU Fortran (GCC) 14.2.0
* running under: macOS Monterey 12.7.6
* using session charset: UTF-8
* using option ‘--no-vignettes’
* checking for file ‘monocle/DESCRIPTION’ ... OK
* checking extension type ... Package
* this is package ‘monocle’ version ‘2.36.0’
* checking package namespace information ... OK
* checking package dependencies ... INFO
Imports includes 24 non-default packages.
Importing from so many packages makes the package vulnerable to any of
them becoming unavailable. Move as many as possible to Suggests and
use conditionally.
* checking if this is a source package ... OK
* checking if there is a namespace ... OK
* checking for hidden files and directories ... OK
* checking for portable file names ... OK
* checking for sufficient/correct file permissions ... OK
* checking whether package ‘monocle’ can be installed ... OK
* used C++ compiler: ‘Apple clang version 14.0.0 (clang-1400.0.29.202)’
* used SDK: ‘MacOSX11.3.sdk’
* checking installed package size ... OK
* checking package directory ... OK
* checking ‘build’ directory ... OK
* checking DESCRIPTION meta-information ... OK
* checking top-level files ... OK
* checking for left-over files ... OK
* checking index information ... OK
* checking package subdirectories ... NOTE
Problems with news in ‘NEWS’:
Cannot process chunk/lines:
Monocle 2.0.0 Series NEWS
* checking code files for non-ASCII characters ... OK
* checking R files for syntax errors ... OK
* checking whether the package can be loaded ... OK
* checking whether the package can be loaded with stated dependencies ... OK
* checking whether the package can be unloaded cleanly ... OK
* checking whether the namespace can be loaded with stated dependencies ... OK
* checking whether the namespace can be unloaded cleanly ... OK
* checking dependencies in R code ... NOTE
Namespaces in Imports field not imported from:
‘Rcpp’ ‘biocViews’
All declared Imports should be used.
* checking S3 generic/method consistency ... OK
* checking replacement functions ... OK
* checking foreign function calls ... OK
* checking R code for possible problems ... NOTE
assign_cell_lineage: no visible global function definition for ‘nei’
buildBranchCellDataSet: no visible global function definition for ‘nei’
count_leaf_descendents: no visible global function definition for ‘nei’
cth_classifier_cds: no visible global function definition for ‘nei’
cth_classifier_cell: no visible global function definition for ‘nei’
diff_test_helper: no visible binding for global variable ‘Size_Factor’
exportCDS: no visible binding for global variable ‘use_for_ordering’
extract_good_ordering: no visible global function definition for ‘nei’
fit_model_helper: no visible binding for global variable ‘Size_Factor’
get_next_node_id: no visible binding for '<<-' assignment to
‘next_node’
get_next_node_id: no visible binding for global variable ‘next_node’
make_canonical: no visible global function definition for ‘nei’
measure_diameter_path: no visible global function definition for ‘nei’
orderCells: no visible binding for '<<-' assignment to ‘next_node’
plot_multiple_branches_pseudotime: no visible binding for global
variable ‘pseudocount’
plot_multiple_branches_pseudotime: no visible binding for global
variable ‘Branch’
project2MST: no visible global function definition for ‘nei’
reverseEmbeddingCDS : <anonymous>: no visible global function
definition for ‘quantile’
Undefined global functions or variables:
Branch Size_Factor nei next_node pseudocount quantile
use_for_ordering
Consider adding
importFrom("stats", "quantile")
to your NAMESPACE file.
* checking Rd files ... OK
* checking Rd metadata ... OK
* checking Rd cross-references ... OK
* checking for missing documentation entries ... OK
* checking for code/documentation mismatches ... OK
* checking Rd \usage sections ... OK
* checking Rd contents ... OK
* checking for unstated dependencies in examples ... OK
* checking contents of ‘data’ directory ... OK
* checking data for non-ASCII characters ... OK
* checking LazyData ... OK
* checking data for ASCII and uncompressed saves ... OK
* checking line endings in C/C++/Fortran sources/headers ... OK
* checking compiled code ... NOTE
Note: information on .o files is not available
* checking sizes of PDF files under ‘inst/doc’ ... OK
* checking files in ‘vignettes’ ... OK
* checking examples ... OK
* checking for unstated dependencies in ‘tests’ ... OK
* checking tests ...
Running ‘testthat.R’
OK
* checking for unstated dependencies in vignettes ... OK
* checking package vignettes ... OK
* checking running R code from vignettes ... SKIPPED
* checking re-building of vignette outputs ... SKIPPED
* checking PDF version of manual ... OK
* DONE
Status: 4 NOTEs
See
‘/Users/biocbuild/bbs-3.21-bioc/meat/monocle.Rcheck/00check.log’
for details.
monocle.Rcheck/00install.out
############################################################################## ############################################################################## ### ### Running command: ### ### /Library/Frameworks/R.framework/Resources/bin/R CMD INSTALL monocle ### ############################################################################## ############################################################################## * installing to library ‘/Library/Frameworks/R.framework/Versions/4.5-x86_64/Resources/library’ * installing *source* package ‘monocle’ ... ** this is package ‘monocle’ version ‘2.36.0’ ** using staged installation ** libs using C++ compiler: ‘Apple clang version 14.0.0 (clang-1400.0.29.202)’ using SDK: ‘MacOSX11.3.sdk’ clang++ -arch x86_64 -std=gnu++17 -I"/Library/Frameworks/R.framework/Resources/include" -DNDEBUG -I'/Library/Frameworks/R.framework/Versions/4.5-x86_64/Resources/library/Rcpp/include' -I/opt/R/x86_64/include -fPIC -falign-functions=64 -Wall -g -O2 -c RcppExports.cpp -o RcppExports.o clang++ -arch x86_64 -std=gnu++17 -I"/Library/Frameworks/R.framework/Resources/include" -DNDEBUG -I'/Library/Frameworks/R.framework/Versions/4.5-x86_64/Resources/library/Rcpp/include' -I/opt/R/x86_64/include -fPIC -falign-functions=64 -Wall -g -O2 -c clustering.cpp -o clustering.o clang++ -arch x86_64 -std=gnu++17 -dynamiclib -Wl,-headerpad_max_install_names -undefined dynamic_lookup -L/Library/Frameworks/R.framework/Resources/lib -L/opt/R/x86_64/lib -o monocle.so RcppExports.o clustering.o -F/Library/Frameworks/R.framework/.. -framework R installing to /Library/Frameworks/R.framework/Versions/4.5-x86_64/Resources/library/00LOCK-monocle/00new/monocle/libs ** R ** data *** moving datasets to lazyload DB ** inst ** byte-compile and prepare package for lazy loading ** help *** installing help indices ** building package indices ** installing vignettes ** testing if installed package can be loaded from temporary location ** checking absolute paths in shared objects and dynamic libraries ** testing if installed package can be loaded from final location ** testing if installed package keeps a record of temporary installation path * DONE (monocle)
monocle.Rcheck/tests/testthat.Rout
R version 4.5.0 RC (2025-04-04 r88126) -- "How About a Twenty-Six"
Copyright (C) 2025 The R Foundation for Statistical Computing
Platform: x86_64-apple-darwin20
R is free software and comes with ABSOLUTELY NO WARRANTY.
You are welcome to redistribute it under certain conditions.
Type 'license()' or 'licence()' for distribution details.
R is a collaborative project with many contributors.
Type 'contributors()' for more information and
'citation()' on how to cite R or R packages in publications.
Type 'demo()' for some demos, 'help()' for on-line help, or
'help.start()' for an HTML browser interface to help.
Type 'q()' to quit R.
> library(testthat)
> #test_check("monocle")
>
> proc.time()
user system elapsed
0.352 0.088 0.430
monocle.Rcheck/monocle-Ex.timings
| name | user | system | elapsed | |
| cellPairwiseDistances-set | 0.000 | 0.001 | 0.001 | |
| cellPairwiseDistances | 0 | 0 | 0 | |
| clusterGenes | 0 | 0 | 0 | |
| detectGenes | 0.000 | 0.000 | 0.001 | |
| estimate_t | 0 | 0 | 0 | |
| exportCDS | 0.000 | 0.001 | 0.000 | |
| importCDS | 0 | 0 | 0 | |
| minSpanningTree-set | 0 | 0 | 0 | |
| minSpanningTree | 0 | 0 | 0 | |
| newCellDataSet | 0.001 | 0.000 | 0.001 | |
| newCellTypeHierarchy | 0.000 | 0.001 | 0.001 | |
| package-deprecated | 0 | 0 | 0 | |
| plot_cell_clusters | 0.000 | 0.001 | 0.001 | |
| plot_cell_trajectory | 0 | 0 | 0 | |
| plot_clusters | 0 | 0 | 0 | |
| plot_complex_cell_trajectory | 0 | 0 | 0 | |
| plot_genes_in_pseudotime | 0 | 0 | 0 | |
| plot_genes_jitter | 0.000 | 0.001 | 0.001 | |
| plot_genes_positive_cells | 0 | 0 | 0 | |
| plot_genes_violin | 0 | 0 | 0 | |
| plot_pc_variance_explained | 0.000 | 0.000 | 0.001 | |
| plot_rho_delta | 0.000 | 0.000 | 0.001 | |
| reducedDimA-set | 0 | 0 | 0 | |
| reducedDimA | 0 | 0 | 0 | |
| reducedDimK-set | 0.000 | 0.001 | 0.000 | |
| reducedDimK | 0 | 0 | 0 | |
| reducedDimS-set | 0.000 | 0.000 | 0.001 | |
| reducedDimS | 0 | 0 | 0 | |
| reducedDimW-set | 0.000 | 0.001 | 0.000 | |
| reducedDimW | 0 | 0 | 0 | |
| relative2abs | 0 | 0 | 0 | |