| Back to Multiple platform build/check report for BioC 3.22: simplified long |
|
This page was generated on 2025-11-06 12:00 -0500 (Thu, 06 Nov 2025).
| Hostname | OS | Arch (*) | R version | Installed pkgs |
|---|---|---|---|---|
| nebbiolo2 | Linux (Ubuntu 24.04.3 LTS) | x86_64 | 4.5.1 Patched (2025-08-23 r88802) -- "Great Square Root" | 4902 |
| kjohnson3 | macOS 13.7.7 Ventura | arm64 | 4.5.1 Patched (2025-09-10 r88807) -- "Great Square Root" | 4638 |
| Click on any hostname to see more info about the system (e.g. compilers) (*) as reported by 'uname -p', except on Windows and Mac OS X | ||||
| Package 1325/2361 | Hostname | OS / Arch | INSTALL | BUILD | CHECK | BUILD BIN | ||||||||
| mirTarRnaSeq 1.18.0 (landing page) Mercedeh Movassagh
| nebbiolo2 | Linux (Ubuntu 24.04.3 LTS) / x86_64 | OK | OK | OK | |||||||||
| kjohnson3 | macOS 13.7.7 Ventura / arm64 | OK | OK | OK | OK | |||||||||
|
To the developers/maintainers of the mirTarRnaSeq package: - Allow up to 24 hours (and sometimes 48 hours) for your latest push to git@git.bioconductor.org:packages/mirTarRnaSeq.git to reflect on this report. See Troubleshooting Build Report for more information. - Use the following Renviron settings to reproduce errors and warnings. - If 'R CMD check' started to fail recently on the Linux builder(s) over a missing dependency, add the missing dependency to 'Suggests:' in your DESCRIPTION file. See Renviron.bioc for more information. |
| Package: mirTarRnaSeq |
| Version: 1.18.0 |
| Command: /home/biocbuild/bbs-3.22-bioc/R/bin/R CMD check --install=check:mirTarRnaSeq.install-out.txt --library=/home/biocbuild/bbs-3.22-bioc/R/site-library --timings mirTarRnaSeq_1.18.0.tar.gz |
| StartedAt: 2025-11-06 01:39:55 -0500 (Thu, 06 Nov 2025) |
| EndedAt: 2025-11-06 01:43:39 -0500 (Thu, 06 Nov 2025) |
| EllapsedTime: 224.2 seconds |
| RetCode: 0 |
| Status: OK |
| CheckDir: mirTarRnaSeq.Rcheck |
| Warnings: 0 |
##############################################################################
##############################################################################
###
### Running command:
###
### /home/biocbuild/bbs-3.22-bioc/R/bin/R CMD check --install=check:mirTarRnaSeq.install-out.txt --library=/home/biocbuild/bbs-3.22-bioc/R/site-library --timings mirTarRnaSeq_1.18.0.tar.gz
###
##############################################################################
##############################################################################
* using log directory ‘/home/biocbuild/bbs-3.22-bioc/meat/mirTarRnaSeq.Rcheck’
* using R version 4.5.1 Patched (2025-08-23 r88802)
* using platform: x86_64-pc-linux-gnu
* R was compiled by
gcc (Ubuntu 13.3.0-6ubuntu2~24.04) 13.3.0
GNU Fortran (Ubuntu 13.3.0-6ubuntu2~24.04) 13.3.0
* running under: Ubuntu 24.04.3 LTS
* using session charset: UTF-8
* checking for file ‘mirTarRnaSeq/DESCRIPTION’ ... OK
* checking extension type ... Package
* this is package ‘mirTarRnaSeq’ version ‘1.18.0’
* package encoding: UTF-8
* checking package namespace information ... OK
* checking package dependencies ... OK
* checking if this is a source package ... OK
* checking if there is a namespace ... OK
* checking for hidden files and directories ... OK
* checking for portable file names ... OK
* checking for sufficient/correct file permissions ... OK
* checking whether package ‘mirTarRnaSeq’ can be installed ... OK
* checking installed package size ... OK
* checking package directory ... OK
* checking ‘build’ directory ... OK
* checking DESCRIPTION meta-information ... OK
* checking top-level files ... OK
* checking for left-over files ... OK
* checking index information ... OK
* checking package subdirectories ... OK
* checking code files for non-ASCII characters ... OK
* checking R files for syntax errors ... OK
* checking whether the package can be loaded ... OK
* checking whether the package can be loaded with stated dependencies ... OK
* checking whether the package can be unloaded cleanly ... OK
* checking whether the namespace can be loaded with stated dependencies ... OK
* checking whether the namespace can be unloaded cleanly ... OK
* checking loading without being on the library search path ... OK
* checking whether startup messages can be suppressed ... OK
* checking dependencies in R code ... NOTE
Package in Depends field not imported from: ‘ggplot2’
These packages need to be imported from (in the NAMESPACE file)
for when this namespace is loaded but not attached.
* checking S3 generic/method consistency ... OK
* checking replacement functions ... OK
* checking foreign function calls ... OK
* checking R code for possible problems ... OK
* checking Rd files ... OK
* checking Rd metadata ... OK
* checking Rd cross-references ... OK
* checking for missing documentation entries ... OK
* checking for code/documentation mismatches ... OK
* checking Rd \usage sections ... OK
* checking Rd contents ... OK
* checking for unstated dependencies in examples ... OK
* checking contents of ‘data’ directory ... OK
* checking data for non-ASCII characters ... OK
* checking LazyData ... OK
* checking data for ASCII and uncompressed saves ... OK
* checking files in ‘vignettes’ ... OK
* checking examples ... OK
* checking for unstated dependencies in vignettes ... OK
* checking package vignettes ... OK
* checking re-building of vignette outputs ... OK
* checking PDF version of manual ... OK
* DONE
Status: 1 NOTE
See
‘/home/biocbuild/bbs-3.22-bioc/meat/mirTarRnaSeq.Rcheck/00check.log’
for details.
mirTarRnaSeq.Rcheck/00install.out
############################################################################## ############################################################################## ### ### Running command: ### ### /home/biocbuild/bbs-3.22-bioc/R/bin/R CMD INSTALL mirTarRnaSeq ### ############################################################################## ############################################################################## * installing to library ‘/home/biocbuild/bbs-3.22-bioc/R/site-library’ * installing *source* package ‘mirTarRnaSeq’ ... ** this is package ‘mirTarRnaSeq’ version ‘1.18.0’ ** using staged installation ** R ** data *** moving datasets to lazyload DB ** inst ** byte-compile and prepare package for lazy loading ** help *** installing help indices *** copying figures ** building package indices ** installing vignettes ** testing if installed package can be loaded from temporary location ** testing if installed package can be loaded from final location ** testing if installed package keeps a record of temporary installation path * DONE (mirTarRnaSeq)
mirTarRnaSeq.Rcheck/mirTarRnaSeq-Ex.timings
| name | user | system | elapsed | |
| combiner | 0.003 | 0.003 | 0.007 | |
| corMirnaRna | 0.044 | 0.011 | 0.056 | |
| corMirnaRnaMiranda | 0.104 | 0.010 | 0.114 | |
| downloadMirandaFile | 0 | 0 | 0 | |
| drawCorPlot | 0 | 0 | 0 | |
| drawInterPlots | 0.02 | 0.00 | 0.02 | |
| fdrSig | 0.519 | 0.027 | 0.545 | |
| finInterResult | 0.001 | 0.000 | 0.001 | |
| geneVari | 0 | 0 | 0 | |
| getInputSpecies | 0.222 | 0.007 | 0.230 | |
| glm_gaussian | 0.001 | 0.000 | 0.000 | |
| glm_multi | 0 | 0 | 0 | |
| glm_nb | 0 | 0 | 0 | |
| glm_poisson | 0 | 0 | 0 | |
| glm_zeroinfl | 0 | 0 | 0 | |
| glm_zeroinfl_negbin | 0.001 | 0.000 | 0.000 | |
| glm_zeroinfl_poisson | 0 | 0 | 0 | |
| importMirandaFile | 0 | 0 | 0 | |
| makeFormulaRightSide | 0 | 0 | 0 | |
| miRanComp | 0.017 | 0.007 | 0.025 | |
| miRandaIntersect | 0.014 | 0.001 | 0.014 | |
| mirRnaDensityCor | 0.027 | 0.002 | 0.029 | |
| mirRnaDensityInter | 0 | 0 | 0 | |
| mirRnaHeatmap | 0.597 | 0.004 | 0.601 | |
| mirRnaHeatmapDiff | 0.087 | 0.001 | 0.087 | |
| mirandaIntersectInter | 0.012 | 0.000 | 0.012 | |
| modelAIC | 0.04 | 0.00 | 0.04 | |
| modelCoefficients | 0.001 | 0.000 | 0.001 | |
| modelData | 0.000 | 0.000 | 0.001 | |
| modelModelName | 0 | 0 | 0 | |
| modelModelPvalue | 0.001 | 0.000 | 0.001 | |
| modelTermPvalues | 0.019 | 0.000 | 0.019 | |
| modelsFilter | 0 | 0 | 0 | |
| one2OneRnaMiRNA | 0 | 0 | 0 | |
| plotFit | 0.004 | 0.001 | 0.006 | |
| plotResiduals | 0.006 | 0.000 | 0.006 | |
| plotTerms | 0.003 | 0.000 | 0.002 | |
| runAllMirnaModels | 0.492 | 0.033 | 0.525 | |
| runModels | 0.436 | 0.004 | 0.440 | |
| sampCorRnaMirna | 0.441 | 0.027 | 0.469 | |
| threshSig | 0 | 0 | 0 | |
| threshSigInter | 0.001 | 0.000 | 0.002 | |
| twoTimePoint | 0 | 0 | 0 | |
| twoTimePointSamp | 0 | 0 | 0 | |
| tzTrans | 0.005 | 0.000 | 0.004 | |