| Back to Multiple platform build/check report for BioC 3.21: simplified long |
|
This page was generated on 2025-10-16 11:38 -0400 (Thu, 16 Oct 2025).
| Hostname | OS | Arch (*) | R version | Installed pkgs |
|---|---|---|---|---|
| nebbiolo1 | Linux (Ubuntu 24.04.3 LTS) | x86_64 | 4.5.1 (2025-06-13) -- "Great Square Root" | 4833 |
| merida1 | macOS 12.7.6 Monterey | x86_64 | 4.5.1 RC (2025-06-05 r88288) -- "Great Square Root" | 4614 |
| kjohnson1 | macOS 13.7.5 Ventura | arm64 | 4.5.1 Patched (2025-06-14 r88325) -- "Great Square Root" | 4555 |
| kunpeng2 | Linux (openEuler 24.03 LTS) | aarch64 | R Under development (unstable) (2025-02-19 r87757) -- "Unsuffered Consequences" | 4586 |
| Click on any hostname to see more info about the system (e.g. compilers) (*) as reported by 'uname -p', except on Windows and Mac OS X | ||||
| Package 1308/2341 | Hostname | OS / Arch | INSTALL | BUILD | CHECK | BUILD BIN | ||||||||
| mirTarRnaSeq 1.16.0 (landing page) Mercedeh Movassagh
| nebbiolo1 | Linux (Ubuntu 24.04.3 LTS) / x86_64 | OK | OK | OK | |||||||||
| merida1 | macOS 12.7.6 Monterey / x86_64 | OK | OK | OK | OK | |||||||||
| kjohnson1 | macOS 13.7.5 Ventura / arm64 | OK | OK | OK | OK | |||||||||
| kunpeng2 | Linux (openEuler 24.03 LTS) / aarch64 | OK | OK | OK | ||||||||||
|
To the developers/maintainers of the mirTarRnaSeq package: - Allow up to 24 hours (and sometimes 48 hours) for your latest push to git@git.bioconductor.org:packages/mirTarRnaSeq.git to reflect on this report. See Troubleshooting Build Report for more information. - Use the following Renviron settings to reproduce errors and warnings. - If 'R CMD check' started to fail recently on the Linux builder(s) over a missing dependency, add the missing dependency to 'Suggests:' in your DESCRIPTION file. See Renviron.bioc for more information. |
| Package: mirTarRnaSeq |
| Version: 1.16.0 |
| Command: /home/biocbuild/bbs-3.21-bioc/R/bin/R CMD check --install=check:mirTarRnaSeq.install-out.txt --library=/home/biocbuild/bbs-3.21-bioc/R/site-library --timings mirTarRnaSeq_1.16.0.tar.gz |
| StartedAt: 2025-10-16 01:08:47 -0400 (Thu, 16 Oct 2025) |
| EndedAt: 2025-10-16 01:12:28 -0400 (Thu, 16 Oct 2025) |
| EllapsedTime: 220.3 seconds |
| RetCode: 0 |
| Status: OK |
| CheckDir: mirTarRnaSeq.Rcheck |
| Warnings: 0 |
##############################################################################
##############################################################################
###
### Running command:
###
### /home/biocbuild/bbs-3.21-bioc/R/bin/R CMD check --install=check:mirTarRnaSeq.install-out.txt --library=/home/biocbuild/bbs-3.21-bioc/R/site-library --timings mirTarRnaSeq_1.16.0.tar.gz
###
##############################################################################
##############################################################################
* using log directory ‘/home/biocbuild/bbs-3.21-bioc/meat/mirTarRnaSeq.Rcheck’
* using R version 4.5.1 (2025-06-13)
* using platform: x86_64-pc-linux-gnu
* R was compiled by
gcc (Ubuntu 13.3.0-6ubuntu2~24.04) 13.3.0
GNU Fortran (Ubuntu 13.3.0-6ubuntu2~24.04) 13.3.0
* running under: Ubuntu 24.04.3 LTS
* using session charset: UTF-8
* checking for file ‘mirTarRnaSeq/DESCRIPTION’ ... OK
* checking extension type ... Package
* this is package ‘mirTarRnaSeq’ version ‘1.16.0’
* package encoding: UTF-8
* checking package namespace information ... OK
* checking package dependencies ... OK
* checking if this is a source package ... OK
* checking if there is a namespace ... OK
* checking for hidden files and directories ... OK
* checking for portable file names ... OK
* checking for sufficient/correct file permissions ... OK
* checking whether package ‘mirTarRnaSeq’ can be installed ... OK
* checking installed package size ... OK
* checking package directory ... OK
* checking ‘build’ directory ... OK
* checking DESCRIPTION meta-information ... OK
* checking top-level files ... OK
* checking for left-over files ... OK
* checking index information ... OK
* checking package subdirectories ... OK
* checking code files for non-ASCII characters ... OK
* checking R files for syntax errors ... OK
* checking whether the package can be loaded ... OK
* checking whether the package can be loaded with stated dependencies ... OK
* checking whether the package can be unloaded cleanly ... OK
* checking whether the namespace can be loaded with stated dependencies ... OK
* checking whether the namespace can be unloaded cleanly ... OK
* checking loading without being on the library search path ... OK
* checking whether startup messages can be suppressed ... OK
* checking dependencies in R code ... NOTE
Package in Depends field not imported from: ‘ggplot2’
These packages need to be imported from (in the NAMESPACE file)
for when this namespace is loaded but not attached.
* checking S3 generic/method consistency ... OK
* checking replacement functions ... OK
* checking foreign function calls ... OK
* checking R code for possible problems ... OK
* checking Rd files ... OK
* checking Rd metadata ... OK
* checking Rd cross-references ... OK
* checking for missing documentation entries ... OK
* checking for code/documentation mismatches ... OK
* checking Rd \usage sections ... OK
* checking Rd contents ... OK
* checking for unstated dependencies in examples ... OK
* checking contents of ‘data’ directory ... OK
* checking data for non-ASCII characters ... OK
* checking LazyData ... OK
* checking data for ASCII and uncompressed saves ... OK
* checking files in ‘vignettes’ ... OK
* checking examples ... OK
* checking for unstated dependencies in vignettes ... OK
* checking package vignettes ... OK
* checking re-building of vignette outputs ... OK
* checking PDF version of manual ... OK
* DONE
Status: 1 NOTE
See
‘/home/biocbuild/bbs-3.21-bioc/meat/mirTarRnaSeq.Rcheck/00check.log’
for details.
mirTarRnaSeq.Rcheck/00install.out
############################################################################## ############################################################################## ### ### Running command: ### ### /home/biocbuild/bbs-3.21-bioc/R/bin/R CMD INSTALL mirTarRnaSeq ### ############################################################################## ############################################################################## * installing to library ‘/home/biocbuild/bbs-3.21-bioc/R/site-library’ * installing *source* package ‘mirTarRnaSeq’ ... ** this is package ‘mirTarRnaSeq’ version ‘1.16.0’ ** using staged installation ** R ** data *** moving datasets to lazyload DB ** inst ** byte-compile and prepare package for lazy loading ** help *** installing help indices *** copying figures ** building package indices ** installing vignettes ** testing if installed package can be loaded from temporary location ** testing if installed package can be loaded from final location ** testing if installed package keeps a record of temporary installation path * DONE (mirTarRnaSeq)
mirTarRnaSeq.Rcheck/mirTarRnaSeq-Ex.timings
| name | user | system | elapsed | |
| combiner | 0.003 | 0.005 | 0.007 | |
| corMirnaRna | 0.040 | 0.014 | 0.054 | |
| corMirnaRnaMiranda | 0.103 | 0.009 | 0.111 | |
| downloadMirandaFile | 0 | 0 | 0 | |
| drawCorPlot | 0.000 | 0.001 | 0.000 | |
| drawInterPlots | 0.021 | 0.000 | 0.022 | |
| fdrSig | 0.526 | 0.028 | 0.554 | |
| finInterResult | 0.001 | 0.000 | 0.001 | |
| geneVari | 0.000 | 0.001 | 0.000 | |
| getInputSpecies | 0.223 | 0.008 | 0.233 | |
| glm_gaussian | 0 | 0 | 0 | |
| glm_multi | 0 | 0 | 0 | |
| glm_nb | 0.000 | 0.001 | 0.000 | |
| glm_poisson | 0 | 0 | 0 | |
| glm_zeroinfl | 0.000 | 0.000 | 0.001 | |
| glm_zeroinfl_negbin | 0 | 0 | 0 | |
| glm_zeroinfl_poisson | 0.000 | 0.001 | 0.000 | |
| importMirandaFile | 0 | 0 | 0 | |
| makeFormulaRightSide | 0 | 0 | 0 | |
| miRanComp | 0.023 | 0.003 | 0.025 | |
| miRandaIntersect | 0.016 | 0.000 | 0.015 | |
| mirRnaDensityCor | 0.030 | 0.000 | 0.031 | |
| mirRnaDensityInter | 0 | 0 | 0 | |
| mirRnaHeatmap | 0.614 | 0.001 | 0.616 | |
| mirRnaHeatmapDiff | 0.085 | 0.001 | 0.086 | |
| mirandaIntersectInter | 0.012 | 0.000 | 0.013 | |
| modelAIC | 0.039 | 0.001 | 0.041 | |
| modelCoefficients | 0.001 | 0.000 | 0.001 | |
| modelData | 0 | 0 | 0 | |
| modelModelName | 0.001 | 0.000 | 0.000 | |
| modelModelPvalue | 0.001 | 0.000 | 0.000 | |
| modelTermPvalues | 0.001 | 0.000 | 0.001 | |
| modelsFilter | 0 | 0 | 0 | |
| one2OneRnaMiRNA | 0.000 | 0.001 | 0.000 | |
| plotFit | 0.014 | 0.000 | 0.015 | |
| plotResiduals | 0.006 | 0.000 | 0.007 | |
| plotTerms | 0.002 | 0.000 | 0.003 | |
| runAllMirnaModels | 0.508 | 0.016 | 0.524 | |
| runModels | 0.420 | 0.003 | 0.423 | |
| sampCorRnaMirna | 0.458 | 0.034 | 0.492 | |
| threshSig | 0 | 0 | 0 | |
| threshSigInter | 0.001 | 0.000 | 0.002 | |
| twoTimePoint | 0 | 0 | 0 | |
| twoTimePointSamp | 0 | 0 | 0 | |
| tzTrans | 0.005 | 0.000 | 0.005 | |