| Back to Multiple platform build/check report for BioC 3.21: simplified long |
|
This page was generated on 2025-10-16 11:39 -0400 (Thu, 16 Oct 2025).
| Hostname | OS | Arch (*) | R version | Installed pkgs |
|---|---|---|---|---|
| nebbiolo1 | Linux (Ubuntu 24.04.3 LTS) | x86_64 | 4.5.1 (2025-06-13) -- "Great Square Root" | 4833 |
| merida1 | macOS 12.7.6 Monterey | x86_64 | 4.5.1 RC (2025-06-05 r88288) -- "Great Square Root" | 4614 |
| kjohnson1 | macOS 13.7.5 Ventura | arm64 | 4.5.1 Patched (2025-06-14 r88325) -- "Great Square Root" | 4555 |
| kunpeng2 | Linux (openEuler 24.03 LTS) | aarch64 | R Under development (unstable) (2025-02-19 r87757) -- "Unsuffered Consequences" | 4586 |
| Click on any hostname to see more info about the system (e.g. compilers) (*) as reported by 'uname -p', except on Windows and Mac OS X | ||||
| Package 1243/2341 | Hostname | OS / Arch | INSTALL | BUILD | CHECK | BUILD BIN | ||||||||
| methimpute 1.30.0 (landing page) Aaron Taudt
| nebbiolo1 | Linux (Ubuntu 24.04.3 LTS) / x86_64 | OK | OK | WARNINGS | |||||||||
| merida1 | macOS 12.7.6 Monterey / x86_64 | OK | OK | WARNINGS | OK | |||||||||
| kjohnson1 | macOS 13.7.5 Ventura / arm64 | OK | OK | WARNINGS | OK | |||||||||
| kunpeng2 | Linux (openEuler 24.03 LTS) / aarch64 | OK | OK | WARNINGS | ||||||||||
|
To the developers/maintainers of the methimpute package: - Allow up to 24 hours (and sometimes 48 hours) for your latest push to git@git.bioconductor.org:packages/methimpute.git to reflect on this report. See Troubleshooting Build Report for more information. - Use the following Renviron settings to reproduce errors and warnings. - If 'R CMD check' started to fail recently on the Linux builder(s) over a missing dependency, add the missing dependency to 'Suggests:' in your DESCRIPTION file. See Renviron.bioc for more information. |
| Package: methimpute |
| Version: 1.30.0 |
| Command: rm -rf methimpute.buildbin-libdir && mkdir methimpute.buildbin-libdir && /Users/biocbuild/BBS/utils/build-universal.sh methimpute_1.30.0.tar.gz /Library/Frameworks/R.framework/Resources/bin/R methimpute.buildbin-libdir |
| StartedAt: 2025-10-14 13:59:21 -0400 (Tue, 14 Oct 2025) |
| EndedAt: 2025-10-14 14:02:26 -0400 (Tue, 14 Oct 2025) |
| EllapsedTime: 185.3 seconds |
| RetCode: 0 |
| Status: OK |
| PackageFile: methimpute_1.30.0.tgz |
| PackageFileSize: 1.523 MiB |
##############################################################################
##############################################################################
###
### Running command:
###
### rm -rf methimpute.buildbin-libdir && mkdir methimpute.buildbin-libdir && /Users/biocbuild/BBS/utils/build-universal.sh methimpute_1.30.0.tar.gz /Library/Frameworks/R.framework/Resources/bin/R methimpute.buildbin-libdir
###
##############################################################################
##############################################################################
>>>>>>>
>>>>>>> INSTALLATION WITH 'R CMD INSTALL --preclean --no-multiarch --library=methimpute.buildbin-libdir methimpute_1.30.0.tar.gz'
>>>>>>>
* installing *source* package ‘methimpute’ ...
** this is package ‘methimpute’ version ‘1.30.0’
** using staged installation
** libs
using C compiler: ‘Apple clang version 14.0.0 (clang-1400.0.29.202)’
using C++ compiler: ‘Apple clang version 14.0.0 (clang-1400.0.29.202)’
using C++11
using SDK: ‘MacOSX11.3.sdk’
clang++ -arch x86_64 -std=gnu++11 -I"/Library/Frameworks/R.framework/Resources/include" -DNDEBUG -I'/Library/Frameworks/R.framework/Versions/4.5-x86_64/Resources/library/Rcpp/include' -I/opt/R/x86_64/include -fPIC -falign-functions=64 -Wall -g -O2 -c RcppExports.cpp -o RcppExports.o
clang++ -arch x86_64 -std=gnu++11 -I"/Library/Frameworks/R.framework/Resources/include" -DNDEBUG -I'/Library/Frameworks/R.framework/Versions/4.5-x86_64/Resources/library/Rcpp/include' -I/opt/R/x86_64/include -fPIC -falign-functions=64 -Wall -g -O2 -c densities.cpp -o densities.o
In file included from densities.cpp:1:
./densities.h:98:10: warning: 'BinomialTest::getLogDensityAt' hides overloaded virtual function [-Woverloaded-virtual]
double getLogDensityAt(int test, int total);
^
./densities.h:31:18: note: hidden overloaded virtual function 'Density::getLogDensityAt' declared here: different number of parameters (1 vs 2)
virtual double getLogDensityAt(int) { return(0); };
^
./densities.h:224:10: warning: 'Beta::getLogDensityAt' hides overloaded virtual function [-Woverloaded-virtual]
double getLogDensityAt(double x);
^
./densities.h:31:18: note: hidden overloaded virtual function 'Density::getLogDensityAt' declared here: type mismatch at 1st parameter ('int' vs 'double')
virtual double getLogDensityAt(int) { return(0); };
^
densities.cpp:920:91: warning: format specifies type 'int' but the argument has type 'double' [-Wformat]
if (verbosity>=4) Rprintf(" lGammaR = %g, lgamma(size + obs=%d) = %g\n", lGammaR, obs_j, lgamma(size + obs_j));
~~ ^~~~~
%f
3 warnings generated.
clang++ -arch x86_64 -std=gnu++11 -I"/Library/Frameworks/R.framework/Resources/include" -DNDEBUG -I'/Library/Frameworks/R.framework/Versions/4.5-x86_64/Resources/library/Rcpp/include' -I/opt/R/x86_64/include -fPIC -falign-functions=64 -Wall -g -O2 -c fitHMM.cpp -o fitHMM.o
In file included from fitHMM.cpp:2:
In file included from ./scalehmm.h:4:
./densities.h:98:10: warning: 'BinomialTest::getLogDensityAt' hides overloaded virtual function [-Woverloaded-virtual]
double getLogDensityAt(int test, int total);
^
./densities.h:31:18: note: hidden overloaded virtual function 'Density::getLogDensityAt' declared here: different number of parameters (1 vs 2)
virtual double getLogDensityAt(int) { return(0); };
^
./densities.h:224:10: warning: 'Beta::getLogDensityAt' hides overloaded virtual function [-Woverloaded-virtual]
double getLogDensityAt(double x);
^
./densities.h:31:18: note: hidden overloaded virtual function 'Density::getLogDensityAt' declared here: type mismatch at 1st parameter ('int' vs 'double')
virtual double getLogDensityAt(int) { return(0); };
^
2 warnings generated.
clang++ -arch x86_64 -std=gnu++11 -I"/Library/Frameworks/R.framework/Resources/include" -DNDEBUG -I'/Library/Frameworks/R.framework/Versions/4.5-x86_64/Resources/library/Rcpp/include' -I/opt/R/x86_64/include -fPIC -falign-functions=64 -Wall -g -O2 -c fitHMM_context.cpp -o fitHMM_context.o
In file included from fitHMM_context.cpp:2:
In file included from ./hmm_context.h:4:
./densities.h:98:10: warning: 'BinomialTest::getLogDensityAt' hides overloaded virtual function [-Woverloaded-virtual]
double getLogDensityAt(int test, int total);
^
./densities.h:31:18: note: hidden overloaded virtual function 'Density::getLogDensityAt' declared here: different number of parameters (1 vs 2)
virtual double getLogDensityAt(int) { return(0); };
^
./densities.h:224:10: warning: 'Beta::getLogDensityAt' hides overloaded virtual function [-Woverloaded-virtual]
double getLogDensityAt(double x);
^
./densities.h:31:18: note: hidden overloaded virtual function 'Density::getLogDensityAt' declared here: type mismatch at 1st parameter ('int' vs 'double')
virtual double getLogDensityAt(int) { return(0); };
^
2 warnings generated.
clang++ -arch x86_64 -std=gnu++11 -I"/Library/Frameworks/R.framework/Resources/include" -DNDEBUG -I'/Library/Frameworks/R.framework/Versions/4.5-x86_64/Resources/library/Rcpp/include' -I/opt/R/x86_64/include -fPIC -falign-functions=64 -Wall -g -O2 -c hmm_context.cpp -o hmm_context.o
In file included from hmm_context.cpp:1:
In file included from ./hmm_context.h:4:
./densities.h:98:10: warning: 'BinomialTest::getLogDensityAt' hides overloaded virtual function [-Woverloaded-virtual]
double getLogDensityAt(int test, int total);
^
./densities.h:31:18: note: hidden overloaded virtual function 'Density::getLogDensityAt' declared here: different number of parameters (1 vs 2)
virtual double getLogDensityAt(int) { return(0); };
^
./densities.h:224:10: warning: 'Beta::getLogDensityAt' hides overloaded virtual function [-Woverloaded-virtual]
double getLogDensityAt(double x);
^
./densities.h:31:18: note: hidden overloaded virtual function 'Density::getLogDensityAt' declared here: type mismatch at 1st parameter ('int' vs 'double')
virtual double getLogDensityAt(int) { return(0); };
^
2 warnings generated.
clang -arch x86_64 -I"/Library/Frameworks/R.framework/Resources/include" -DNDEBUG -I'/Library/Frameworks/R.framework/Versions/4.5-x86_64/Resources/library/Rcpp/include' -I/opt/R/x86_64/include -fPIC -falign-functions=64 -Wall -g -O2 -c methimpute_init.c -o methimpute_init.o
clang++ -arch x86_64 -std=gnu++11 -I"/Library/Frameworks/R.framework/Resources/include" -DNDEBUG -I'/Library/Frameworks/R.framework/Versions/4.5-x86_64/Resources/library/Rcpp/include' -I/opt/R/x86_64/include -fPIC -falign-functions=64 -Wall -g -O2 -c scalehmm.cpp -o scalehmm.o
In file included from scalehmm.cpp:1:
In file included from ./scalehmm.h:4:
./densities.h:98:10: warning: 'BinomialTest::getLogDensityAt' hides overloaded virtual function [-Woverloaded-virtual]
double getLogDensityAt(int test, int total);
^
./densities.h:31:18: note: hidden overloaded virtual function 'Density::getLogDensityAt' declared here: different number of parameters (1 vs 2)
virtual double getLogDensityAt(int) { return(0); };
^
./densities.h:224:10: warning: 'Beta::getLogDensityAt' hides overloaded virtual function [-Woverloaded-virtual]
double getLogDensityAt(double x);
^
./densities.h:31:18: note: hidden overloaded virtual function 'Density::getLogDensityAt' declared here: type mismatch at 1st parameter ('int' vs 'double')
virtual double getLogDensityAt(int) { return(0); };
^
2 warnings generated.
clang++ -arch x86_64 -std=gnu++11 -dynamiclib -Wl,-headerpad_max_install_names -undefined dynamic_lookup -L/Library/Frameworks/R.framework/Resources/lib -L/opt/R/x86_64/lib -o methimpute.so RcppExports.o densities.o fitHMM.o fitHMM_context.o hmm_context.o methimpute_init.o scalehmm.o -F/Library/Frameworks/R.framework/.. -framework R
installing to /Users/biocbuild/bbs-3.21-bioc/meat/methimpute.buildbin-libdir/00LOCK-methimpute/00new/methimpute/libs
** R
** data
** inst
** byte-compile and prepare package for lazy loading
** help
*** installing help indices
** building package indices
** installing vignettes
** testing if installed package can be loaded from temporary location
** checking absolute paths in shared objects and dynamic libraries
** testing if installed package can be loaded from final location
** testing if installed package keeps a record of temporary installation path
* DONE (methimpute)
>>>>>>>
>>>>>>> FIXING PATHS TO DYNAMIC LIBRARIES FOR methimpute.buildbin-libdir/methimpute/libs/methimpute.so
>>>>>>>
>>>>>>> Paths before fix:
methimpute.buildbin-libdir/methimpute/libs/methimpute.so:
methimpute.so (compatibility version 0.0.0, current version 0.0.0)
/Library/Frameworks/R.framework/Versions/4.5-x86_64/Resources/lib/libR.dylib (compatibility version 4.5.0, current version 4.5.1)
/usr/lib/libc++.1.dylib (compatibility version 1.0.0, current version 905.6.0)
/usr/lib/libSystem.B.dylib (compatibility version 1.0.0, current version 1292.100.5)
>>>>>>> Fix with install_name_tool:
install_name_tool -change "/usr/local/lib/libgcc_s.1.1.dylib" "/Library/Frameworks/R.framework/Versions/4.5-x86_64/Resources/lib/libgcc_s.1.1.dylib" "methimpute.buildbin-libdir/methimpute/libs/methimpute.so"
install_name_tool -change "/usr/local/lib/libgfortran.5.dylib" "/Library/Frameworks/R.framework/Versions/4.5-x86_64/Resources/lib/libgfortran.5.dylib" "methimpute.buildbin-libdir/methimpute/libs/methimpute.so"
install_name_tool -change "/usr/local/lib/libquadmath.0.dylib" "/Library/Frameworks/R.framework/Versions/4.5-x86_64/Resources/lib/libquadmath.0.dylib" "methimpute.buildbin-libdir/methimpute/libs/methimpute.so"
>>>>>>> Paths after fix:
methimpute.buildbin-libdir/methimpute/libs/methimpute.so:
methimpute.so (compatibility version 0.0.0, current version 0.0.0)
/Library/Frameworks/R.framework/Versions/4.5-x86_64/Resources/lib/libR.dylib (compatibility version 4.5.0, current version 4.5.1)
/usr/lib/libc++.1.dylib (compatibility version 1.0.0, current version 905.6.0)
/usr/lib/libSystem.B.dylib (compatibility version 1.0.0, current version 1292.100.5)