| Back to Multiple platform build/check report for BioC 3.22: simplified long |
|
This page was generated on 2025-11-01 12:05 -0400 (Sat, 01 Nov 2025).
| Hostname | OS | Arch (*) | R version | Installed pkgs |
|---|---|---|---|---|
| nebbiolo2 | Linux (Ubuntu 24.04.3 LTS) | x86_64 | 4.5.1 Patched (2025-08-23 r88802) -- "Great Square Root" | 4901 |
| lconway | macOS 12.7.6 Monterey | x86_64 | 4.5.1 Patched (2025-09-10 r88807) -- "Great Square Root" | 4691 |
| kjohnson3 | macOS 13.7.7 Ventura | arm64 | 4.5.1 Patched (2025-09-10 r88807) -- "Great Square Root" | 4637 |
| Click on any hostname to see more info about the system (e.g. compilers) (*) as reported by 'uname -p', except on Windows and Mac OS X | ||||
| Package 1238/2361 | Hostname | OS / Arch | INSTALL | BUILD | CHECK | BUILD BIN | ||||||||
| metabinR 1.12.0 (landing page) Anestis Gkanogiannis
| nebbiolo2 | Linux (Ubuntu 24.04.3 LTS) / x86_64 | OK | OK | OK | |||||||||
| lconway | macOS 12.7.6 Monterey / x86_64 | OK | OK | OK | OK | |||||||||
| kjohnson3 | macOS 13.7.7 Ventura / arm64 | OK | OK | OK | OK | |||||||||
|
To the developers/maintainers of the metabinR package: - Allow up to 24 hours (and sometimes 48 hours) for your latest push to git@git.bioconductor.org:packages/metabinR.git to reflect on this report. See Troubleshooting Build Report for more information. - Use the following Renviron settings to reproduce errors and warnings. - If 'R CMD check' started to fail recently on the Linux builder(s) over a missing dependency, add the missing dependency to 'Suggests:' in your DESCRIPTION file. See Renviron.bioc for more information. |
| Package: metabinR |
| Version: 1.12.0 |
| Command: /Library/Frameworks/R.framework/Resources/bin/R CMD check --install=check:metabinR.install-out.txt --library=/Library/Frameworks/R.framework/Resources/library --no-vignettes --timings metabinR_1.12.0.tar.gz |
| StartedAt: 2025-10-31 20:39:10 -0400 (Fri, 31 Oct 2025) |
| EndedAt: 2025-10-31 20:39:39 -0400 (Fri, 31 Oct 2025) |
| EllapsedTime: 29.4 seconds |
| RetCode: 0 |
| Status: OK |
| CheckDir: metabinR.Rcheck |
| Warnings: 0 |
##############################################################################
##############################################################################
###
### Running command:
###
### /Library/Frameworks/R.framework/Resources/bin/R CMD check --install=check:metabinR.install-out.txt --library=/Library/Frameworks/R.framework/Resources/library --no-vignettes --timings metabinR_1.12.0.tar.gz
###
##############################################################################
##############################################################################
* using log directory ‘/Users/biocbuild/bbs-3.22-bioc/meat/metabinR.Rcheck’
* using R version 4.5.1 Patched (2025-09-10 r88807)
* using platform: aarch64-apple-darwin20
* R was compiled by
Apple clang version 16.0.0 (clang-1600.0.26.6)
GNU Fortran (GCC) 14.2.0
* running under: macOS Ventura 13.7.7
* using session charset: UTF-8
* using option ‘--no-vignettes’
* checking for file ‘metabinR/DESCRIPTION’ ... OK
* checking extension type ... Package
* this is package ‘metabinR’ version ‘1.12.0’
* package encoding: UTF-8
* checking package namespace information ... OK
* checking package dependencies ... OK
* checking if this is a source package ... OK
* checking if there is a namespace ... OK
* checking for hidden files and directories ... OK
* checking for portable file names ... OK
* checking for sufficient/correct file permissions ... OK
* checking whether package ‘metabinR’ can be installed ... OK
* checking installed package size ... OK
* checking package directory ... OK
* checking ‘build’ directory ... OK
* checking DESCRIPTION meta-information ... OK
* checking top-level files ... OK
* checking for left-over files ... OK
* checking index information ... OK
* checking package subdirectories ... OK
* checking code files for non-ASCII characters ... OK
* checking R files for syntax errors ... OK
* checking whether the package can be loaded ... OK
* checking whether the package can be loaded with stated dependencies ... OK
* checking whether the package can be unloaded cleanly ... OK
* checking whether the namespace can be loaded with stated dependencies ... OK
* checking whether the namespace can be unloaded cleanly ... OK
* checking whether startup messages can be suppressed ... OK
* checking dependencies in R code ... OK
* checking S3 generic/method consistency ... OK
* checking replacement functions ... OK
* checking foreign function calls ... OK
* checking R code for possible problems ... OK
* checking Rd files ... OK
* checking Rd metadata ... OK
* checking Rd cross-references ... OK
* checking for missing documentation entries ... OK
* checking for code/documentation mismatches ... OK
* checking Rd \usage sections ... OK
* checking Rd contents ... OK
* checking for unstated dependencies in examples ... OK
* checking files in ‘vignettes’ ... OK
* checking examples ... OK
* checking for unstated dependencies in ‘tests’ ... OK
* checking tests ...
Running ‘spelling.R’
Running ‘testthat.R’
OK
* checking for unstated dependencies in vignettes ... OK
* checking package vignettes ... OK
* checking running R code from vignettes ... SKIPPED
* checking re-building of vignette outputs ... SKIPPED
* checking PDF version of manual ... OK
* DONE
Status: OK
metabinR.Rcheck/00install.out
############################################################################## ############################################################################## ### ### Running command: ### ### /Library/Frameworks/R.framework/Resources/bin/R CMD INSTALL metabinR ### ############################################################################## ############################################################################## * installing to library ‘/Library/Frameworks/R.framework/Versions/4.5-arm64/Resources/library’ * installing *source* package ‘metabinR’ ... ** this is package ‘metabinR’ version ‘1.12.0’ ** using staged installation ** R ** inst ** byte-compile and prepare package for lazy loading ** help *** installing help indices ** building package indices ** installing vignettes ** testing if installed package can be loaded from temporary location ** testing if installed package can be loaded from final location ** testing if installed package keeps a record of temporary installation path * DONE (metabinR)
metabinR.Rcheck/tests/spelling.Rout
R version 4.5.1 Patched (2025-09-10 r88807) -- "Great Square Root"
Copyright (C) 2025 The R Foundation for Statistical Computing
Platform: aarch64-apple-darwin20
R is free software and comes with ABSOLUTELY NO WARRANTY.
You are welcome to redistribute it under certain conditions.
Type 'license()' or 'licence()' for distribution details.
R is a collaborative project with many contributors.
Type 'contributors()' for more information and
'citation()' on how to cite R or R packages in publications.
Type 'demo()' for some demos, 'help()' for on-line help, or
'help.start()' for an HTML browser interface to help.
Type 'q()' to quit R.
> if(requireNamespace('spelling', quietly = TRUE))
+ spelling::spell_check_test(vignettes = TRUE, error = FALSE,
+ skip_on_cran = TRUE)
All Done!
>
> proc.time()
user system elapsed
0.068 0.018 0.083
metabinR.Rcheck/tests/testthat.Rout
R version 4.5.1 Patched (2025-09-10 r88807) -- "Great Square Root"
Copyright (C) 2025 The R Foundation for Statistical Computing
Platform: aarch64-apple-darwin20
R is free software and comes with ABSOLUTELY NO WARRANTY.
You are welcome to redistribute it under certain conditions.
Type 'license()' or 'licence()' for distribution details.
R is a collaborative project with many contributors.
Type 'contributors()' for more information and
'citation()' on how to cite R or R packages in publications.
Type 'demo()' for some demos, 'help()' for on-line help, or
'help.start()' for an HTML browser interface to help.
Type 'q()' to quit R.
> library(testthat)
> library(metabinR)
>
> test_check("metabinR")
version MTxAB =Fri Oct 31 15:05:28 EDT 2025
cpus=24
using=1
2025/10/31 20:39:25 Using Dictionary ORIGINAL
2025/10/31 20:39:25 START of AB Counting
2025/10/31 20:39:25 FastaManager: START READ
2025/10/31 20:39:25 SequenceProcessor: 0 AB_KMERCOUNT START
CHUNK_SIZE=67108864
2025/10/31 20:39:25 FastaManager: lines read 53328
2025/10/31 20:39:25 FastaManager: END READ
2025/10/31 20:39:25 FastaManager: FASTA
2025/10/31 20:39:26 SequenceProcessor: 0 AB_KMERCOUNT EXIT
2025/10/31 20:39:26 END of AB Counting
2025/10/31 20:39:26 Loaded sequences: 26664
2025/10/31 20:39:26 Total kmers(before remove): 65536
##### Heap utilization statistics [GB] #####
Max Memory=0.5
Current Total Memory=0.5
Current Used Memory=0.283
Current Free Memory=0.217
############################################
2025/10/31 20:39:26
Unique: 0
Distinct: 65536
Total: 7625904
MaxCount: 1574
2025/10/31 20:39:26 START of EMsync
Run=1
Run=2
Run=3
Run=4
Run=5
Run=6
Run=7
Run=8
Run=9
Run=10
Run=11
Run=12
Run=13
Run=14
Run=15
Run=16
Run=17
Run=18
Run=19
Run=20
Run=21
Run=22
Run=23
Run=24
Run=25
2025/10/31 20:39:26 Runs=25
2025/10/31 20:39:26 END of EMsync
2025/10/31 20:39:26 START of Creating AB Cluster Vectors
Cluster 1 Abundance=241.01134335779187 Length=16168.173737759447 LowLimit=163 HighLimit=318
Cluster 2 Abundance=75.538888587297 Length=49367.82626224055 LowLimit=32 HighLimit=118
2025/10/31 20:39:26 Trove size/4=18022
2025/10/31 20:39:26 Trove size/4=18022
2025/10/31 20:39:26 Cluster 1 size in kmers=65536 norm=126.50589485137961
2025/10/31 20:39:26 Cluster 2 size in kmers=65536 norm=221.81983091435748
2025/10/31 20:39:26 END of Creating AB Cluster Vectors
cpus=24
using=1
2025/10/31 20:39:26 START of AB Binning
2025/10/31 20:39:26 FastaManager: START READ
2025/10/31 20:39:26 SequenceProcessor: 0 AB_BINNING START
2025/10/31 20:39:26 FastaManager: lines read 53328
2025/10/31 20:39:26 FastaManager: END READ
2025/10/31 20:39:26 FastaManager: FASTA
2025/10/31 20:39:27 SequenceProcessor: 0 AB_BINNING EXIT
2025/10/31 20:39:27 END of AB Binning
Clustered reads:
AB Cluster 1: 19871
AB Cluster 2: 6793
##### Heap utilization statistics [GB] #####
Max Memory=0.5
Current Total Memory=0.5
Current Used Memory=0.366
Current Free Memory=0.134
############################################
version MTxCB =Fri Oct 31 15:05:28 EDT 2025
cpus=24
using=1
2025/10/31 20:39:27 START of CB Counting
2025/10/31 20:39:27 FastaManager: START READ
2025/10/31 20:39:27 SequenceProcessor: 0 CB_SEQUENCEVECTORBUILD START
2025/10/31 20:39:27 FastaManager: lines read 53328
2025/10/31 20:39:27 FastaManager: END READ
2025/10/31 20:39:27 FastaManager: FASTA
2025/10/31 20:39:28 SequenceProcessor: 0 CB_SEQUENCEVECTORBUILD EXIT
2025/10/31 20:39:28 END of CB Counting
2025/10/31 20:39:28 Loaded sequences: 26664
##### Heap utilization statistics [GB] #####
Max Memory=0.5
Current Total Memory=0.5
Current Used Memory=0.378
Current Free Memory=0.122
############################################
cpus=24
using=1
2025/10/31 20:39:28 START of Creating CB Clusters Size=26664
K-Means clustering started
... centers initialized
... concurrent processing mode with 1 subtask threads
... iteration 1 moves = 4655
... iteration 2 moves = 2400
... iteration 3 moves = 1349
... iteration 4 moves = 754
... iteration 5 moves = 480
... iteration 6 moves = 337
... iteration 7 moves = 272
... iteration 8 moves = 251
... iteration 9 moves = 193
... iteration 10 moves = 117
... iteration 11 moves = 129
... iteration 12 moves = 141
... iteration 13 moves = 107
... iteration 14 moves = 143
... iteration 15 moves = 149
... iteration 16 moves = 112
... iteration 17 moves = 102
... iteration 18 moves = 86
... iteration 19 moves = 49
... iteration 20 moves = 50
... iteration 21 moves = 48
... iteration 22 moves = 37
... iteration 23 moves = 24
... iteration 24 moves = 23
... iteration 25 moves = 24
...end. 3.423 seconds.
2025/10/31 20:39:31 : kMeans cleanup.
2025/10/31 20:39:31 END of Creating CB Clusters.
cpus=24
using=1
2025/10/31 20:39:31 START of CB Binning
2025/10/31 20:39:31 FastaManager: START READ
2025/10/31 20:39:31 SequenceProcessor: 0 CB_BINNING START
2025/10/31 20:39:31 FastaManager: lines read 53328
2025/10/31 20:39:31 FastaManager: END READ
2025/10/31 20:39:31 FastaManager: FASTA
2025/10/31 20:39:31 SequenceProcessor: 0 CB_BINNING EXIT
Clustered reads:
CB Cluster 1: 7042
CB Cluster 2: 19622
##### Heap utilization statistics [GB] #####
Max Memory=0.5
Current Total Memory=0.5
Current Used Memory=0.479
Current Free Memory=0.021
############################################
version MTxABxCB =Fri Oct 31 15:05:28 EDT 2025
cpus=24
using=1
2025/10/31 20:39:31 Using Dictionary ORIGINAL
2025/10/31 20:39:31 START of AB Counting
2025/10/31 20:39:31 FastaManager: START READ
2025/10/31 20:39:31 SequenceProcessor: 0 AB_KMERCOUNT START
2025/10/31 20:39:31 FastaManager: lines read 53328
2025/10/31 20:39:31 FastaManager: END READ
2025/10/31 20:39:31 FastaManager: FASTA
2025/10/31 20:39:32 SequenceProcessor: 0 AB_KMERCOUNT EXIT
2025/10/31 20:39:32 END of AB Counting
2025/10/31 20:39:32 Loaded sequences: 26664
2025/10/31 20:39:32 Distinct kmers(before remove): 65536
##### Heap utilization statistics [GB] #####
Max Memory=0.5
Current Total Memory=0.5
Current Used Memory=0.239
Current Free Memory=0.261
############################################
2025/10/31 20:39:32
Unique: 0
Distinct: 65536
Total: 7625904
MaxCount: 1574
2025/10/31 20:39:32 START of EMsync
Run=1
Run=2
Run=3
Run=4
Run=5
Run=6
Run=7
Run=8
Run=9
Run=10
Run=11
Run=12
Run=13
Run=14
Run=15
Run=16
Run=17
Run=18
Run=19
Run=20
Run=21
Run=22
Run=23
Run=24
Run=25
2025/10/31 20:39:32 Runs=25
2025/10/31 20:39:32 END of EMsync
2025/10/31 20:39:32 Filter before=2
2025/10/31 20:39:32 Filter after=2
2025/10/31 20:39:32 START of Creating AB Cluster Vectors
Cluster 1 Abundance=241.01134335779187 Length=16168.173737759447 LowLimit=163 HighLimit=318
Cluster 2 Abundance=75.538888587297 Length=49367.82626224055 LowLimit=32 HighLimit=118
2025/10/31 20:39:32 Trove size/4=18022
2025/10/31 20:39:32 Trove size/4=18022
2025/10/31 20:39:32 Cluster 2 size in kmers=65536 norm=221.81983091435748
2025/10/31 20:39:32 Cluster 1 size in kmers=65536 norm=126.50589485137961
2025/10/31 20:39:32 END of Creating AB Cluster Vectors
cpus=24
using=1
2025/10/31 20:39:32 START of AB Binning
2025/10/31 20:39:32 FastaManager: START READ
2025/10/31 20:39:32 SequenceProcessor: 0 AB_BINNING START
2025/10/31 20:39:32 FastaManager: lines read 53328
2025/10/31 20:39:32 FastaManager: END READ
2025/10/31 20:39:32 FastaManager: FASTA
2025/10/31 20:39:33 SequenceProcessor: 0 AB_BINNING EXIT
2025/10/31 20:39:33 END of AB Binning
cpus=24
using=1
2025/10/31 20:39:33 START of CB Counting
2025/10/31 20:39:33 FastaManager: START READ
2025/10/31 20:39:33 SequenceProcessor: 0 CB_SEQUENCEVECTORBUILD START
2025/10/31 20:39:33 FastaManager: lines read 53328
2025/10/31 20:39:33 FastaManager: END READ
2025/10/31 20:39:33 FastaManager: FASTA
2025/10/31 20:39:33 SequenceProcessor: 0 CB_SEQUENCEVECTORBUILD EXIT
2025/10/31 20:39:33 END of CB Counting
2025/10/31 20:39:33 Loaded sequences: 26664
##### Heap utilization statistics [GB] #####
Max Memory=0.5
Current Total Memory=0.5
Current Used Memory=0.316
Current Free Memory=0.184
############################################
2025/10/31 20:39:33 AB Cluster=1 Size=19871
2025/10/31 20:39:33 AB Cluster=2 Size=6793
cpus=24
using=1
ABid size abundance EMLength newLength EMspecies newspecies
----- ---- --------- -------- --------- --------- ----------
1 19,871 241.01134 16,168 12,367 1 1
2025/10/31 20:39:33 START of Creating CB Clusters for AB Cluster=1 Size=19871
K-Means clustering started
... centers initialized
... concurrent processing mode with 1 subtask threads
... iteration 1 moves = 0
...end. 1.184 seconds.
2025/10/31 20:39:35 : kMeans cleanup.
2025/10/31 20:39:35 END of Creating CB Clusters for AB Cluster=1
cpus=24
using=1
ABid size abundance EMLength newLength EMspecies newspecies
----- ---- --------- -------- --------- --------- ----------
2 6,793 75.53889 49,367 13,489 1 1
2025/10/31 20:39:35 START of Creating CB Clusters for AB Cluster=2 Size=6793
K-Means clustering started
... centers initialized
... concurrent processing mode with 1 subtask threads
... iteration 1 moves = 0
...end. 0.415 seconds.
2025/10/31 20:39:35 : kMeans cleanup.
2025/10/31 20:39:35 END of Creating CB Clusters for AB Cluster=2
##### Heap utilization statistics [GB] #####
Max Memory=0.5
Current Total Memory=0.5
Current Used Memory=0.275
Current Free Memory=0.225
############################################
cpus=24
using=1
2025/10/31 20:39:35 START of CB Binning
2025/10/31 20:39:35 FastaManager: START READ
2025/10/31 20:39:35 SequenceProcessor: 0 CB_BINNING START
2025/10/31 20:39:35 FastaManager: lines read 53328
2025/10/31 20:39:35 FastaManager: END READ
2025/10/31 20:39:35 FastaManager: FASTA
2025/10/31 20:39:35 SequenceProcessor: 0 CB_BINNING EXIT
Clustered reads:
ABxCB Cluster 1: 19871
ABxCB Cluster 2: 6793
##### Heap utilization statistics [GB] #####
Max Memory=0.5
Current Total Memory=0.5
Current Used Memory=0.451
Current Free Memory=0.049
############################################
[ FAIL 0 | WARN 0 | SKIP 0 | PASS 52 ]
>
> proc.time()
user system elapsed
13.603 0.540 10.290
metabinR.Rcheck/metabinR-Ex.timings
| name | user | system | elapsed | |
| abundance_based_binning | 3.331 | 0.395 | 2.387 | |
| composition_based_binning | 2.178 | 0.282 | 0.955 | |
| hierarchical_binning | 2.037 | 0.200 | 1.669 | |