Back to Multiple platform build/check report for BioC 3.22:   simplified   long
ABCDEFGHIJKL[M]NOPQRSTUVWXYZ

This page was generated on 2025-10-31 12:03 -0400 (Fri, 31 Oct 2025).

HostnameOSArch (*)R versionInstalled pkgs
nebbiolo2Linux (Ubuntu 24.04.3 LTS)x86_644.5.1 Patched (2025-08-23 r88802) -- "Great Square Root" 4901
lconwaymacOS 12.7.6 Montereyx86_644.5.1 Patched (2025-09-10 r88807) -- "Great Square Root" 4691
kjohnson3macOS 13.7.7 Venturaarm644.5.1 Patched (2025-09-10 r88807) -- "Great Square Root" 4637
Click on any hostname to see more info about the system (e.g. compilers)      (*) as reported by 'uname -p', except on Windows and Mac OS X

Package 1195/2361HostnameOS / ArchINSTALLBUILDCHECKBUILD BIN
maSigPro 1.82.0  (landing page)
Maria Jose Nueda
Snapshot Date: 2025-10-30 13:45 -0400 (Thu, 30 Oct 2025)
git_url: https://git.bioconductor.org/packages/maSigPro
git_branch: RELEASE_3_22
git_last_commit: a7bf8e2
git_last_commit_date: 2025-10-29 09:57:06 -0400 (Wed, 29 Oct 2025)
nebbiolo2Linux (Ubuntu 24.04.3 LTS) / x86_64  OK    OK    OK  UNNEEDED, same version is already published
lconwaymacOS 12.7.6 Monterey / x86_64  OK    OK    OK    OK  UNNEEDED, same version is already published
kjohnson3macOS 13.7.7 Ventura / arm64  OK    OK    OK    OK  UNNEEDED, same version is already published


CHECK results for maSigPro on nebbiolo2

To the developers/maintainers of the maSigPro package:
- Allow up to 24 hours (and sometimes 48 hours) for your latest push to git@git.bioconductor.org:packages/maSigPro.git to reflect on this report. See Troubleshooting Build Report for more information.
- Use the following Renviron settings to reproduce errors and warnings.
- If 'R CMD check' started to fail recently on the Linux builder(s) over a missing dependency, add the missing dependency to 'Suggests:' in your DESCRIPTION file. See Renviron.bioc for more information.

raw results


Summary

Package: maSigPro
Version: 1.82.0
Command: /home/biocbuild/bbs-3.22-bioc/R/bin/R CMD check --install=check:maSigPro.install-out.txt --library=/home/biocbuild/bbs-3.22-bioc/R/site-library --timings maSigPro_1.82.0.tar.gz
StartedAt: 2025-10-31 01:01:30 -0400 (Fri, 31 Oct 2025)
EndedAt: 2025-10-31 01:03:48 -0400 (Fri, 31 Oct 2025)
EllapsedTime: 138.2 seconds
RetCode: 0
Status:   OK  
CheckDir: maSigPro.Rcheck
Warnings: 0

Command output

##############################################################################
##############################################################################
###
### Running command:
###
###   /home/biocbuild/bbs-3.22-bioc/R/bin/R CMD check --install=check:maSigPro.install-out.txt --library=/home/biocbuild/bbs-3.22-bioc/R/site-library --timings maSigPro_1.82.0.tar.gz
###
##############################################################################
##############################################################################


* using log directory ‘/home/biocbuild/bbs-3.22-bioc/meat/maSigPro.Rcheck’
* using R version 4.5.1 Patched (2025-08-23 r88802)
* using platform: x86_64-pc-linux-gnu
* R was compiled by
    gcc (Ubuntu 13.3.0-6ubuntu2~24.04) 13.3.0
    GNU Fortran (Ubuntu 13.3.0-6ubuntu2~24.04) 13.3.0
* running under: Ubuntu 24.04.3 LTS
* using session charset: UTF-8
* checking for file ‘maSigPro/DESCRIPTION’ ... OK
* checking extension type ... Package
* this is package ‘maSigPro’ version ‘1.82.0’
* checking package namespace information ... OK
* checking package dependencies ... OK
* checking if this is a source package ... OK
* checking if there is a namespace ... OK
* checking for hidden files and directories ... OK
* checking for portable file names ... OK
* checking for sufficient/correct file permissions ... OK
* checking whether package ‘maSigPro’ can be installed ... OK
* checking installed package size ... OK
* checking package directory ... OK
* checking ‘build’ directory ... OK
* checking DESCRIPTION meta-information ... OK
* checking top-level files ... OK
* checking for left-over files ... OK
* checking index information ... OK
* checking package subdirectories ... OK
* checking code files for non-ASCII characters ... OK
* checking R files for syntax errors ... OK
* checking whether the package can be loaded ... OK
* checking whether the package can be loaded with stated dependencies ... OK
* checking whether the package can be unloaded cleanly ... OK
* checking whether the namespace can be loaded with stated dependencies ... OK
* checking whether the namespace can be unloaded cleanly ... OK
* checking loading without being on the library search path ... OK
* checking dependencies in R code ... OK
* checking S3 generic/method consistency ... OK
* checking replacement functions ... OK
* checking foreign function calls ... OK
* checking R code for possible problems ... OK
* checking Rd files ... OK
* checking Rd metadata ... OK
* checking Rd cross-references ... OK
* checking for missing documentation entries ... OK
* checking for code/documentation mismatches ... OK
* checking Rd \usage sections ... OK
* checking Rd contents ... OK
* checking for unstated dependencies in examples ... OK
* checking contents of ‘data’ directory ... OK
* checking data for non-ASCII characters ... OK
* checking data for ASCII and uncompressed saves ... OK
* checking installed files from ‘inst/doc’ ... OK
* checking files in ‘vignettes’ ... OK
* checking examples ... OK
Examples with CPU (user + system) or elapsed time > 5s
                user system elapsed
getDS         11.404  0.003  11.408
getDSPatterns 11.217  0.120  11.339
ISOdata       10.487  0.049  10.537
PodiumChange  10.529  0.001  10.531
IsoModel      10.496  0.000  10.496
ISOdesign     10.441  0.000  10.442
seeDS         10.352  0.018  10.370
tableDS       10.336  0.005  10.340
IsoPlot       10.245  0.000  10.246
* checking for unstated dependencies in vignettes ... OK
* checking package vignettes ... OK
* checking re-building of vignette outputs ... OK
* checking PDF version of manual ... OK
* DONE

Status: OK


Installation output

maSigPro.Rcheck/00install.out

##############################################################################
##############################################################################
###
### Running command:
###
###   /home/biocbuild/bbs-3.22-bioc/R/bin/R CMD INSTALL maSigPro
###
##############################################################################
##############################################################################


* installing to library ‘/home/biocbuild/bbs-3.22-bioc/R/site-library’
* installing *source* package ‘maSigPro’ ...
** this is package ‘maSigPro’ version ‘1.82.0’
** using staged installation
** R
** data
** inst
** byte-compile and prepare package for lazy loading
** help
*** installing help indices
** building package indices
** installing vignettes
** testing if installed package can be loaded from temporary location
** testing if installed package can be loaded from final location
** testing if installed package keeps a record of temporary installation path
* DONE (maSigPro)

Tests output


Example timings

maSigPro.Rcheck/maSigPro-Ex.timings

nameusersystemelapsed
ISOdata10.487 0.04910.537
ISOdesign10.441 0.00010.442
IsoModel10.496 0.00010.496
IsoPlot10.245 0.00010.246
NBdata0.0010.0000.001
NBdesign0.0010.0000.000
PlotGroups0.0260.0000.025
PlotProfiles0.0040.0000.003
PodiumChange10.529 0.00110.531
T.fit4.770.004.77
average.rows0.0020.0000.002
data.abiotic0.0030.0000.003
edesign.abiotic0.0010.0000.002
edesignCT0.0000.0000.001
edesignDR0.0000.0000.001
get.siggenes2.3720.0002.373
getDS11.404 0.00311.408
getDSPatterns11.217 0.12011.339
i.rank000
maSigProUsersGuide0.0010.0010.003
make.design.matrix0.0000.0040.005
p.vector1.4210.0281.448
position000
reg.coeffs000
see.genes0.4840.0150.499
seeDS10.352 0.01810.370
stepback0.0190.0000.019
stepfor0.0810.0000.080
suma2Venn0.0150.0010.017
tableDS10.336 0.00510.340
two.ways.stepback0.0660.0000.066
two.ways.stepfor0.0880.0000.088