| Back to Multiple platform build/check report for BioC 3.21: simplified long |
|
This page was generated on 2025-04-22 13:18 -0400 (Tue, 22 Apr 2025).
| Hostname | OS | Arch (*) | R version | Installed pkgs |
|---|---|---|---|---|
| nebbiolo1 | Linux (Ubuntu 24.04.1 LTS) | x86_64 | 4.5.0 RC (2025-04-04 r88126) -- "How About a Twenty-Six" | 4831 |
| palomino7 | Windows Server 2022 Datacenter | x64 | 4.5.0 RC (2025-04-04 r88126 ucrt) -- "How About a Twenty-Six" | 4573 |
| lconway | macOS 12.7.1 Monterey | x86_64 | 4.5.0 RC (2025-04-04 r88126) -- "How About a Twenty-Six" | 4599 |
| kjohnson3 | macOS 13.7.1 Ventura | arm64 | 4.5.0 RC (2025-04-04 r88126) -- "How About a Twenty-Six" | 4553 |
| kunpeng2 | Linux (openEuler 24.03 LTS) | aarch64 | R Under development (unstable) (2025-02-19 r87757) -- "Unsuffered Consequences" | 4570 |
| Click on any hostname to see more info about the system (e.g. compilers) (*) as reported by 'uname -p', except on Windows and Mac OS X | ||||
| Package 1149/2341 | Hostname | OS / Arch | INSTALL | BUILD | CHECK | BUILD BIN | ||||||||
| lute 1.4.0 (landing page) Sean K Maden
| nebbiolo1 | Linux (Ubuntu 24.04.1 LTS) / x86_64 | OK | OK | OK | |||||||||
| palomino7 | Windows Server 2022 Datacenter / x64 | OK | OK | OK | OK | |||||||||
| lconway | macOS 12.7.1 Monterey / x86_64 | OK | OK | OK | OK | |||||||||
| kjohnson3 | macOS 13.7.1 Ventura / arm64 | OK | OK | OK | OK | |||||||||
| kunpeng2 | Linux (openEuler 24.03 LTS) / aarch64 | OK | OK | OK | ||||||||||
|
To the developers/maintainers of the lute package: - Allow up to 24 hours (and sometimes 48 hours) for your latest push to git@git.bioconductor.org:packages/lute.git to reflect on this report. See Troubleshooting Build Report for more information. - Use the following Renviron settings to reproduce errors and warnings. - If 'R CMD check' started to fail recently on the Linux builder(s) over a missing dependency, add the missing dependency to 'Suggests:' in your DESCRIPTION file. See Renviron.bioc for more information. |
| Package: lute |
| Version: 1.4.0 |
| Command: /Library/Frameworks/R.framework/Resources/bin/R CMD check --install=check:lute.install-out.txt --library=/Library/Frameworks/R.framework/Resources/library --no-vignettes --timings lute_1.4.0.tar.gz |
| StartedAt: 2025-04-21 20:05:14 -0400 (Mon, 21 Apr 2025) |
| EndedAt: 2025-04-21 20:06:34 -0400 (Mon, 21 Apr 2025) |
| EllapsedTime: 80.2 seconds |
| RetCode: 0 |
| Status: OK |
| CheckDir: lute.Rcheck |
| Warnings: 0 |
##############################################################################
##############################################################################
###
### Running command:
###
### /Library/Frameworks/R.framework/Resources/bin/R CMD check --install=check:lute.install-out.txt --library=/Library/Frameworks/R.framework/Resources/library --no-vignettes --timings lute_1.4.0.tar.gz
###
##############################################################################
##############################################################################
* using log directory ‘/Users/biocbuild/bbs-3.21-bioc/meat/lute.Rcheck’
* using R version 4.5.0 RC (2025-04-04 r88126)
* using platform: aarch64-apple-darwin20
* R was compiled by
Apple clang version 14.0.0 (clang-1400.0.29.202)
GNU Fortran (GCC) 14.2.0
* running under: macOS Ventura 13.7.1
* using session charset: UTF-8
* using option ‘--no-vignettes’
* checking for file ‘lute/DESCRIPTION’ ... OK
* this is package ‘lute’ version ‘1.4.0’
* package encoding: UTF-8
* checking package namespace information ... OK
* checking package dependencies ... OK
* checking if this is a source package ... OK
* checking if there is a namespace ... OK
* checking for hidden files and directories ... OK
* checking for portable file names ... OK
* checking for sufficient/correct file permissions ... OK
* checking whether package ‘lute’ can be installed ... OK
* checking installed package size ... OK
* checking package directory ... OK
* checking ‘build’ directory ... OK
* checking DESCRIPTION meta-information ... OK
* checking top-level files ... OK
* checking for left-over files ... NOTE
The following files look like leftovers:
‘lute/NEWS.Rd’
Please remove them from your package.
* checking index information ... OK
* checking package subdirectories ... OK
* checking code files for non-ASCII characters ... OK
* checking R files for syntax errors ... OK
* checking whether the package can be loaded ... OK
* checking whether the package can be loaded with stated dependencies ... OK
* checking whether the package can be unloaded cleanly ... OK
* checking whether the namespace can be loaded with stated dependencies ... OK
* checking whether the namespace can be unloaded cleanly ... OK
* checking dependencies in R code ... NOTE
Namespace in Imports field not imported from: ‘ggplot2’
All declared Imports should be used.
* checking S3 generic/method consistency ... OK
* checking replacement functions ... OK
* checking foreign function calls ... OK
* checking R code for possible problems ... OK
* checking Rd files ... OK
* checking Rd metadata ... OK
* checking Rd cross-references ... NOTE
Found the following Rd file(s) with Rd \link{} targets missing package
anchors:
lute.Rd: SummarizedExperiment-class
nnlsParam.Rd: ExpressionSet-class
ypb_from_sce.Rd: SingleCellExperiment-class
z_matrix_from_sce.Rd: SingleCellExperiment-class
Please provide package anchors for all Rd \link{} targets not in the
package itself and the base packages.
* checking for missing documentation entries ... OK
* checking for code/documentation mismatches ... OK
* checking Rd \usage sections ... OK
* checking Rd contents ... OK
* checking for unstated dependencies in examples ... OK
* checking files in ‘vignettes’ ... OK
* checking examples ... OK
* checking for unstated dependencies in vignettes ... OK
* checking package vignettes ... OK
* checking running R code from vignettes ... SKIPPED
* checking re-building of vignette outputs ... SKIPPED
* checking PDF version of manual ... OK
* DONE
Status: 3 NOTEs
See
‘/Users/biocbuild/bbs-3.21-bioc/meat/lute.Rcheck/00check.log’
for details.
lute.Rcheck/00install.out
############################################################################## ############################################################################## ### ### Running command: ### ### /Library/Frameworks/R.framework/Resources/bin/R CMD INSTALL lute ### ############################################################################## ############################################################################## * installing to library ‘/Library/Frameworks/R.framework/Versions/4.5-arm64/Resources/library’ * installing *source* package ‘lute’ ... ** this is package ‘lute’ version ‘1.4.0’ ** using staged installation ** R ** inst ** byte-compile and prepare package for lazy loading ** help *** installing help indices ** building package indices ** installing vignettes ** testing if installed package can be loaded from temporary location ** testing if installed package can be loaded from final location ** testing if installed package keeps a record of temporary installation path * DONE (lute)
lute.Rcheck/lute-Ex.timings
| name | user | system | elapsed | |
| bisqueParam-class | 1.269 | 0.051 | 1.322 | |
| bisqueParam | 0.711 | 0.048 | 0.759 | |
| cellProportionsPredictions-class | 0.006 | 0.001 | 0.006 | |
| cellProportionsPredictions | 0.001 | 0.000 | 0.000 | |
| deconvolution-bisqueParam-method | 0.710 | 0.049 | 0.769 | |
| deconvolution-deconvolutionParam-method | 0 | 0 | 0 | |
| deconvolution-independentbulkParam-method | 0 | 0 | 0 | |
| deconvolution-nnlsParam-method | 0.004 | 0.000 | 0.005 | |
| deconvolution-referencebasedParam-method | 0.001 | 0.000 | 0.001 | |
| deconvolution | 0.001 | 0.000 | 0.001 | |
| deconvolutionParam-class | 0 | 0 | 0 | |
| eset_to_sce | 0.181 | 0.004 | 0.184 | |
| eset_to_se | 0.159 | 0.003 | 0.162 | |
| findmarkersParam-class | 0.220 | 0.017 | 0.237 | |
| findmarkersParam | 0.154 | 0.001 | 0.155 | |
| getDeconvolutionExampleData | 0 | 0 | 0 | |
| getDeconvolutionExampleDataBisque | 0.157 | 0.002 | 0.160 | |
| getDeconvolutionExampleDataSCDC | 0.031 | 0.001 | 0.031 | |
| get_celltypes_from_sce | 0 | 0 | 0 | |
| get_csf_reference | 0 | 0 | 0 | |
| get_eset_from_matrix | 0.001 | 0.000 | 0.001 | |
| independentbulkParam-class | 0 | 0 | 0 | |
| independentbulkParam | 0 | 0 | 0 | |
| lute | 0.034 | 0.000 | 0.034 | |
| luteSupportedDeconvolutionAlgorithms | 0.002 | 0.000 | 0.003 | |
| new_workflow_table | 0.000 | 0.000 | 0.001 | |
| nnlsParam-class | 0.001 | 0.000 | 0.002 | |
| nnlsParam | 0.002 | 0.000 | 0.001 | |
| parseDeconvolutionPredictionsResults | 0 | 0 | 0 | |
| proportionsVectorsList | 0 | 0 | 0 | |
| randomMarkersVectorsList | 0.000 | 0.001 | 0.001 | |
| randomSingleCellExperiment | 0.016 | 0.000 | 0.015 | |
| referenceFromSingleCellExperiment | 0 | 0 | 0 | |
| referencebasedParam-class | 0.001 | 0.000 | 0.001 | |
| referencebasedParam | 0.000 | 0.000 | 0.001 | |
| rmse | 0.001 | 0.000 | 0.000 | |
| rmseTest | 0.000 | 0.000 | 0.001 | |
| sce_to_eset | 0.025 | 0.001 | 0.025 | |
| sce_to_se | 0.021 | 0.000 | 0.021 | |
| se_to_eset | 0.028 | 0.001 | 0.028 | |
| se_to_sce | 0.026 | 0.000 | 0.026 | |
| show-bisqueParam-method | 0.183 | 0.005 | 0.188 | |
| show-cellProportionsPredictions-method | 0 | 0 | 0 | |
| show-deconvolutionParam-method | 0 | 0 | 0 | |
| show-findmarkersParam-method | 0.158 | 0.001 | 0.160 | |
| show-independentbulkParam-method | 0 | 0 | 0 | |
| show-nnlsParam-method | 0 | 0 | 0 | |
| show-referencebasedParam-method | 0 | 0 | 0 | |
| show-typemarkersParam-method | 0 | 0 | 0 | |
| sub-sub-deconvolutionParam-ANY-ANY-method | 0 | 0 | 0 | |
| sub-sub-typemarkersParam-ANY-ANY-method | 0 | 0 | 0 | |
| typemarkers-findmarkersParam-method | 0.153 | 0.001 | 0.161 | |
| typemarkers-typemarkersParam-method | 0 | 0 | 0 | |
| typemarkers | 0.000 | 0.001 | 0.000 | |
| typemarkersParam-class | 0.000 | 0.000 | 0.001 | |
| typemarkersParam | 0.001 | 0.000 | 0.000 | |
| ypb_from_sce | 0.022 | 0.000 | 0.022 | |
| z_matrix_from_sce | 0.019 | 0.000 | 0.019 | |