Back to Multiple platform build/check report for BioC 3.22:   simplified   long
ABCDEFGHIJK[L]MNOPQRSTUVWXYZ

This page was generated on 2025-11-05 12:40 -0500 (Wed, 05 Nov 2025).

HostnameOSArch (*)R versionInstalled pkgs
nebbiolo2Linux (Ubuntu 24.04.3 LTS)x86_644.5.1 Patched (2025-08-23 r88802) -- "Great Square Root" 4902
kjohnson3macOS 13.7.7 Venturaarm644.5.1 Patched (2025-09-10 r88807) -- "Great Square Root" 4638
Click on any hostname to see more info about the system (e.g. compilers)      (*) as reported by 'uname -p', except on Windows and Mac OS X

Package 1139/2361HostnameOS / ArchINSTALLBUILDCHECKBUILD BIN
limpca 1.6.0  (landing page)
Manon Martin
Snapshot Date: 2025-11-04 13:45 -0500 (Tue, 04 Nov 2025)
git_url: https://git.bioconductor.org/packages/limpca
git_branch: RELEASE_3_22
git_last_commit: 2c1edbe
git_last_commit_date: 2025-10-29 11:30:18 -0500 (Wed, 29 Oct 2025)
nebbiolo2Linux (Ubuntu 24.04.3 LTS) / x86_64  OK    OK    OK  UNNEEDED, same version is already published
kjohnson3macOS 13.7.7 Ventura / arm64  OK    OK    OK    OK  UNNEEDED, same version is already published


CHECK results for limpca on nebbiolo2

To the developers/maintainers of the limpca package:
- Allow up to 24 hours (and sometimes 48 hours) for your latest push to git@git.bioconductor.org:packages/limpca.git to reflect on this report. See Troubleshooting Build Report for more information.
- Use the following Renviron settings to reproduce errors and warnings.
- If 'R CMD check' started to fail recently on the Linux builder(s) over a missing dependency, add the missing dependency to 'Suggests:' in your DESCRIPTION file. See Renviron.bioc for more information.

raw results


Summary

Package: limpca
Version: 1.6.0
Command: /home/biocbuild/bbs-3.22-bioc/R/bin/R CMD check --install=check:limpca.install-out.txt --library=/home/biocbuild/bbs-3.22-bioc/R/site-library --timings limpca_1.6.0.tar.gz
StartedAt: 2025-11-05 00:57:35 -0500 (Wed, 05 Nov 2025)
EndedAt: 2025-11-05 01:03:45 -0500 (Wed, 05 Nov 2025)
EllapsedTime: 370.8 seconds
RetCode: 0
Status:   OK  
CheckDir: limpca.Rcheck
Warnings: 0

Command output

##############################################################################
##############################################################################
###
### Running command:
###
###   /home/biocbuild/bbs-3.22-bioc/R/bin/R CMD check --install=check:limpca.install-out.txt --library=/home/biocbuild/bbs-3.22-bioc/R/site-library --timings limpca_1.6.0.tar.gz
###
##############################################################################
##############################################################################


* using log directory ‘/home/biocbuild/bbs-3.22-bioc/meat/limpca.Rcheck’
* using R version 4.5.1 Patched (2025-08-23 r88802)
* using platform: x86_64-pc-linux-gnu
* R was compiled by
    gcc (Ubuntu 13.3.0-6ubuntu2~24.04) 13.3.0
    GNU Fortran (Ubuntu 13.3.0-6ubuntu2~24.04) 13.3.0
* running under: Ubuntu 24.04.3 LTS
* using session charset: UTF-8
* checking for file ‘limpca/DESCRIPTION’ ... OK
* checking extension type ... Package
* this is package ‘limpca’ version ‘1.6.0’
* package encoding: UTF-8
* checking package namespace information ... OK
* checking package dependencies ... OK
* checking if this is a source package ... OK
* checking if there is a namespace ... OK
* checking for hidden files and directories ... OK
* checking for portable file names ... OK
* checking for sufficient/correct file permissions ... OK
* checking whether package ‘limpca’ can be installed ... OK
* checking installed package size ... OK
* checking package directory ... OK
* checking ‘build’ directory ... OK
* checking DESCRIPTION meta-information ... OK
* checking top-level files ... OK
* checking for left-over files ... OK
* checking index information ... OK
* checking package subdirectories ... OK
* checking code files for non-ASCII characters ... OK
* checking R files for syntax errors ... OK
* checking whether the package can be loaded ... OK
* checking whether the package can be loaded with stated dependencies ... OK
* checking whether the package can be unloaded cleanly ... OK
* checking whether the namespace can be loaded with stated dependencies ... OK
* checking whether the namespace can be unloaded cleanly ... OK
* checking loading without being on the library search path ... OK
* checking dependencies in R code ... OK
* checking S3 generic/method consistency ... OK
* checking replacement functions ... OK
* checking foreign function calls ... OK
* checking R code for possible problems ... OK
* checking Rd files ... OK
* checking Rd metadata ... OK
* checking Rd cross-references ... OK
* checking for missing documentation entries ... OK
* checking for code/documentation mismatches ... OK
* checking Rd \usage sections ... OK
* checking Rd contents ... OK
* checking for unstated dependencies in examples ... OK
* checking contents of ‘data’ directory ... OK
* checking data for non-ASCII characters ... OK
* checking data for ASCII and uncompressed saves ... OK
* checking files in ‘vignettes’ ... OK
* checking examples ... OK
Examples with CPU (user + system) or elapsed time > 5s
                    user system elapsed
lmpBootstrapTests 14.771  2.758  12.700
lmpLoading1dPlot   5.410  0.063   5.473
plotDesign         5.121  0.123   5.249
* checking for unstated dependencies in ‘tests’ ... OK
* checking tests ...
  Running ‘testthat.R’
 OK
* checking for unstated dependencies in vignettes ... OK
* checking package vignettes ... OK
* checking re-building of vignette outputs ... OK
* checking PDF version of manual ... OK
* DONE

Status: OK


Installation output

limpca.Rcheck/00install.out

##############################################################################
##############################################################################
###
### Running command:
###
###   /home/biocbuild/bbs-3.22-bioc/R/bin/R CMD INSTALL limpca
###
##############################################################################
##############################################################################


* installing to library ‘/home/biocbuild/bbs-3.22-bioc/R/site-library’
* installing *source* package ‘limpca’ ...
** this is package ‘limpca’ version ‘1.6.0’
** using staged installation
** R
** data
** inst
** byte-compile and prepare package for lazy loading
** help
*** installing help indices
** building package indices
** installing vignettes
** testing if installed package can be loaded from temporary location
** testing if installed package can be loaded from final location
** testing if installed package keeps a record of temporary installation path
* DONE (limpca)

Tests output

limpca.Rcheck/tests/testthat.Rout


R version 4.5.1 Patched (2025-08-23 r88802) -- "Great Square Root"
Copyright (C) 2025 The R Foundation for Statistical Computing
Platform: x86_64-pc-linux-gnu

R is free software and comes with ABSOLUTELY NO WARRANTY.
You are welcome to redistribute it under certain conditions.
Type 'license()' or 'licence()' for distribution details.

R is a collaborative project with many contributors.
Type 'contributors()' for more information and
'citation()' on how to cite R or R packages in publications.

Type 'demo()' for some demos, 'help()' for on-line help, or
'help.start()' for an HTML browser interface to help.
Type 'q()' to quit R.

> # This file is part of the standard setup for testthat.
> # It is recommended that you do not modify it.
> #
> # Where should you do additional test configuration?
> # Learn more about the roles of various files in:
> # * https://r-pkgs.org/testing-design.html#sec-tests-files-overview
> # * https://testthat.r-lib.org/articles/special-files.html
> 
> library(testthat)
> library(limpca)
> 
> test_check("limpca")
| dim outcomes: 10x3
| formula: ~ factA + factB
| design variables (2): 
* factA (factor)
* factB (factor)
| dim outcomes: 10x3
| formula: ~ factA + factB
| design variables (2): 
* factA (factor)
* factB (factor)
| dim outcomes: 10x3
| formula: ~ factA + factB
| design variables (2): 
* factA (factor)
* factB (factor)
| dim outcomes: 10x3
| formula: ~ factA + factB
| design variables (2): 
* factA (factor)
* factB (factor)
| dim outcomes: 10x3
| formula: 
| design variables (2): 
* factA (factor)
* factB (factor)
[ FAIL 0 | WARN 0 | SKIP 0 | PASS 47 ]
> 
> proc.time()
   user  system elapsed 
  9.635   1.477  10.487 

Example timings

limpca.Rcheck/limpca-Ex.timings

nameusersystemelapsed
UCH0.0130.0000.013
data2lmpDataList0.2490.0030.252
lmpBootstrapTests14.771 2.75812.700
lmpContributions3.1311.1011.748
lmpEffectMatrices0.9310.0040.935
lmpEffectPlot1.9470.0181.965
lmpLoading1dPlot5.4100.0635.473
lmpLoading2dPlot2.9870.0052.992
lmpModelMatrix0.0050.0000.005
lmpPcaEffects0.8190.0140.833
lmpScorePlot1.4980.0051.503
lmpScoreScatterPlotM0.9400.0090.948
lmpScreePlot1.2470.0431.290
pcaBySvd0.0190.0000.019
pcaLoading1dPlot0.3830.0020.385
pcaLoading2dPlot2.1480.0042.152
pcaScorePlot0.7300.0390.769
pcaScreePlot0.2320.0070.239
plotDesign5.1210.1235.249
plotLine4.6960.2354.931
plotMeans3.1400.4243.563
plotScatter3.4560.1353.591
plotScatterM0.0600.0040.064
trout0.0010.0000.001