Back to Multiple platform build/check report for BioC 3.22:   simplified   long
ABCDEFGHIJK[L]MNOPQRSTUVWXYZ

This page was generated on 2025-11-01 12:04 -0400 (Sat, 01 Nov 2025).

HostnameOSArch (*)R versionInstalled pkgs
nebbiolo2Linux (Ubuntu 24.04.3 LTS)x86_644.5.1 Patched (2025-08-23 r88802) -- "Great Square Root" 4901
lconwaymacOS 12.7.6 Montereyx86_644.5.1 Patched (2025-09-10 r88807) -- "Great Square Root" 4691
kjohnson3macOS 13.7.7 Venturaarm644.5.1 Patched (2025-09-10 r88807) -- "Great Square Root" 4637
Click on any hostname to see more info about the system (e.g. compilers)      (*) as reported by 'uname -p', except on Windows and Mac OS X

Package 1139/2361HostnameOS / ArchINSTALLBUILDCHECKBUILD BIN
limpca 1.6.0  (landing page)
Manon Martin
Snapshot Date: 2025-10-31 13:45 -0400 (Fri, 31 Oct 2025)
git_url: https://git.bioconductor.org/packages/limpca
git_branch: RELEASE_3_22
git_last_commit: 2c1edbe
git_last_commit_date: 2025-10-29 11:30:18 -0400 (Wed, 29 Oct 2025)
nebbiolo2Linux (Ubuntu 24.04.3 LTS) / x86_64  OK    OK    OK  UNNEEDED, same version is already published
lconwaymacOS 12.7.6 Monterey / x86_64  OK    OK    OK    OK  UNNEEDED, same version is already published
kjohnson3macOS 13.7.7 Ventura / arm64  OK    OK    OK    OK  UNNEEDED, same version is already published


CHECK results for limpca on lconway

To the developers/maintainers of the limpca package:
- Allow up to 24 hours (and sometimes 48 hours) for your latest push to git@git.bioconductor.org:packages/limpca.git to reflect on this report. See Troubleshooting Build Report for more information.
- Use the following Renviron settings to reproduce errors and warnings.
- If 'R CMD check' started to fail recently on the Linux builder(s) over a missing dependency, add the missing dependency to 'Suggests:' in your DESCRIPTION file. See Renviron.bioc for more information.

raw results


Summary

Package: limpca
Version: 1.6.0
Command: /Library/Frameworks/R.framework/Resources/bin/R CMD check --install=check:limpca.install-out.txt --library=/Library/Frameworks/R.framework/Resources/library --no-vignettes --timings limpca_1.6.0.tar.gz
StartedAt: 2025-10-31 22:07:17 -0400 (Fri, 31 Oct 2025)
EndedAt: 2025-10-31 22:11:44 -0400 (Fri, 31 Oct 2025)
EllapsedTime: 266.7 seconds
RetCode: 0
Status:   OK  
CheckDir: limpca.Rcheck
Warnings: 0

Command output

##############################################################################
##############################################################################
###
### Running command:
###
###   /Library/Frameworks/R.framework/Resources/bin/R CMD check --install=check:limpca.install-out.txt --library=/Library/Frameworks/R.framework/Resources/library --no-vignettes --timings limpca_1.6.0.tar.gz
###
##############################################################################
##############################################################################


* using log directory ‘/Users/biocbuild/bbs-3.22-bioc/meat/limpca.Rcheck’
* using R version 4.5.1 Patched (2025-09-10 r88807)
* using platform: x86_64-apple-darwin20
* R was compiled by
    Apple clang version 14.0.0 (clang-1400.0.29.202)
    GNU Fortran (GCC) 14.2.0
* running under: macOS Monterey 12.7.6
* using session charset: UTF-8
* using option ‘--no-vignettes’
* checking for file ‘limpca/DESCRIPTION’ ... OK
* checking extension type ... Package
* this is package ‘limpca’ version ‘1.6.0’
* package encoding: UTF-8
* checking package namespace information ... OK
* checking package dependencies ... OK
* checking if this is a source package ... OK
* checking if there is a namespace ... OK
* checking for hidden files and directories ... OK
* checking for portable file names ... OK
* checking for sufficient/correct file permissions ... OK
* checking whether package ‘limpca’ can be installed ... OK
* checking installed package size ... OK
* checking package directory ... OK
* checking ‘build’ directory ... OK
* checking DESCRIPTION meta-information ... OK
* checking top-level files ... OK
* checking for left-over files ... OK
* checking index information ... OK
* checking package subdirectories ... OK
* checking code files for non-ASCII characters ... OK
* checking R files for syntax errors ... OK
* checking whether the package can be loaded ... OK
* checking whether the package can be loaded with stated dependencies ... OK
* checking whether the package can be unloaded cleanly ... OK
* checking whether the namespace can be loaded with stated dependencies ... OK
* checking whether the namespace can be unloaded cleanly ... OK
* checking dependencies in R code ... OK
* checking S3 generic/method consistency ... OK
* checking replacement functions ... OK
* checking foreign function calls ... OK
* checking R code for possible problems ... OK
* checking Rd files ... OK
* checking Rd metadata ... OK
* checking Rd cross-references ... OK
* checking for missing documentation entries ... OK
* checking for code/documentation mismatches ... OK
* checking Rd \usage sections ... OK
* checking Rd contents ... OK
* checking for unstated dependencies in examples ... OK
* checking contents of ‘data’ directory ... OK
* checking data for non-ASCII characters ... OK
* checking data for ASCII and uncompressed saves ... OK
* checking files in ‘vignettes’ ... OK
* checking examples ... OK
Examples with CPU (user + system) or elapsed time > 5s
                    user system elapsed
lmpBootstrapTests 17.644  4.620  15.089
lmpLoading1dPlot   5.799  0.064   5.876
plotDesign         5.309  0.061   5.391
plotLine           4.951  0.037   5.003
* checking for unstated dependencies in ‘tests’ ... OK
* checking tests ...
  Running ‘testthat.R’
 OK
* checking for unstated dependencies in vignettes ... OK
* checking package vignettes ... OK
* checking running R code from vignettes ... SKIPPED
* checking re-building of vignette outputs ... SKIPPED
* checking PDF version of manual ... OK
* DONE

Status: OK


Installation output

limpca.Rcheck/00install.out

##############################################################################
##############################################################################
###
### Running command:
###
###   /Library/Frameworks/R.framework/Resources/bin/R CMD INSTALL limpca
###
##############################################################################
##############################################################################


* installing to library ‘/Library/Frameworks/R.framework/Versions/4.5-x86_64/Resources/library’
* installing *source* package ‘limpca’ ...
** this is package ‘limpca’ version ‘1.6.0’
** using staged installation
** R
** data
** inst
** byte-compile and prepare package for lazy loading
** help
*** installing help indices
** building package indices
** installing vignettes
** testing if installed package can be loaded from temporary location
** testing if installed package can be loaded from final location
** testing if installed package keeps a record of temporary installation path
* DONE (limpca)

Tests output

limpca.Rcheck/tests/testthat.Rout


R version 4.5.1 Patched (2025-09-10 r88807) -- "Great Square Root"
Copyright (C) 2025 The R Foundation for Statistical Computing
Platform: x86_64-apple-darwin20

R is free software and comes with ABSOLUTELY NO WARRANTY.
You are welcome to redistribute it under certain conditions.
Type 'license()' or 'licence()' for distribution details.

R is a collaborative project with many contributors.
Type 'contributors()' for more information and
'citation()' on how to cite R or R packages in publications.

Type 'demo()' for some demos, 'help()' for on-line help, or
'help.start()' for an HTML browser interface to help.
Type 'q()' to quit R.

> # This file is part of the standard setup for testthat.
> # It is recommended that you do not modify it.
> #
> # Where should you do additional test configuration?
> # Learn more about the roles of various files in:
> # * https://r-pkgs.org/testing-design.html#sec-tests-files-overview
> # * https://testthat.r-lib.org/articles/special-files.html
> 
> library(testthat)
> library(limpca)
> 
> test_check("limpca")
| dim outcomes: 10x3
| formula: ~ factA + factB
| design variables (2): 
* factA (factor)
* factB (factor)
| dim outcomes: 10x3
| formula: ~ factA + factB
| design variables (2): 
* factA (factor)
* factB (factor)
| dim outcomes: 10x3
| formula: ~ factA + factB
| design variables (2): 
* factA (factor)
* factB (factor)
| dim outcomes: 10x3
| formula: ~ factA + factB
| design variables (2): 
* factA (factor)
* factB (factor)
| dim outcomes: 10x3
| formula: 
| design variables (2): 
* factA (factor)
* factB (factor)
[ FAIL 0 | WARN 0 | SKIP 0 | PASS 47 ]
> 
> proc.time()
   user  system elapsed 
 10.981   1.980  12.120 

Example timings

limpca.Rcheck/limpca-Ex.timings

nameusersystemelapsed
UCH0.0150.0030.018
data2lmpDataList0.5100.0200.532
lmpBootstrapTests17.644 4.62015.089
lmpContributions2.6851.3532.061
lmpEffectMatrices1.0700.0391.114
lmpEffectPlot2.1480.0542.209
lmpLoading1dPlot5.7990.0645.876
lmpLoading2dPlot3.3540.0773.443
lmpModelMatrix0.0070.0030.011
lmpPcaEffects0.9240.0210.949
lmpScorePlot1.7460.0431.795
lmpScoreScatterPlotM0.9330.0250.961
lmpScreePlot1.3930.0671.465
pcaBySvd0.0170.0010.018
pcaLoading1dPlot0.4450.0030.449
pcaLoading2dPlot2.2560.0142.279
pcaScorePlot0.9010.0080.914
pcaScreePlot0.2760.0050.282
plotDesign5.3090.0615.391
plotLine4.9510.0375.003
plotMeans3.3710.1753.558
plotScatter3.5470.0433.602
plotScatterM0.0590.0050.066
trout0.0010.0010.002