| Back to Multiple platform build/check report for BioC 3.22: simplified long | 
  | 
This page was generated on 2025-11-03 12:03 -0500 (Mon, 03 Nov 2025).
| Hostname | OS | Arch (*) | R version | Installed pkgs | 
|---|---|---|---|---|
| nebbiolo2 | Linux (Ubuntu 24.04.3 LTS) | x86_64 | 4.5.1 Patched (2025-08-23 r88802) -- "Great Square Root" | 4902 | 
| lconway | macOS 12.7.6 Monterey | x86_64 | 4.5.1 Patched (2025-09-10 r88807) -- "Great Square Root" | 4692 | 
| kjohnson3 | macOS 13.7.7 Ventura | arm64 | 4.5.1 Patched (2025-09-10 r88807) -- "Great Square Root" | 4638 | 
| Click on any hostname to see more info about the system (e.g. compilers) (*) as reported by 'uname -p', except on Windows and Mac OS X | ||||
| Package 1108/2361 | Hostname | OS / Arch | INSTALL | BUILD | CHECK | BUILD BIN | ||||||||
| jazzPanda 1.2.0  (landing page) Melody Jin 
  | nebbiolo2 | Linux (Ubuntu 24.04.3 LTS) / x86_64 | OK | OK | OK | |||||||||
| lconway | macOS 12.7.6 Monterey / x86_64 | OK | OK | OK | OK | |||||||||
| kjohnson3 | macOS 13.7.7 Ventura / arm64 | OK | OK | OK | OK | |||||||||
| 
To the developers/maintainers of the jazzPanda package: - Allow up to 24 hours (and sometimes 48 hours) for your latest push to git@git.bioconductor.org:packages/jazzPanda.git to reflect on this report. See Troubleshooting Build Report for more information. - Use the following Renviron settings to reproduce errors and warnings. - If 'R CMD check' started to fail recently on the Linux builder(s) over a missing dependency, add the missing dependency to 'Suggests:' in your DESCRIPTION file. See Renviron.bioc for more information.  | 
| Package: jazzPanda | 
| Version: 1.2.0 | 
| Command: /home/biocbuild/bbs-3.22-bioc/R/bin/R CMD check --install=check:jazzPanda.install-out.txt --library=/home/biocbuild/bbs-3.22-bioc/R/site-library --timings jazzPanda_1.2.0.tar.gz | 
| StartedAt: 2025-11-03 01:07:36 -0500 (Mon, 03 Nov 2025) | 
| EndedAt: 2025-11-03 01:18:10 -0500 (Mon, 03 Nov 2025) | 
| EllapsedTime: 633.7 seconds | 
| RetCode: 0 | 
| Status: OK | 
| CheckDir: jazzPanda.Rcheck | 
| Warnings: 0 | 
##############################################################################
##############################################################################
###
### Running command:
###
###   /home/biocbuild/bbs-3.22-bioc/R/bin/R CMD check --install=check:jazzPanda.install-out.txt --library=/home/biocbuild/bbs-3.22-bioc/R/site-library --timings jazzPanda_1.2.0.tar.gz
###
##############################################################################
##############################################################################
* using log directory ‘/home/biocbuild/bbs-3.22-bioc/meat/jazzPanda.Rcheck’
* using R version 4.5.1 Patched (2025-08-23 r88802)
* using platform: x86_64-pc-linux-gnu
* R was compiled by
    gcc (Ubuntu 13.3.0-6ubuntu2~24.04) 13.3.0
    GNU Fortran (Ubuntu 13.3.0-6ubuntu2~24.04) 13.3.0
* running under: Ubuntu 24.04.3 LTS
* using session charset: UTF-8
* checking for file ‘jazzPanda/DESCRIPTION’ ... OK
* checking extension type ... Package
* this is package ‘jazzPanda’ version ‘1.2.0’
* package encoding: UTF-8
* checking package namespace information ... OK
* checking package dependencies ... OK
* checking if this is a source package ... OK
* checking if there is a namespace ... OK
* checking for hidden files and directories ... OK
* checking for portable file names ... OK
* checking for sufficient/correct file permissions ... OK
* checking whether package ‘jazzPanda’ can be installed ... OK
* checking installed package size ... OK
* checking package directory ... OK
* checking ‘build’ directory ... OK
* checking DESCRIPTION meta-information ... OK
* checking top-level files ... NOTE
File
  LICENSE
is not mentioned in the DESCRIPTION file.
* checking for left-over files ... OK
* checking index information ... OK
* checking package subdirectories ... OK
* checking code files for non-ASCII characters ... OK
* checking R files for syntax errors ... OK
* checking whether the package can be loaded ... OK
* checking whether the package can be loaded with stated dependencies ... OK
* checking whether the package can be unloaded cleanly ... OK
* checking whether the namespace can be loaded with stated dependencies ... OK
* checking whether the namespace can be unloaded cleanly ... OK
* checking loading without being on the library search path ... OK
* checking dependencies in R code ... OK
* checking S3 generic/method consistency ... OK
* checking replacement functions ... OK
* checking foreign function calls ... OK
* checking R code for possible problems ... NOTE
.get_gene_vectors_cm : calculate_one_gene: no visible binding for
  global variable ‘index_vec’
Undefined global functions or variables:
  index_vec
* checking Rd files ... OK
* checking Rd metadata ... OK
* checking Rd cross-references ... OK
* checking for missing documentation entries ... OK
* checking for code/documentation mismatches ... OK
* checking Rd \usage sections ... OK
* checking Rd contents ... OK
* checking for unstated dependencies in examples ... OK
* checking contents of ‘data’ directory ... OK
* checking data for non-ASCII characters ... OK
* checking data for ASCII and uncompressed saves ... OK
* checking files in ‘vignettes’ ... OK
* checking examples ... OK
Examples with CPU (user + system) or elapsed time > 5s
               user system elapsed
compute_permp 5.053  0.069  15.139
get_perm_adjp 1.869  0.116  12.377
get_perm_p    1.708  0.192  12.134
get_cor       1.658  0.079  12.334
* checking for unstated dependencies in ‘tests’ ... OK
* checking tests ...
  Running ‘testthat.R’
 OK
* checking for unstated dependencies in vignettes ... OK
* checking package vignettes ... OK
* checking re-building of vignette outputs ... OK
* checking PDF version of manual ... OK
* DONE
Status: 2 NOTEs
See
  ‘/home/biocbuild/bbs-3.22-bioc/meat/jazzPanda.Rcheck/00check.log’
for details.
jazzPanda.Rcheck/00install.out
############################################################################## ############################################################################## ### ### Running command: ### ### /home/biocbuild/bbs-3.22-bioc/R/bin/R CMD INSTALL jazzPanda ### ############################################################################## ############################################################################## * installing to library ‘/home/biocbuild/bbs-3.22-bioc/R/site-library’ * installing *source* package ‘jazzPanda’ ... ** this is package ‘jazzPanda’ version ‘1.2.0’ ** using staged installation ** R ** data ** inst ** byte-compile and prepare package for lazy loading ** help *** installing help indices ** building package indices ** installing vignettes ** testing if installed package can be loaded from temporary location ** testing if installed package can be loaded from final location ** testing if installed package keeps a record of temporary installation path * DONE (jazzPanda)
jazzPanda.Rcheck/tests/testthat.Rout
R version 4.5.1 Patched (2025-08-23 r88802) -- "Great Square Root"
Copyright (C) 2025 The R Foundation for Statistical Computing
Platform: x86_64-pc-linux-gnu
R is free software and comes with ABSOLUTELY NO WARRANTY.
You are welcome to redistribute it under certain conditions.
Type 'license()' or 'licence()' for distribution details.
R is a collaborative project with many contributors.
Type 'contributors()' for more information and
'citation()' on how to cite R or R packages in publications.
Type 'demo()' for some demos, 'help()' for on-line help, or
'help.start()' for an HTML browser interface to help.
Type 'q()' to quit R.
> # This file is part of the standard setup for testthat.
> # It is recommended that you do not modify it.
> #
> # Where should you do additional test configuration?
> # Learn more about the roles of various files in:
> # * https://r-pkgs.org/testing-design.html#sec-tests-files-overview
> # * https://testthat.r-lib.org/articles/special-files.html
> 
> library(testthat)
> library(jazzPanda)
> 
> test_check("jazzPanda")
Loading required package: SingleCellExperiment
Loading required package: SummarizedExperiment
Loading required package: MatrixGenerics
Loading required package: matrixStats
Attaching package: 'MatrixGenerics'
The following objects are masked from 'package:matrixStats':
    colAlls, colAnyNAs, colAnys, colAvgsPerRowSet, colCollapse,
    colCounts, colCummaxs, colCummins, colCumprods, colCumsums,
    colDiffs, colIQRDiffs, colIQRs, colLogSumExps, colMadDiffs,
    colMads, colMaxs, colMeans2, colMedians, colMins, colOrderStats,
    colProds, colQuantiles, colRanges, colRanks, colSdDiffs, colSds,
    colSums2, colTabulates, colVarDiffs, colVars, colWeightedMads,
    colWeightedMeans, colWeightedMedians, colWeightedSds,
    colWeightedVars, rowAlls, rowAnyNAs, rowAnys, rowAvgsPerColSet,
    rowCollapse, rowCounts, rowCummaxs, rowCummins, rowCumprods,
    rowCumsums, rowDiffs, rowIQRDiffs, rowIQRs, rowLogSumExps,
    rowMadDiffs, rowMads, rowMaxs, rowMeans2, rowMedians, rowMins,
    rowOrderStats, rowProds, rowQuantiles, rowRanges, rowRanks,
    rowSdDiffs, rowSds, rowSums2, rowTabulates, rowVarDiffs, rowVars,
    rowWeightedMads, rowWeightedMeans, rowWeightedMedians,
    rowWeightedSds, rowWeightedVars
Loading required package: GenomicRanges
Loading required package: stats4
Loading required package: BiocGenerics
Loading required package: generics
Attaching package: 'generics'
The following objects are masked from 'package:base':
    as.difftime, as.factor, as.ordered, intersect, is.element, setdiff,
    setequal, union
Attaching package: 'BiocGenerics'
The following objects are masked from 'package:stats':
    IQR, mad, sd, var, xtabs
The following objects are masked from 'package:base':
    Filter, Find, Map, Position, Reduce, anyDuplicated, aperm, append,
    as.data.frame, basename, cbind, colnames, dirname, do.call,
    duplicated, eval, evalq, get, grep, grepl, is.unsorted, lapply,
    mapply, match, mget, order, paste, pmax, pmax.int, pmin, pmin.int,
    rank, rbind, rownames, sapply, saveRDS, table, tapply, unique,
    unsplit, which.max, which.min
Loading required package: S4Vectors
Attaching package: 'S4Vectors'
The following object is masked from 'package:utils':
    findMatches
The following objects are masked from 'package:base':
    I, expand.grid, unname
Loading required package: IRanges
Loading required package: Seqinfo
Loading required package: Biobase
Welcome to Bioconductor
    Vignettes contain introductory material; view with
    'browseVignettes()'. To cite Bioconductor, see
    'citation("Biobase")', and for packages 'citation("pkgname")'.
Attaching package: 'Biobase'
The following object is masked from 'package:MatrixGenerics':
    rowMedians
The following objects are masked from 'package:matrixStats':
    anyMissing, rowMedians
Correlation Method = pearson
Timing stopped at: 0.011 0 0.01
Correlation Method = pearson
Timing stopped at: 0.114 0 0.115
Correlation Method = pearson
Timing stopped at: 0.083 0 0.082
Correlation Method = pearson
Timing stopped at: 0.082 0 0.083
Correlation Method = pearson
Timing stopped at: 0.085 0.001 0.086
Correlation Method = pearson
Running 10 permutation with 2 cores in parallel
Correlation Method = pearson
Running 10 permutation with 2 cores in parallel
Correlation Method = pearson
Running 10 permutation in sequential
Correlation Method = pearson
Running 10 permutation in sequential
Correlation Method = pearson
Timing stopped at: 0.005 0.001 0.006
Correlation Method = pearson
Timing stopped at: 0.826 0 0.826
Attaching package: 'SpatialFeatureExperiment'
The following object is masked from 'package:base':
    scale
Attaching package: 'Matrix'
The following object is masked from 'package:S4Vectors':
    expand
Invalid cluster names are detected and converted:
'cluster' '$+9' is renamed as 'X..9'
'cluster' '123' is renamed as 'X123'
'cluster' '9-' is renamed as 'X9.'
Invalid cluster names are detected and converted:
'cluster' '$+9' is renamed as 'X..9'
'cluster' '9-' is renamed as 'X9.'
'cluster' 'M+' is renamed as 'M.'
Invalid sample names are detected and converted:
'sample' '12' is renamed as 'X12'
Invalid sample names are detected and converted:
'sample' '12' is renamed as 'X12'
Loading required package: spatstat.data
Loading required package: spatstat.univar
spatstat.univar 3.1-4
spatstat.geom 3.6-0
Attaching package: 'spatstat.geom'
The following objects are masked from 'package:SpatialFeatureExperiment':
    affine, rotate
The following object is masked from 'package:SummarizedExperiment':
    shift
The following object is masked from 'package:GenomicRanges':
    shift
The following objects are masked from 'package:IRanges':
    reflect, shift
[ FAIL 0 | WARN 5 | SKIP 0 | PASS 139 ]
[ FAIL 0 | WARN 5 | SKIP 0 | PASS 139 ]
> 
> proc.time()
   user  system elapsed 
 79.374   2.862 165.598 
jazzPanda.Rcheck/jazzPanda-Ex.timings
| name | user | system | elapsed | |
| compute_permp | 5.053 | 0.069 | 15.139 | |
| create_genesets | 1.039 | 0.001 | 1.040 | |
| get_cor | 1.658 | 0.079 | 12.334 | |
| get_full_mg | 1.426 | 0.093 | 1.519 | |
| get_perm_adjp | 1.869 | 0.116 | 12.377 | |
| get_perm_p | 1.708 | 0.192 | 12.134 | |
| get_top_mg | 1.236 | 0.055 | 1.291 | |
| get_vectors | 1.662 | 0.178 | 1.841 | |
| lasso_markers | 1.240 | 0.026 | 1.266 | |