| Back to Multiple platform build/check report for BioC 3.21: simplified long |
|
This page was generated on 2025-04-22 13:18 -0400 (Tue, 22 Apr 2025).
| Hostname | OS | Arch (*) | R version | Installed pkgs |
|---|---|---|---|---|
| nebbiolo1 | Linux (Ubuntu 24.04.1 LTS) | x86_64 | 4.5.0 RC (2025-04-04 r88126) -- "How About a Twenty-Six" | 4831 |
| palomino7 | Windows Server 2022 Datacenter | x64 | 4.5.0 RC (2025-04-04 r88126 ucrt) -- "How About a Twenty-Six" | 4573 |
| lconway | macOS 12.7.1 Monterey | x86_64 | 4.5.0 RC (2025-04-04 r88126) -- "How About a Twenty-Six" | 4599 |
| kjohnson3 | macOS 13.7.1 Ventura | arm64 | 4.5.0 RC (2025-04-04 r88126) -- "How About a Twenty-Six" | 4553 |
| kunpeng2 | Linux (openEuler 24.03 LTS) | aarch64 | R Under development (unstable) (2025-02-19 r87757) -- "Unsuffered Consequences" | 4570 |
| Click on any hostname to see more info about the system (e.g. compilers) (*) as reported by 'uname -p', except on Windows and Mac OS X | ||||
| Package 1055/2341 | Hostname | OS / Arch | INSTALL | BUILD | CHECK | BUILD BIN | ||||||||
| intansv 1.48.0 (landing page) Wen Yao
| nebbiolo1 | Linux (Ubuntu 24.04.1 LTS) / x86_64 | OK | OK | OK | |||||||||
| palomino7 | Windows Server 2022 Datacenter / x64 | OK | OK | OK | OK | |||||||||
| lconway | macOS 12.7.1 Monterey / x86_64 | OK | OK | OK | OK | |||||||||
| kjohnson3 | macOS 13.7.1 Ventura / arm64 | OK | OK | OK | OK | |||||||||
| kunpeng2 | Linux (openEuler 24.03 LTS) / aarch64 | OK | OK | OK | ||||||||||
|
To the developers/maintainers of the intansv package: - Allow up to 24 hours (and sometimes 48 hours) for your latest push to git@git.bioconductor.org:packages/intansv.git to reflect on this report. See Troubleshooting Build Report for more information. - Use the following Renviron settings to reproduce errors and warnings. - If 'R CMD check' started to fail recently on the Linux builder(s) over a missing dependency, add the missing dependency to 'Suggests:' in your DESCRIPTION file. See Renviron.bioc for more information. |
| Package: intansv |
| Version: 1.48.0 |
| Command: /Library/Frameworks/R.framework/Resources/bin/R CMD check --install=check:intansv.install-out.txt --library=/Library/Frameworks/R.framework/Resources/library --no-vignettes --timings intansv_1.48.0.tar.gz |
| StartedAt: 2025-04-21 19:56:01 -0400 (Mon, 21 Apr 2025) |
| EndedAt: 2025-04-21 19:58:25 -0400 (Mon, 21 Apr 2025) |
| EllapsedTime: 143.7 seconds |
| RetCode: 0 |
| Status: OK |
| CheckDir: intansv.Rcheck |
| Warnings: 0 |
##############################################################################
##############################################################################
###
### Running command:
###
### /Library/Frameworks/R.framework/Resources/bin/R CMD check --install=check:intansv.install-out.txt --library=/Library/Frameworks/R.framework/Resources/library --no-vignettes --timings intansv_1.48.0.tar.gz
###
##############################################################################
##############################################################################
* using log directory ‘/Users/biocbuild/bbs-3.21-bioc/meat/intansv.Rcheck’
* using R version 4.5.0 RC (2025-04-04 r88126)
* using platform: aarch64-apple-darwin20
* R was compiled by
Apple clang version 14.0.0 (clang-1400.0.29.202)
GNU Fortran (GCC) 14.2.0
* running under: macOS Ventura 13.7.1
* using session charset: UTF-8
* using option ‘--no-vignettes’
* checking for file ‘intansv/DESCRIPTION’ ... OK
* this is package ‘intansv’ version ‘1.48.0’
* checking package namespace information ... OK
* checking package dependencies ... OK
* checking if this is a source package ... OK
* checking if there is a namespace ... OK
* checking for hidden files and directories ... OK
* checking for portable file names ... OK
* checking for sufficient/correct file permissions ... OK
* checking whether package ‘intansv’ can be installed ... OK
* checking installed package size ... OK
* checking package directory ... OK
* checking ‘build’ directory ... OK
* checking DESCRIPTION meta-information ... NOTE
License stub is invalid DCF.
* checking top-level files ... OK
* checking for left-over files ... OK
* checking index information ... OK
* checking package subdirectories ... OK
* checking code files for non-ASCII characters ... OK
* checking R files for syntax errors ... OK
* checking whether the package can be loaded ... OK
* checking whether the package can be loaded with stated dependencies ... OK
* checking whether the package can be unloaded cleanly ... OK
* checking whether the namespace can be loaded with stated dependencies ... OK
* checking whether the namespace can be unloaded cleanly ... OK
* checking dependencies in R code ... OK
* checking S3 generic/method consistency ... OK
* checking replacement functions ... OK
* checking foreign function calls ... OK
* checking R code for possible problems ... NOTE
DellyCluster: no visible global function definition for 'subjectHits'
LumpyCluster: no visible global function definition for 'subjectHits'
PindelCluster: no visible global function definition for 'subjectHits'
breakDancerCluster: no visible global function definition for
'subjectHits'
mergeOLCNVs: no visible global function definition for 'subjectHits'
methodsMerge: no visible global function definition for 'subjectHits'
plotChromosome: no visible global function definition for 'queryHits'
plotChromosome: no visible global function definition for 'subjectHits'
plotChromosome: no visible global function definition for
'seqlengths<-'
plotChromosome: no visible global function definition for 'seqlengths'
plotChromosome: no visible global function definition for 'aes'
plotRegion: no visible global function definition for 'seqlengths<-'
plotRegion: no visible global function definition for 'subjectHits'
plotRegion: no visible global function definition for 'aes'
plotRegion: no visible binding for global variable 'name'
readCnvnator: no visible global function definition for 'subjectHits'
readDelly: no visible global function definition for 'subjectHits'
readLumpy: no visible global function definition for 'subjectHits'
readPindel: no visible global function definition for 'subjectHits'
readSoftSearch: no visible global function definition for 'subjectHits'
readSvseq: no visible global function definition for 'subjectHits'
readSvseq : <anonymous>: no visible global function definition for
'subjectHits'
softSearchCluster: no visible global function definition for
'subjectHits'
tellOLPercantage: no visible global function definition for 'queryHits'
tellOLPercantage: no visible global function definition for
'subjectHits'
Undefined global functions or variables:
aes name queryHits seqlengths seqlengths<- subjectHits
* checking Rd files ... NOTE
checkRd: (-1) plotChromosome.Rd:34: Lost braces in \itemize; \value handles \item{}{} directly
checkRd: (-1) plotChromosome.Rd:35: Lost braces in \itemize; \value handles \item{}{} directly
checkRd: (-1) plotChromosome.Rd:36-37: Lost braces in \itemize; \value handles \item{}{} directly
checkRd: (-1) plotChromosome.Rd:38-39: Lost braces in \itemize; \value handles \item{}{} directly
checkRd: (-1) plotChromosome.Rd:40-41: Lost braces in \itemize; \value handles \item{}{} directly
checkRd: (-1) plotRegion.Rd:35: Lost braces in \itemize; \value handles \item{}{} directly
checkRd: (-1) plotRegion.Rd:36: Lost braces in \itemize; \value handles \item{}{} directly
checkRd: (-1) plotRegion.Rd:37: Lost braces in \itemize; \value handles \item{}{} directly
checkRd: (-1) plotRegion.Rd:38: Lost braces in \itemize; \value handles \item{}{} directly
checkRd: (-1) svAnnotation.Rd:30: Lost braces in \itemize; meant \describe ?
checkRd: (-1) svAnnotation.Rd:31: Lost braces in \itemize; meant \describe ?
checkRd: (-1) svAnnotation.Rd:32: Lost braces in \itemize; meant \describe ?
* checking Rd metadata ... OK
* checking Rd cross-references ... OK
* checking for missing documentation entries ... OK
* checking for code/documentation mismatches ... OK
* checking Rd \usage sections ... OK
* checking Rd contents ... OK
* checking for unstated dependencies in examples ... OK
* checking sizes of PDF files under ‘inst/doc’ ... OK
* checking files in ‘vignettes’ ... OK
* checking examples ... OK
Examples with CPU (user + system) or elapsed time > 5s
user system elapsed
methodsMerge 6.897 0.073 7.055
* checking for unstated dependencies in vignettes ... OK
* checking package vignettes ... OK
* checking running R code from vignettes ... SKIPPED
* checking re-building of vignette outputs ... SKIPPED
* checking PDF version of manual ... OK
* DONE
Status: 3 NOTEs
See
‘/Users/biocbuild/bbs-3.21-bioc/meat/intansv.Rcheck/00check.log’
for details.
intansv.Rcheck/00install.out
############################################################################## ############################################################################## ### ### Running command: ### ### /Library/Frameworks/R.framework/Resources/bin/R CMD INSTALL intansv ### ############################################################################## ############################################################################## * installing to library ‘/Library/Frameworks/R.framework/Versions/4.5-arm64/Resources/library’ * installing *source* package ‘intansv’ ... ** this is package ‘intansv’ version ‘1.48.0’ ** using staged installation ** R ** inst ** byte-compile and prepare package for lazy loading ** help *** installing help indices ** building package indices ** installing vignettes ** testing if installed package can be loaded from temporary location ** testing if installed package can be loaded from final location ** testing if installed package keeps a record of temporary installation path * DONE (intansv)
intansv.Rcheck/intansv-Ex.timings
| name | user | system | elapsed | |
| methodsMerge | 6.897 | 0.073 | 7.055 | |
| plotChromosome | 1.319 | 0.008 | 1.333 | |
| plotRegion | 0.989 | 0.004 | 1.008 | |
| readBreakDancer | 0.862 | 0.031 | 0.915 | |
| readCnvnator | 0.162 | 0.010 | 0.175 | |
| readDelly | 0.778 | 0.013 | 0.839 | |
| readLumpy | 0.835 | 0.002 | 0.858 | |
| readPindel | 0.676 | 0.003 | 0.678 | |
| readSoftSearch | 0.087 | 0.001 | 0.088 | |
| readSvseq | 0.086 | 0.000 | 0.086 | |
| svAnnotation | 0.344 | 0.002 | 0.359 | |