| Back to Multiple platform build/check report for BioC 3.21: simplified long |
|
This page was generated on 2025-10-16 11:40 -0400 (Thu, 16 Oct 2025).
| Hostname | OS | Arch (*) | R version | Installed pkgs |
|---|---|---|---|---|
| nebbiolo1 | Linux (Ubuntu 24.04.3 LTS) | x86_64 | 4.5.1 (2025-06-13) -- "Great Square Root" | 4833 |
| merida1 | macOS 12.7.6 Monterey | x86_64 | 4.5.1 RC (2025-06-05 r88288) -- "Great Square Root" | 4614 |
| kjohnson1 | macOS 13.7.5 Ventura | arm64 | 4.5.1 Patched (2025-06-14 r88325) -- "Great Square Root" | 4555 |
| kunpeng2 | Linux (openEuler 24.03 LTS) | aarch64 | R Under development (unstable) (2025-02-19 r87757) -- "Unsuffered Consequences" | 4586 |
| Click on any hostname to see more info about the system (e.g. compilers) (*) as reported by 'uname -p', except on Windows and Mac OS X | ||||
| Package 1055/2341 | Hostname | OS / Arch | INSTALL | BUILD | CHECK | BUILD BIN | ||||||||
| intansv 1.48.0 (landing page) Wen Yao
| nebbiolo1 | Linux (Ubuntu 24.04.3 LTS) / x86_64 | OK | OK | OK | |||||||||
| merida1 | macOS 12.7.6 Monterey / x86_64 | OK | OK | OK | OK | |||||||||
| kjohnson1 | macOS 13.7.5 Ventura / arm64 | OK | OK | OK | OK | |||||||||
| kunpeng2 | Linux (openEuler 24.03 LTS) / aarch64 | OK | OK | OK | ||||||||||
|
To the developers/maintainers of the intansv package: - Allow up to 24 hours (and sometimes 48 hours) for your latest push to git@git.bioconductor.org:packages/intansv.git to reflect on this report. See Troubleshooting Build Report for more information. - Use the following Renviron settings to reproduce errors and warnings. - If 'R CMD check' started to fail recently on the Linux builder(s) over a missing dependency, add the missing dependency to 'Suggests:' in your DESCRIPTION file. See Renviron.bioc for more information. |
| Package: intansv |
| Version: 1.48.0 |
| Command: /Library/Frameworks/R.framework/Resources/bin/R CMD check --install=check:intansv.install-out.txt --library=/Library/Frameworks/R.framework/Resources/library --no-vignettes --timings intansv_1.48.0.tar.gz |
| StartedAt: 2025-10-15 01:07:44 -0400 (Wed, 15 Oct 2025) |
| EndedAt: 2025-10-15 01:14:55 -0400 (Wed, 15 Oct 2025) |
| EllapsedTime: 430.6 seconds |
| RetCode: 0 |
| Status: OK |
| CheckDir: intansv.Rcheck |
| Warnings: 0 |
##############################################################################
##############################################################################
###
### Running command:
###
### /Library/Frameworks/R.framework/Resources/bin/R CMD check --install=check:intansv.install-out.txt --library=/Library/Frameworks/R.framework/Resources/library --no-vignettes --timings intansv_1.48.0.tar.gz
###
##############################################################################
##############################################################################
* using log directory ‘/Users/biocbuild/bbs-3.21-bioc/meat/intansv.Rcheck’
* using R version 4.5.1 Patched (2025-06-14 r88325)
* using platform: aarch64-apple-darwin20
* R was compiled by
Apple clang version 16.0.0 (clang-1600.0.26.6)
GNU Fortran (GCC) 14.2.0
* running under: macOS Ventura 13.7.5
* using session charset: UTF-8
* using option ‘--no-vignettes’
* checking for file ‘intansv/DESCRIPTION’ ... OK
* this is package ‘intansv’ version ‘1.48.0’
* checking package namespace information ... OK
* checking package dependencies ... OK
* checking if this is a source package ... OK
* checking if there is a namespace ... OK
* checking for hidden files and directories ... OK
* checking for portable file names ... OK
* checking for sufficient/correct file permissions ... OK
* checking whether package ‘intansv’ can be installed ... OK
* checking installed package size ... OK
* checking package directory ... OK
* checking ‘build’ directory ... OK
* checking DESCRIPTION meta-information ... NOTE
License stub is invalid DCF.
* checking top-level files ... OK
* checking for left-over files ... OK
* checking index information ... OK
* checking package subdirectories ... OK
* checking code files for non-ASCII characters ... OK
* checking R files for syntax errors ... OK
* checking whether the package can be loaded ... OK
* checking whether the package can be loaded with stated dependencies ... OK
* checking whether the package can be unloaded cleanly ... OK
* checking whether the namespace can be loaded with stated dependencies ... OK
* checking whether the namespace can be unloaded cleanly ... OK
* checking dependencies in R code ... OK
* checking S3 generic/method consistency ... OK
* checking replacement functions ... OK
* checking foreign function calls ... OK
* checking R code for possible problems ... NOTE
DellyCluster: no visible global function definition for 'subjectHits'
LumpyCluster: no visible global function definition for 'subjectHits'
PindelCluster: no visible global function definition for 'subjectHits'
breakDancerCluster: no visible global function definition for
'subjectHits'
mergeOLCNVs: no visible global function definition for 'subjectHits'
methodsMerge: no visible global function definition for 'subjectHits'
plotChromosome: no visible global function definition for 'queryHits'
plotChromosome: no visible global function definition for 'subjectHits'
plotChromosome: no visible global function definition for
'seqlengths<-'
plotChromosome: no visible global function definition for 'seqlengths'
plotChromosome: no visible global function definition for 'aes'
plotRegion: no visible global function definition for 'seqlengths<-'
plotRegion: no visible global function definition for 'subjectHits'
plotRegion: no visible global function definition for 'aes'
plotRegion: no visible binding for global variable 'name'
readCnvnator: no visible global function definition for 'subjectHits'
readDelly: no visible global function definition for 'subjectHits'
readLumpy: no visible global function definition for 'subjectHits'
readPindel: no visible global function definition for 'subjectHits'
readSoftSearch: no visible global function definition for 'subjectHits'
readSvseq: no visible global function definition for 'subjectHits'
readSvseq : <anonymous>: no visible global function definition for
'subjectHits'
softSearchCluster: no visible global function definition for
'subjectHits'
tellOLPercantage: no visible global function definition for 'queryHits'
tellOLPercantage: no visible global function definition for
'subjectHits'
Undefined global functions or variables:
aes name queryHits seqlengths seqlengths<- subjectHits
* checking Rd files ... NOTE
checkRd: (-1) plotChromosome.Rd:34: Lost braces in \itemize; \value handles \item{}{} directly
checkRd: (-1) plotChromosome.Rd:35: Lost braces in \itemize; \value handles \item{}{} directly
checkRd: (-1) plotChromosome.Rd:36-37: Lost braces in \itemize; \value handles \item{}{} directly
checkRd: (-1) plotChromosome.Rd:38-39: Lost braces in \itemize; \value handles \item{}{} directly
checkRd: (-1) plotChromosome.Rd:40-41: Lost braces in \itemize; \value handles \item{}{} directly
checkRd: (-1) plotRegion.Rd:35: Lost braces in \itemize; \value handles \item{}{} directly
checkRd: (-1) plotRegion.Rd:36: Lost braces in \itemize; \value handles \item{}{} directly
checkRd: (-1) plotRegion.Rd:37: Lost braces in \itemize; \value handles \item{}{} directly
checkRd: (-1) plotRegion.Rd:38: Lost braces in \itemize; \value handles \item{}{} directly
checkRd: (-1) svAnnotation.Rd:30: Lost braces in \itemize; meant \describe ?
checkRd: (-1) svAnnotation.Rd:31: Lost braces in \itemize; meant \describe ?
checkRd: (-1) svAnnotation.Rd:32: Lost braces in \itemize; meant \describe ?
* checking Rd metadata ... OK
* checking Rd cross-references ... OK
* checking for missing documentation entries ... OK
* checking for code/documentation mismatches ... OK
* checking Rd \usage sections ... OK
* checking Rd contents ... OK
* checking for unstated dependencies in examples ... OK
* checking sizes of PDF files under ‘inst/doc’ ... OK
* checking files in ‘vignettes’ ... OK
* checking examples ... OK
Examples with CPU (user + system) or elapsed time > 5s
user system elapsed
methodsMerge 20.440 0.330 20.926
plotChromosome 5.137 0.037 5.241
* checking for unstated dependencies in vignettes ... OK
* checking package vignettes ... OK
* checking running R code from vignettes ... SKIPPED
* checking re-building of vignette outputs ... SKIPPED
* checking PDF version of manual ... OK
* DONE
Status: 3 NOTEs
See
‘/Users/biocbuild/bbs-3.21-bioc/meat/intansv.Rcheck/00check.log’
for details.
intansv.Rcheck/00install.out
############################################################################## ############################################################################## ### ### Running command: ### ### /Library/Frameworks/R.framework/Resources/bin/R CMD INSTALL intansv ### ############################################################################## ############################################################################## * installing to library ‘/Library/Frameworks/R.framework/Versions/4.5-arm64/Resources/library’ * installing *source* package ‘intansv’ ... ** this is package ‘intansv’ version ‘1.48.0’ ** using staged installation ** R ** inst ** byte-compile and prepare package for lazy loading ** help *** installing help indices ** building package indices ** installing vignettes ** testing if installed package can be loaded from temporary location ** testing if installed package can be loaded from final location ** testing if installed package keeps a record of temporary installation path * DONE (intansv)
intansv.Rcheck/intansv-Ex.timings
| name | user | system | elapsed | |
| methodsMerge | 20.440 | 0.330 | 20.926 | |
| plotChromosome | 5.137 | 0.037 | 5.241 | |
| plotRegion | 3.843 | 0.019 | 3.876 | |
| readBreakDancer | 0.961 | 0.003 | 0.964 | |
| readCnvnator | 0.514 | 0.003 | 0.517 | |
| readDelly | 2.722 | 0.010 | 2.751 | |
| readLumpy | 3.012 | 0.013 | 3.029 | |
| readPindel | 2.433 | 0.014 | 2.448 | |
| readSoftSearch | 0.300 | 0.003 | 0.303 | |
| readSvseq | 0.284 | 0.002 | 0.286 | |
| svAnnotation | 1.185 | 0.009 | 1.196 | |