| Back to Multiple platform build/check report for BioC 3.21: simplified long |
|
This page was generated on 2025-04-04 11:42 -0400 (Fri, 04 Apr 2025).
| Hostname | OS | Arch (*) | R version | Installed pkgs |
|---|---|---|---|---|
| nebbiolo1 | Linux (Ubuntu 24.04.1 LTS) | x86_64 | R Under development (unstable) (2025-03-13 r87965) -- "Unsuffered Consequences" | 4798 |
| palomino7 | Windows Server 2022 Datacenter | x64 | R Under development (unstable) (2025-03-01 r87860 ucrt) -- "Unsuffered Consequences" | 4566 |
| lconway | macOS 12.7.1 Monterey | x86_64 | R Under development (unstable) (2025-03-02 r87868) -- "Unsuffered Consequences" | 4596 |
| kjohnson3 | macOS 13.7.1 Ventura | arm64 | R Under development (unstable) (2025-03-02 r87868) -- "Unsuffered Consequences" | 4548 |
| kunpeng2 | Linux (openEuler 24.03 LTS) | aarch64 | R Under development (unstable) (2025-02-19 r87757) -- "Unsuffered Consequences" | 4536 |
| Click on any hostname to see more info about the system (e.g. compilers) (*) as reported by 'uname -p', except on Windows and Mac OS X | ||||
| Package 1035/2323 | Hostname | OS / Arch | INSTALL | BUILD | CHECK | BUILD BIN | ||||||||
| immunogenViewer 1.1.1 (landing page) Katharina Waury
| nebbiolo1 | Linux (Ubuntu 24.04.1 LTS) / x86_64 | OK | OK | OK | |||||||||
| palomino7 | Windows Server 2022 Datacenter / x64 | OK | OK | OK | OK | |||||||||
| lconway | macOS 12.7.1 Monterey / x86_64 | OK | OK | OK | OK | |||||||||
| kjohnson3 | macOS 13.7.1 Ventura / arm64 | OK | OK | OK | OK | |||||||||
| kunpeng2 | Linux (openEuler 24.03 LTS) / aarch64 | OK | OK | OK | ||||||||||
|
To the developers/maintainers of the immunogenViewer package: - Allow up to 24 hours (and sometimes 48 hours) for your latest push to git@git.bioconductor.org:packages/immunogenViewer.git to reflect on this report. See Troubleshooting Build Report for more information. - Use the following Renviron settings to reproduce errors and warnings. - If 'R CMD check' started to fail recently on the Linux builder(s) over a missing dependency, add the missing dependency to 'Suggests:' in your DESCRIPTION file. See Renviron.bioc for more information. |
| Package: immunogenViewer |
| Version: 1.1.1 |
| Command: E:\biocbuild\bbs-3.21-bioc\R\bin\R.exe CMD check --no-multiarch --install=check:immunogenViewer.install-out.txt --library=E:\biocbuild\bbs-3.21-bioc\R\library --no-vignettes --timings immunogenViewer_1.1.1.tar.gz |
| StartedAt: 2025-04-04 02:45:10 -0400 (Fri, 04 Apr 2025) |
| EndedAt: 2025-04-04 02:47:52 -0400 (Fri, 04 Apr 2025) |
| EllapsedTime: 162.2 seconds |
| RetCode: 0 |
| Status: OK |
| CheckDir: immunogenViewer.Rcheck |
| Warnings: 0 |
##############################################################################
##############################################################################
###
### Running command:
###
### E:\biocbuild\bbs-3.21-bioc\R\bin\R.exe CMD check --no-multiarch --install=check:immunogenViewer.install-out.txt --library=E:\biocbuild\bbs-3.21-bioc\R\library --no-vignettes --timings immunogenViewer_1.1.1.tar.gz
###
##############################################################################
##############################################################################
* using log directory 'E:/biocbuild/bbs-3.21-bioc/meat/immunogenViewer.Rcheck'
* using R Under development (unstable) (2025-03-01 r87860 ucrt)
* using platform: x86_64-w64-mingw32
* R was compiled by
gcc.exe (GCC) 13.3.0
GNU Fortran (GCC) 13.3.0
* running under: Windows Server 2022 x64 (build 20348)
* using session charset: UTF-8
* using option '--no-vignettes'
* checking for file 'immunogenViewer/DESCRIPTION' ... OK
* checking extension type ... Package
* this is package 'immunogenViewer' version '1.1.1'
* package encoding: UTF-8
* checking package namespace information ... OK
* checking package dependencies ... OK
* checking if this is a source package ... OK
* checking if there is a namespace ... OK
* checking for hidden files and directories ... OK
* checking for portable file names ... OK
* checking whether package 'immunogenViewer' can be installed ... OK
* checking installed package size ... OK
* checking package directory ... OK
* checking 'build' directory ... OK
* checking DESCRIPTION meta-information ... OK
* checking top-level files ... OK
* checking for left-over files ... OK
* checking index information ... OK
* checking package subdirectories ... OK
* checking code files for non-ASCII characters ... OK
* checking R files for syntax errors ... OK
* checking whether the package can be loaded ... OK
* checking whether the package can be loaded with stated dependencies ... OK
* checking whether the package can be unloaded cleanly ... OK
* checking whether the namespace can be loaded with stated dependencies ... OK
* checking whether the namespace can be unloaded cleanly ... OK
* checking dependencies in R code ... OK
* checking S3 generic/method consistency ... OK
* checking replacement functions ... OK
* checking foreign function calls ... OK
* checking R code for possible problems ... NOTE
addImmunogensToPlot: no visible binding for global variable 'xmin'
addImmunogensToPlot: no visible binding for global variable 'xmax'
addImmunogensToPlot: no visible binding for global variable 'ymin'
addImmunogensToPlot: no visible binding for global variable 'ymax'
addImmunogensToPlot: no visible binding for global variable 'x'
addImmunogensToPlot: no visible binding for global variable 'y'
addImmunogensToPlot: no visible binding for global variable 'label'
plotAccessibility: no visible binding for global variable
'SolventAccessibility'
plotSecondaryStructure: no visible binding for global variable
'SecondaryStructure'
plotSinglePositions: no visible binding for global variable 'Location'
plotSinglePositions: no visible binding for global variable 'y'
Undefined global functions or variables:
Location SecondaryStructure SolventAccessibility label x xmax xmin y
ymax ymin
* checking Rd files ... OK
* checking Rd metadata ... OK
* checking Rd cross-references ... OK
* checking for missing documentation entries ... OK
* checking for code/documentation mismatches ... OK
* checking Rd \usage sections ... OK
* checking Rd contents ... OK
* checking for unstated dependencies in examples ... OK
* checking files in 'vignettes' ... OK
* checking examples ... OK
* checking for unstated dependencies in 'tests' ... OK
* checking tests ...
Running 'testthat.R'
OK
* checking for unstated dependencies in vignettes ... OK
* checking package vignettes ... OK
* checking running R code from vignettes ... SKIPPED
* checking re-building of vignette outputs ... SKIPPED
* checking PDF version of manual ... OK
* DONE
Status: 1 NOTE
See
'E:/biocbuild/bbs-3.21-bioc/meat/immunogenViewer.Rcheck/00check.log'
for details.
immunogenViewer.Rcheck/00install.out
############################################################################## ############################################################################## ### ### Running command: ### ### E:\biocbuild\bbs-3.21-bioc\R\bin\R.exe CMD INSTALL immunogenViewer ### ############################################################################## ############################################################################## * installing to library 'E:/biocbuild/bbs-3.21-bioc/R/library' * installing *source* package 'immunogenViewer' ... ** this is package 'immunogenViewer' version '1.1.1' ** using staged installation ** R ** inst ** byte-compile and prepare package for lazy loading ** help *** installing help indices ** building package indices ** installing vignettes ** testing if installed package can be loaded from temporary location ** testing if installed package can be loaded from final location ** testing if installed package keeps a record of temporary installation path * DONE (immunogenViewer)
immunogenViewer.Rcheck/tests/testthat.Rout
R Under development (unstable) (2025-03-01 r87860 ucrt) -- "Unsuffered Consequences"
Copyright (C) 2025 The R Foundation for Statistical Computing
Platform: x86_64-w64-mingw32/x64
R is free software and comes with ABSOLUTELY NO WARRANTY.
You are welcome to redistribute it under certain conditions.
Type 'license()' or 'licence()' for distribution details.
R is a collaborative project with many contributors.
Type 'contributors()' for more information and
'citation()' on how to cite R or R packages in publications.
Type 'demo()' for some demos, 'help()' for on-line help, or
'help.start()' for an HTML browser interface to help.
Type 'q()' to quit R.
> # This file is part of the standard setup for testthat.
> # It is recommended that you do not modify it.
> #
> # Where should you do additional test configuration?
> # Learn more about the roles of various files in:
> # * https://r-pkgs.org/testing-design.html#sec-tests-files-overview
> # * https://testthat.r-lib.org/articles/special-files.html
>
> library(testthat)
> library(immunogenViewer)
>
> test_check("immunogenViewer")
[1] "Immunogen name: A12"
[1] "Immunogen sequence: GHLFAINYTGASMNPARSFGPAVIMGNWENH (Residues 200 - 230)"
[1] "No immunogen specified, evaluating all immunogens."
[1] "Immunogen name: A12"
[1] "Immunogen sequence: GHLFAINYTGASMNPARSFGPAVIMGNWENH (Residues 200 - 230)"
[ FAIL 0 | WARN 0 | SKIP 0 | PASS 39 ]
>
> proc.time()
user system elapsed
13.12 0.50 28.89
immunogenViewer.Rcheck/immunogenViewer-Ex.timings
| name | user | system | elapsed | |
| addImmunogen | 0.22 | 0.02 | 2.94 | |
| addImmunogenList | 0.17 | 0.00 | 1.48 | |
| evaluateImmunogen | 0.22 | 0.00 | 1.53 | |
| getProteinFeatures | 0.22 | 0.03 | 1.54 | |
| plotImmunogen | 1.36 | 0.06 | 2.70 | |
| plotProtein | 1.51 | 0.02 | 2.83 | |
| removeImmunogen | 0.19 | 0.00 | 1.51 | |
| renameImmunogen | 0.14 | 0.00 | 1.47 | |