| Back to Multiple platform build/check report for BioC 3.22: simplified long |
|
This page was generated on 2025-11-20 12:03 -0500 (Thu, 20 Nov 2025).
| Hostname | OS | Arch (*) | R version | Installed pkgs |
|---|---|---|---|---|
| nebbiolo2 | Linux (Ubuntu 24.04.3 LTS) | x86_64 | 4.5.2 (2025-10-31) -- "[Not] Part in a Rumble" | 4615 |
| merida1 | macOS 12.7.6 Monterey | x86_64 | 4.5.2 Patched (2025-11-05 r88990) -- "[Not] Part in a Rumble" | 4610 |
| kjohnson1 | macOS 13.7.5 Ventura | arm64 | 4.5.2 Patched (2025-11-04 r88984) -- "[Not] Part in a Rumble" | 4598 |
| taishan | Linux (openEuler 24.03 LTS) | aarch64 | 4.5.0 (2025-04-11) -- "How About a Twenty-Six" | 4668 |
| Click on any hostname to see more info about the system (e.g. compilers) (*) as reported by 'uname -p', except on Windows and Mac OS X | ||||
| Package 1083/2361 | Hostname | OS / Arch | INSTALL | BUILD | CHECK | BUILD BIN | ||||||||
| iSEE 2.22.0 (landing page) Kevin Rue-Albrecht
| nebbiolo2 | Linux (Ubuntu 24.04.3 LTS) / x86_64 | OK | OK | OK | |||||||||
| merida1 | macOS 12.7.6 Monterey / x86_64 | OK | OK | OK | OK | |||||||||
| kjohnson1 | macOS 13.7.5 Ventura / arm64 | OK | OK | OK | OK | |||||||||
| taishan | Linux (openEuler 24.03 LTS) / aarch64 | OK | OK | OK | ||||||||||
|
To the developers/maintainers of the iSEE package: - Allow up to 24 hours (and sometimes 48 hours) for your latest push to git@git.bioconductor.org:packages/iSEE.git to reflect on this report. See Troubleshooting Build Report for more information. - Use the following Renviron settings to reproduce errors and warnings. - If 'R CMD check' started to fail recently on the Linux builder(s) over a missing dependency, add the missing dependency to 'Suggests:' in your DESCRIPTION file. See Renviron.bioc for more information. |
| Package: iSEE |
| Version: 2.22.0 |
| Command: /home/biocbuild/bbs-3.22-bioc/R/bin/R CMD check --install=check:iSEE.install-out.txt --library=/home/biocbuild/bbs-3.22-bioc/R/site-library --timings iSEE_2.22.0.tar.gz |
| StartedAt: 2025-11-18 05:17:06 -0500 (Tue, 18 Nov 2025) |
| EndedAt: 2025-11-18 05:25:15 -0500 (Tue, 18 Nov 2025) |
| EllapsedTime: 489.5 seconds |
| RetCode: 0 |
| Status: OK |
| CheckDir: iSEE.Rcheck |
| Warnings: 0 |
##############################################################################
##############################################################################
###
### Running command:
###
### /home/biocbuild/bbs-3.22-bioc/R/bin/R CMD check --install=check:iSEE.install-out.txt --library=/home/biocbuild/bbs-3.22-bioc/R/site-library --timings iSEE_2.22.0.tar.gz
###
##############################################################################
##############################################################################
* using log directory ‘/home/biocbuild/bbs-3.22-bioc/meat/iSEE.Rcheck’
* using R version 4.5.2 (2025-10-31)
* using platform: x86_64-pc-linux-gnu
* R was compiled by
gcc (Ubuntu 13.3.0-6ubuntu2~24.04) 13.3.0
GNU Fortran (Ubuntu 13.3.0-6ubuntu2~24.04) 13.3.0
* running under: Ubuntu 24.04.3 LTS
* using session charset: UTF-8
* checking for file ‘iSEE/DESCRIPTION’ ... OK
* this is package ‘iSEE’ version ‘2.22.0’
* package encoding: UTF-8
* checking package namespace information ... OK
* checking package dependencies ... OK
* checking if this is a source package ... OK
* checking if there is a namespace ... OK
* checking for hidden files and directories ... OK
* checking for portable file names ... OK
* checking for sufficient/correct file permissions ... OK
* checking whether package ‘iSEE’ can be installed ... OK
* checking installed package size ... OK
* checking package directory ... OK
* checking ‘build’ directory ... OK
* checking DESCRIPTION meta-information ... OK
* checking top-level files ... OK
* checking for left-over files ... OK
* checking index information ... OK
* checking package subdirectories ... OK
* checking code files for non-ASCII characters ... OK
* checking R files for syntax errors ... OK
* checking whether the package can be loaded ... OK
* checking whether the package can be loaded with stated dependencies ... OK
* checking whether the package can be unloaded cleanly ... OK
* checking whether the namespace can be loaded with stated dependencies ... OK
* checking whether the namespace can be unloaded cleanly ... OK
* checking loading without being on the library search path ... OK
* checking whether startup messages can be suppressed ... OK
* checking dependencies in R code ... NOTE
Unexported object imported by a ':::' call: ‘S4Vectors:::selectSome’
See the note in ?`:::` about the use of this operator.
* checking S3 generic/method consistency ... OK
* checking replacement functions ... OK
* checking foreign function calls ... OK
* checking R code for possible problems ... OK
* checking Rd files ... OK
* checking Rd metadata ... OK
* checking Rd cross-references ... NOTE
Found the following Rd file(s) with Rd \link{} targets missing package
anchors:
ColumnDataPlot-class.Rd: colData, SummarizedExperiment-class
ColumnDataTable-class.Rd: colData, SummarizedExperiment-class
ColumnDotPlot-class.Rd: SummarizedExperiment-class, ggplot, colData
ColumnTable-class.Rd: SummarizedExperiment-class, datatable
ComplexHeatmapPlot-class.Rd: SummarizedExperiment-class, Heatmap,
colData, columnAnnotation, rowData, rowAnnotation
DotPlot-class.Rd: SummarizedExperiment-class, ggplot, rowData,
colData, brushedPoints
FeatureAssayPlot-class.Rd: assay, SummarizedExperiment-class, colData
Panel-class.Rd: updateObject
ReducedDimensionPlot-class.Rd: reducedDims,
SingleCellExperiment-class
RowDataPlot-class.Rd: rowData, SummarizedExperiment-class
RowDataTable-class.Rd: rowData, SummarizedExperiment-class
RowDotPlot-class.Rd: SummarizedExperiment-class, ggplot, rowData
RowTable-class.Rd: SummarizedExperiment-class, datatable
SampleAssayPlot-class.Rd: assay, SummarizedExperiment-class, colData
Table-class.Rd: datatable, SummarizedExperiment-class
addCustomLabelsCommands.Rd: ggplot
addLabelCentersCommands.Rd: ggplot
addMultiSelectionCommands.Rd: ggplot
aes-utils.Rd: ggplot
cache-utils.Rd: SummarizedExperiment-class, DataFrame-class, rowData,
colData, ggplot, datatable
checkColormapCompatibility.Rd: SingleCellExperiment-class
cleanDataset.Rd: SummarizedExperiment-class, assay, rowData, colData,
selectInput, SingleCellExperiment-class, reducedDims
conditional-utils.Rd: conditionalPanel
createCustomDimnamesModalObservers.Rd: SummarizedExperiment-class
createCustomPanels.Rd: ggplot, SummarizedExperiment-class,
selectInput, textInput, numericInput, checkboxInput
createLandingPage.Rd: SummarizedExperiment,
SummarizedExperiment-class, renderUI
createProtectedParameterObservers.Rd: observeEvent
extractAssaySubmatrix.Rd: SummarizedExperiment-class
filterDTColumn.Rd: datatable
hidden-inputs.Rd: selectInput
iSEE.Rd: SummarizedExperiment-class, shinyApp, runApp
interface-generics.Rd: SummarizedExperiment-class
interface-wrappers.Rd: selectInput, hidden
jitterPoints.Rd: offsetX
labs-utils.Rd: ggplot
lassoPoints.Rd: brushedPoints, in.out
metadata-plot-generics.Rd: SummarizedExperiment-class, colData,
rowData
multi-select-generics.Rd: SummarizedExperiment-class
observer-generics.Rd: SummarizedExperiment-class
output-generics.Rd: plotOutput, dataTableOutput, tagList,
SummarizedExperiment-class, renderPlot, ggplot
plot-generics.Rd: SummarizedExperiment-class, ggplot,
scale_color_manual
processMultiSelections.Rd: SummarizedExperiment-class
registerAppOptions.Rd: SummarizedExperiment-class
retrieveOutput.Rd: SummarizedExperiment-class
setCachedCommonInfo.Rd: SummarizedExperiment-class, int_metadata
setup-generics.Rd: SummarizedExperiment-class, int_metadata,
SingleCellExperiment-class
single-select-generics.Rd: selectInput, checkboxInput
synchronizeAssays.Rd: SingleCellExperiment-class
table-generics.Rd: datatable, SummarizedExperiment-class
visual-parameters-generics.Rd: SummarizedExperiment-class, colData
Please provide package anchors for all Rd \link{} targets not in the
package itself and the base packages.
* checking for missing documentation entries ... OK
* checking for code/documentation mismatches ... OK
* checking Rd \usage sections ... OK
* checking Rd contents ... OK
* checking for unstated dependencies in examples ... OK
* checking files in ‘vignettes’ ... OK
* checking examples ... OK
Examples with CPU (user + system) or elapsed time > 5s
user system elapsed
checkColormapCompatibility 12.489 0.970 13.523
iSEE 7.891 0.711 8.602
synchronizeAssays 5.658 0.557 6.216
* checking for unstated dependencies in ‘tests’ ... OK
* checking tests ...
Running ‘testthat.R’
OK
* checking for unstated dependencies in vignettes ... OK
* checking package vignettes ... OK
* checking re-building of vignette outputs ... OK
* checking PDF version of manual ... OK
* DONE
Status: 2 NOTEs
See
‘/home/biocbuild/bbs-3.22-bioc/meat/iSEE.Rcheck/00check.log’
for details.
iSEE.Rcheck/00install.out
############################################################################## ############################################################################## ### ### Running command: ### ### /home/biocbuild/bbs-3.22-bioc/R/bin/R CMD INSTALL iSEE ### ############################################################################## ############################################################################## * installing to library ‘/home/biocbuild/bbs-3.22-bioc/R/site-library’ * installing *source* package ‘iSEE’ ... ** this is package ‘iSEE’ version ‘2.22.0’ ** using staged installation ** R ** inst ** byte-compile and prepare package for lazy loading ** help *** installing help indices ** building package indices ** installing vignettes ** testing if installed package can be loaded from temporary location ** testing if installed package can be loaded from final location ** testing if installed package keeps a record of temporary installation path * DONE (iSEE)
iSEE.Rcheck/tests/testthat.Rout
R version 4.5.2 (2025-10-31) -- "[Not] Part in a Rumble"
Copyright (C) 2025 The R Foundation for Statistical Computing
Platform: x86_64-pc-linux-gnu
R is free software and comes with ABSOLUTELY NO WARRANTY.
You are welcome to redistribute it under certain conditions.
Type 'license()' or 'licence()' for distribution details.
R is a collaborative project with many contributors.
Type 'contributors()' for more information and
'citation()' on how to cite R or R packages in publications.
Type 'demo()' for some demos, 'help()' for on-line help, or
'help.start()' for an HTML browser interface to help.
Type 'q()' to quit R.
> library(testthat)
> library(iSEE)
Loading required package: SummarizedExperiment
Loading required package: MatrixGenerics
Loading required package: matrixStats
Attaching package: 'MatrixGenerics'
The following objects are masked from 'package:matrixStats':
colAlls, colAnyNAs, colAnys, colAvgsPerRowSet, colCollapse,
colCounts, colCummaxs, colCummins, colCumprods, colCumsums,
colDiffs, colIQRDiffs, colIQRs, colLogSumExps, colMadDiffs,
colMads, colMaxs, colMeans2, colMedians, colMins, colOrderStats,
colProds, colQuantiles, colRanges, colRanks, colSdDiffs, colSds,
colSums2, colTabulates, colVarDiffs, colVars, colWeightedMads,
colWeightedMeans, colWeightedMedians, colWeightedSds,
colWeightedVars, rowAlls, rowAnyNAs, rowAnys, rowAvgsPerColSet,
rowCollapse, rowCounts, rowCummaxs, rowCummins, rowCumprods,
rowCumsums, rowDiffs, rowIQRDiffs, rowIQRs, rowLogSumExps,
rowMadDiffs, rowMads, rowMaxs, rowMeans2, rowMedians, rowMins,
rowOrderStats, rowProds, rowQuantiles, rowRanges, rowRanks,
rowSdDiffs, rowSds, rowSums2, rowTabulates, rowVarDiffs, rowVars,
rowWeightedMads, rowWeightedMeans, rowWeightedMedians,
rowWeightedSds, rowWeightedVars
Loading required package: GenomicRanges
Loading required package: stats4
Loading required package: BiocGenerics
Loading required package: generics
Attaching package: 'generics'
The following objects are masked from 'package:base':
as.difftime, as.factor, as.ordered, intersect, is.element, setdiff,
setequal, union
Attaching package: 'BiocGenerics'
The following objects are masked from 'package:stats':
IQR, mad, sd, var, xtabs
The following objects are masked from 'package:base':
Filter, Find, Map, Position, Reduce, anyDuplicated, aperm, append,
as.data.frame, basename, cbind, colnames, dirname, do.call,
duplicated, eval, evalq, get, grep, grepl, is.unsorted, lapply,
mapply, match, mget, order, paste, pmax, pmax.int, pmin, pmin.int,
rank, rbind, rownames, sapply, saveRDS, table, tapply, unique,
unsplit, which.max, which.min
Loading required package: S4Vectors
Attaching package: 'S4Vectors'
The following object is masked from 'package:utils':
findMatches
The following objects are masked from 'package:base':
I, expand.grid, unname
Loading required package: IRanges
Loading required package: Seqinfo
Loading required package: Biobase
Welcome to Bioconductor
Vignettes contain introductory material; view with
'browseVignettes()'. To cite Bioconductor, see
'citation("Biobase")', and for packages 'citation("pkgname")'.
Attaching package: 'Biobase'
The following object is masked from 'package:MatrixGenerics':
rowMedians
The following objects are masked from 'package:matrixStats':
anyMissing, rowMedians
Loading required package: SingleCellExperiment
>
> test_check("iSEE")
Loading required package: scRNAseq
Loading required package: scater
Loading required package: scuttle
Loading required package: ggplot2
see ?scRNAseq and browseVignettes('scRNAseq') for documentation
downloading 1 resources
retrieving 1 resource
loading from cache
see ?scRNAseq and browseVignettes('scRNAseq') for documentation
downloading 1 resources
retrieving 1 resource
loading from cache
see ?scRNAseq and browseVignettes('scRNAseq') for documentation
downloading 1 resources
retrieving 1 resource
loading from cache
Warning in (function (A, nv = 5, nu = nv, maxit = 1000, work = nv + 7, reorth = TRUE, :
You're computing too large a percentage of total singular values, use a standard svd instead.
Class: ExperimentColorMap
assays(5): counts tophat_counts cufflinks_fpkm cufflinks_fpkm rsem_tpm
colData(1): passes_qc_checks_s
rowData(0):
all_discrete(0):
all_continuous(0):
global_discrete(1)
global_continuous(1)
[ FAIL 0 | WARN 6 | SKIP 2 | PASS 1486 ]
══ Skipped tests (2) ═══════════════════════════════════════════════════════════
• empty test (1): 'test_zzz.R:3:1'
• waiting for a fix to the SCE itself (1): 'test_clean.R:100:5'
[ FAIL 0 | WARN 6 | SKIP 2 | PASS 1486 ]
>
> proc.time()
user system elapsed
67.753 3.788 72.491
iSEE.Rcheck/iSEE-Ex.timings
| name | user | system | elapsed | |
| ColumnDataPlot-class | 2.089 | 0.073 | 2.164 | |
| ColumnDataTable-class | 0.354 | 0.013 | 0.366 | |
| ComplexHeatmapPlot-class | 0.535 | 0.044 | 0.577 | |
| ExperimentColorMap-class | 0.030 | 0.013 | 0.042 | |
| FeatureAssayPlot-class | 0.54 | 0.03 | 0.57 | |
| ReducedDimensionPlot-class | 0.794 | 0.005 | 0.800 | |
| RowDataPlot-class | 0.481 | 0.006 | 0.488 | |
| RowDataTable-class | 0.380 | 0.009 | 0.389 | |
| SampleAssayPlot-class | 0.495 | 0.001 | 0.495 | |
| aes-utils | 0 | 0 | 0 | |
| cache-utils | 0.047 | 0.000 | 0.046 | |
| checkColormapCompatibility | 12.489 | 0.970 | 13.523 | |
| class-utils | 0.001 | 0.001 | 0.001 | |
| cleanDataset | 0.048 | 0.000 | 0.048 | |
| collapseBox | 0.026 | 0.001 | 0.027 | |
| createCustomPanels | 0.07 | 0.00 | 0.07 | |
| createLandingPage | 0.113 | 0.001 | 0.114 | |
| defaultTour | 0.006 | 0.000 | 0.006 | |
| filterDTColumn | 0.003 | 0.000 | 0.003 | |
| getPanelColor | 0.095 | 0.000 | 0.095 | |
| hidden-inputs | 0.019 | 0.001 | 0.020 | |
| iSEE | 7.891 | 0.711 | 8.602 | |
| iSEEOptions | 0 | 0 | 0 | |
| jitterPoints | 0.054 | 0.000 | 0.054 | |
| labs-utils | 0.001 | 0.000 | 0.001 | |
| lassoPoints | 0.004 | 0.000 | 0.004 | |
| manage_commands | 0 | 0 | 0 | |
| multiSelectionToFactor | 0.000 | 0.001 | 0.001 | |
| panelDefaults | 0 | 0 | 0 | |
| plot-utils | 0.01 | 0.00 | 0.01 | |
| registerAppOptions | 0.004 | 0.000 | 0.004 | |
| selectionColorMap | 0.001 | 0.000 | 0.001 | |
| setCachedCommonInfo | 0.003 | 0.000 | 0.003 | |
| subsetPointsByGrid | 0.421 | 0.013 | 0.435 | |
| synchronizeAssays | 5.658 | 0.557 | 6.216 | |