Back to Multiple platform build/check report for BioC 3.22:   simplified   long
ABCDEFGH[I]JKLMNOPQRSTUVWXYZ

This page was generated on 2025-11-24 12:07 -0500 (Mon, 24 Nov 2025).

HostnameOSArch (*)R versionInstalled pkgs
nebbiolo2Linux (Ubuntu 24.04.3 LTS)x86_644.5.2 (2025-10-31) -- "[Not] Part in a Rumble" 4873
merida1macOS 12.7.6 Montereyx86_644.5.2 Patched (2025-11-05 r88990) -- "[Not] Part in a Rumble" 4654
kjohnson1macOS 13.7.5 Venturaarm644.5.2 Patched (2025-11-04 r88984) -- "[Not] Part in a Rumble" 4600
taishanLinux (openEuler 24.03 LTS)aarch644.5.0 (2025-04-11) -- "How About a Twenty-Six" 4668
Click on any hostname to see more info about the system (e.g. compilers)      (*) as reported by 'uname -p', except on Windows and Mac OS X

Package 1058/2361HostnameOS / ArchINSTALLBUILDCHECKBUILD BIN
iNETgrate 1.8.0  (landing page)
Habil Zare
Snapshot Date: 2025-11-20 15:01 -0500 (Thu, 20 Nov 2025)
git_url: https://git.bioconductor.org/packages/iNETgrate
git_branch: RELEASE_3_22
git_last_commit: 1ca2a7a
git_last_commit_date: 2025-10-29 11:23:49 -0500 (Wed, 29 Oct 2025)
nebbiolo2Linux (Ubuntu 24.04.3 LTS) / x86_64  OK    OK    OK  NO, package depends on 'Pigengene' which is not available
merida1macOS 12.7.6 Monterey / x86_64  OK    OK    OK    OK  NO, package depends on 'Pigengene' which is not available
kjohnson1macOS 13.7.5 Ventura / arm64  OK    OK    OK    OK  NO, package depends on 'Pigengene' which is not available
taishanLinux (openEuler 24.03 LTS) / aarch64  OK    OK    OK  


CHECK results for iNETgrate on taishan

To the developers/maintainers of the iNETgrate package:
- Allow up to 24 hours (and sometimes 48 hours) for your latest push to git@git.bioconductor.org:packages/iNETgrate.git to reflect on this report. See Troubleshooting Build Report for more information.
- Use the following Renviron settings to reproduce errors and warnings.
- If 'R CMD check' started to fail recently on the Linux builder(s) over a missing dependency, add the missing dependency to 'Suggests:' in your DESCRIPTION file. See Renviron.bioc for more information.
- See Martin Grigorov's blog post for how to debug Linux ARM64 related issues on a x86_64 host.

raw results


Summary

Package: iNETgrate
Version: 1.8.0
Command: /home/biocbuild/R/R/bin/R CMD check --install=check:iNETgrate.install-out.txt --library=/home/biocbuild/R/R/site-library --no-vignettes --timings iNETgrate_1.8.0.tar.gz
StartedAt: 2025-11-21 11:58:33 -0000 (Fri, 21 Nov 2025)
EndedAt: 2025-11-21 12:15:18 -0000 (Fri, 21 Nov 2025)
EllapsedTime: 1005.0 seconds
RetCode: 0
Status:   OK  
CheckDir: iNETgrate.Rcheck
Warnings: 0

Command output

##############################################################################
##############################################################################
###
### Running command:
###
###   /home/biocbuild/R/R/bin/R CMD check --install=check:iNETgrate.install-out.txt --library=/home/biocbuild/R/R/site-library --no-vignettes --timings iNETgrate_1.8.0.tar.gz
###
##############################################################################
##############################################################################


* using log directory ‘/home/biocbuild/bbs-3.22-bioc/meat/iNETgrate.Rcheck’
* using R version 4.5.0 (2025-04-11)
* using platform: aarch64-unknown-linux-gnu
* R was compiled by
    aarch64-unknown-linux-gnu-gcc (GCC) 14.2.0
    GNU Fortran (GCC) 14.2.0
* running under: openEuler 24.03 (LTS)
* using session charset: UTF-8
* using option ‘--no-vignettes’
* checking for file ‘iNETgrate/DESCRIPTION’ ... OK
* checking extension type ... Package
* this is package ‘iNETgrate’ version ‘1.8.0’
* checking package namespace information ... OK
* checking package dependencies ... OK
* checking if this is a source package ... OK
* checking if there is a namespace ... OK
* checking for hidden files and directories ... OK
* checking for portable file names ... OK
* checking for sufficient/correct file permissions ... OK
* checking whether package ‘iNETgrate’ can be installed ... OK
* checking installed package size ... OK
* checking package directory ... OK
* checking ‘build’ directory ... OK
* checking DESCRIPTION meta-information ... OK
* checking top-level files ... OK
* checking for left-over files ... OK
* checking index information ... OK
* checking package subdirectories ... OK
* checking code files for non-ASCII characters ... OK
* checking R files for syntax errors ... OK
* checking whether the package can be loaded ... OK
* checking whether the package can be loaded with stated dependencies ... OK
* checking whether the package can be unloaded cleanly ... OK
* checking whether the namespace can be loaded with stated dependencies ... OK
* checking whether the namespace can be unloaded cleanly ... OK
* checking loading without being on the library search path ... OK
* checking dependencies in R code ... OK
* checking S3 generic/method consistency ... OK
* checking replacement functions ... OK
* checking foreign function calls ... OK
* checking R code for possible problems ... OK
* checking Rd files ... OK
* checking Rd metadata ... OK
* checking Rd cross-references ... OK
* checking for missing documentation entries ... OK
* checking for code/documentation mismatches ... OK
* checking Rd \usage sections ... OK
* checking Rd contents ... OK
* checking for unstated dependencies in examples ... OK
* checking contents of ‘data’ directory ... OK
* checking data for non-ASCII characters ... OK
* checking data for ASCII and uncompressed saves ... OK
* checking files in ‘vignettes’ ... OK
* checking examples ... OK
Examples with CPU (user + system) or elapsed time > 5s
                     user system elapsed
iNETgrate         144.347  3.714 148.438
toyEigengenes      69.978  0.471  70.621
computEigengenes   66.053  0.667  66.875
toyComputEloci     64.590  1.073  65.837
analyzeSurvival    49.921  1.209  51.263
makeNetwork        43.549  0.341  43.992
computEigenloci    19.748  0.451  20.254
cleanAllData       12.823  0.459  13.417
accelFailAnalysis   7.877  0.631   8.533
* checking for unstated dependencies in vignettes ... OK
* checking package vignettes ... OK
* checking running R code from vignettes ... SKIPPED
* checking re-building of vignette outputs ... SKIPPED
* checking PDF version of manual ... OK
* DONE

Status: OK


Installation output

iNETgrate.Rcheck/00install.out

##############################################################################
##############################################################################
###
### Running command:
###
###   /home/biocbuild/R/R/bin/R CMD INSTALL iNETgrate
###
##############################################################################
##############################################################################


* installing to library ‘/home/biocbuild/R/R-4.5.0/site-library’
* installing *source* package ‘iNETgrate’ ...
** this is package ‘iNETgrate’ version ‘1.8.0’
** using staged installation
** R
** data
** inst
** byte-compile and prepare package for lazy loading
** help
*** installing help indices
** building package indices
** installing vignettes
** testing if installed package can be loaded from temporary location
** testing if installed package can be loaded from final location
** testing if installed package keeps a record of temporary installation path
* DONE (iNETgrate)

Tests output


Example timings

iNETgrate.Rcheck/iNETgrate-Ex.timings

nameusersystemelapsed
accelFailAnalysis7.8770.6318.533
analyzeSurvival49.921 1.20951.263
bestInetgrator0.2790.0520.471
cleanAllData12.823 0.45913.417
computEigengenes66.053 0.66766.875
computEigenloci19.748 0.45120.254
computeInetgrator0.2720.0270.302
computeUnion2.0160.0162.037
coxAnalysis1.9930.0001.997
createLocusGene0.1560.0000.157
distanceToTss3.7370.0483.795
downloaData0.0000.0000.001
electGenes2.6520.0962.754
filterLowCor0.6370.0000.638
findAliveCutoff0.1540.0040.158
findCore2.0490.0042.057
findTcgaDuplicates0.2240.0000.224
iNETgrate-package0.2610.0190.281
iNETgrate144.347 3.714148.438
inferEigengenes0.2720.0260.299
makeNetwork43.549 0.34143.992
plotKM0.3710.0040.376
plotLociNum0.3070.0040.312
plotLociTss0.0530.0000.054
prepareSurvival0.1610.0040.165
preprocessDnam1.1670.0241.193
sample2pat0.2070.0040.212
sampleData0.7040.1840.890
toyCleanedAml0.1330.0000.133
toyComputEloci64.590 1.07365.837
toyEigengenes69.978 0.47170.621
toyRawAml0.1580.0040.163