| Back to Multiple platform build/check report for BioC 3.21: simplified long |
|
This page was generated on 2025-04-22 13:16 -0400 (Tue, 22 Apr 2025).
| Hostname | OS | Arch (*) | R version | Installed pkgs |
|---|---|---|---|---|
| nebbiolo1 | Linux (Ubuntu 24.04.1 LTS) | x86_64 | 4.5.0 RC (2025-04-04 r88126) -- "How About a Twenty-Six" | 4831 |
| palomino7 | Windows Server 2022 Datacenter | x64 | 4.5.0 RC (2025-04-04 r88126 ucrt) -- "How About a Twenty-Six" | 4573 |
| lconway | macOS 12.7.1 Monterey | x86_64 | 4.5.0 RC (2025-04-04 r88126) -- "How About a Twenty-Six" | 4599 |
| kjohnson3 | macOS 13.7.1 Ventura | arm64 | 4.5.0 RC (2025-04-04 r88126) -- "How About a Twenty-Six" | 4553 |
| kunpeng2 | Linux (openEuler 24.03 LTS) | aarch64 | R Under development (unstable) (2025-02-19 r87757) -- "Unsuffered Consequences" | 4570 |
| Click on any hostname to see more info about the system (e.g. compilers) (*) as reported by 'uname -p', except on Windows and Mac OS X | ||||
| Package 1017/2341 | Hostname | OS / Arch | INSTALL | BUILD | CHECK | BUILD BIN | ||||||||
| iCheck 1.38.0 (landing page) Weiliang Qiu
| nebbiolo1 | Linux (Ubuntu 24.04.1 LTS) / x86_64 | OK | OK | OK | |||||||||
| palomino7 | Windows Server 2022 Datacenter / x64 | OK | OK | OK | OK | |||||||||
| lconway | macOS 12.7.1 Monterey / x86_64 | OK | OK | OK | OK | |||||||||
| kjohnson3 | macOS 13.7.1 Ventura / arm64 | OK | OK | OK | OK | |||||||||
| kunpeng2 | Linux (openEuler 24.03 LTS) / aarch64 | OK | OK | OK | ||||||||||
|
To the developers/maintainers of the iCheck package: - Allow up to 24 hours (and sometimes 48 hours) for your latest push to git@git.bioconductor.org:packages/iCheck.git to reflect on this report. See Troubleshooting Build Report for more information. - Use the following Renviron settings to reproduce errors and warnings. - If 'R CMD check' started to fail recently on the Linux builder(s) over a missing dependency, add the missing dependency to 'Suggests:' in your DESCRIPTION file. See Renviron.bioc for more information. |
| Package: iCheck |
| Version: 1.38.0 |
| Command: /Library/Frameworks/R.framework/Resources/bin/R CMD check --install=check:iCheck.install-out.txt --library=/Library/Frameworks/R.framework/Resources/library --no-vignettes --timings iCheck_1.38.0.tar.gz |
| StartedAt: 2025-04-21 21:19:57 -0400 (Mon, 21 Apr 2025) |
| EndedAt: 2025-04-21 21:25:38 -0400 (Mon, 21 Apr 2025) |
| EllapsedTime: 341.2 seconds |
| RetCode: 0 |
| Status: OK |
| CheckDir: iCheck.Rcheck |
| Warnings: 0 |
##############################################################################
##############################################################################
###
### Running command:
###
### /Library/Frameworks/R.framework/Resources/bin/R CMD check --install=check:iCheck.install-out.txt --library=/Library/Frameworks/R.framework/Resources/library --no-vignettes --timings iCheck_1.38.0.tar.gz
###
##############################################################################
##############################################################################
* using log directory ‘/Users/biocbuild/bbs-3.21-bioc/meat/iCheck.Rcheck’
* using R version 4.5.0 RC (2025-04-04 r88126)
* using platform: x86_64-apple-darwin20
* R was compiled by
Apple clang version 14.0.0 (clang-1400.0.29.202)
GNU Fortran (GCC) 14.2.0
* running under: macOS Monterey 12.7.6
* using session charset: UTF-8
* using option ‘--no-vignettes’
* checking for file ‘iCheck/DESCRIPTION’ ... OK
* checking extension type ... Package
* this is package ‘iCheck’ version ‘1.38.0’
* checking package namespace information ... OK
* checking package dependencies ... OK
* checking if this is a source package ... OK
* checking if there is a namespace ... OK
* checking for hidden files and directories ... OK
* checking for portable file names ... OK
* checking for sufficient/correct file permissions ... OK
* checking whether package ‘iCheck’ can be installed ... OK
* checking installed package size ... OK
* checking package directory ... OK
* checking ‘build’ directory ... OK
* checking DESCRIPTION meta-information ... OK
* checking top-level files ... OK
* checking for left-over files ... OK
* checking index information ... OK
* checking package subdirectories ... OK
* checking code files for non-ASCII characters ... OK
* checking R files for syntax errors ... OK
* checking whether the package can be loaded ... OK
* checking whether the package can be loaded with stated dependencies ... OK
* checking whether the package can be unloaded cleanly ... OK
* checking whether the namespace can be loaded with stated dependencies ... OK
* checking whether the namespace can be unloaded cleanly ... OK
* checking dependencies in R code ... OK
* checking S3 generic/method consistency ... OK
* checking replacement functions ... OK
* checking foreign function calls ... OK
* checking R code for possible problems ... OK
* checking Rd files ... NOTE
checkRd: (-1) R2PlotFunc.Rd:74: Lost braces; missing escapes or markup?
74 | 'las' numeric in {0,1,2,3}; the style of axis labels.
| ^
checkRd: (-1) genSimData.BayesNormal.Rd:93: Lost braces; missing escapes or markup?
93 | contains 2 columns: \code{arrayID} (array id) and {memSubj} (subject
| ^
checkRd: (-1) lmFitWrapper.Rd:85: Lost braces
85 | code{pval} (p-values of the tests for the covariate of interest, i.e.
| ^
checkRd: (-1) plotCurves.Rd:75: Lost braces; missing escapes or markup?
75 | 'las' numeric in {0,1,2,3}; the style of axis labels.
| ^
checkRd: (-1) plotQCCurves.Rd:102: Lost braces; missing escapes or markup?
102 | 'las' numeric in {0,1,2,3}; the style of axis labels.
| ^
checkRd: (-1) plotSamplep95p05.Rd:92: Lost braces; missing escapes or markup?
92 | 'las' numeric in {0,1,2,3}; the style of axis labels.
| ^
checkRd: (-1) quantilePlot.Rd:78: Lost braces; missing escapes or markup?
78 | 'las' numeric in {0,1,2,3}; the style of axis labels.
| ^
* checking Rd metadata ... OK
* checking Rd cross-references ... NOTE
Found the following Rd file(s) with Rd \link{} targets missing package
anchors:
R2PlotFunc.Rd: heatmap.2
Please provide package anchors for all Rd \link{} targets not in the
package itself and the base packages.
* checking for missing documentation entries ... OK
* checking for code/documentation mismatches ... OK
* checking Rd \usage sections ... OK
* checking Rd contents ... OK
* checking for unstated dependencies in examples ... OK
* checking sizes of PDF files under ‘inst/doc’ ... OK
* checking files in ‘vignettes’ ... OK
* checking examples ... OK
* checking for unstated dependencies in vignettes ... OK
* checking package vignettes ... OK
* checking running R code from vignettes ... SKIPPED
* checking re-building of vignette outputs ... SKIPPED
* checking PDF version of manual ... OK
* DONE
Status: 2 NOTEs
See
‘/Users/biocbuild/bbs-3.21-bioc/meat/iCheck.Rcheck/00check.log’
for details.
iCheck.Rcheck/00install.out
############################################################################## ############################################################################## ### ### Running command: ### ### /Library/Frameworks/R.framework/Resources/bin/R CMD INSTALL iCheck ### ############################################################################## ############################################################################## * installing to library ‘/Library/Frameworks/R.framework/Versions/4.5-x86_64/Resources/library’ * installing *source* package ‘iCheck’ ... ** this is package ‘iCheck’ version ‘1.38.0’ ** using staged installation ** R ** byte-compile and prepare package for lazy loading No methods found in package ‘RSQLite’ for request: ‘dbListFields’ when loading ‘lumi’ ** help *** installing help indices ** building package indices ** installing vignettes ** testing if installed package can be loaded from temporary location No methods found in package ‘RSQLite’ for request: ‘dbListFields’ when loading ‘lumi’ ** testing if installed package can be loaded from final location No methods found in package ‘RSQLite’ for request: ‘dbListFields’ when loading ‘lumi’ ** testing if installed package keeps a record of temporary installation path * DONE (iCheck)
iCheck.Rcheck/iCheck-Ex.timings
| name | user | system | elapsed | |
| LumiBatch2Table | 0.106 | 0.006 | 0.113 | |
| R2PlotFunc | 0.181 | 0.012 | 0.196 | |
| boxPlots | 0.204 | 0.030 | 0.240 | |
| densityPlots | 0.082 | 0.005 | 0.089 | |
| genSimData.BayesNormal | 0.030 | 0.000 | 0.031 | |
| getPCAFunc | 0.051 | 0.001 | 0.052 | |
| glmWrapper | 0.341 | 0.009 | 0.353 | |
| lkhrWrapper | 0.588 | 0.033 | 0.624 | |
| lmFitPaired | 0.042 | 0.002 | 0.045 | |
| lmFitWrapper | 0.040 | 0.002 | 0.042 | |
| pca2DPlot | 0.073 | 0.002 | 0.075 | |
| pca3DPlot | 0.054 | 0.003 | 0.056 | |
| plotCurves | 0.037 | 0.002 | 0.039 | |
| plotQCCurves | 0.055 | 0.002 | 0.058 | |
| plotSamplep95p05 | 0.070 | 0.002 | 0.072 | |
| quantilePlot | 0.061 | 0.004 | 0.065 | |
| scatterPlots | 0.096 | 0.018 | 0.119 | |
| sortExpressionSet | 0.047 | 0.001 | 0.047 | |