| Back to Multiple platform build/check report for BioC 3.22: simplified long |
|
This page was generated on 2025-11-05 12:40 -0500 (Wed, 05 Nov 2025).
| Hostname | OS | Arch (*) | R version | Installed pkgs |
|---|---|---|---|---|
| nebbiolo2 | Linux (Ubuntu 24.04.3 LTS) | x86_64 | 4.5.1 Patched (2025-08-23 r88802) -- "Great Square Root" | 4902 |
| kjohnson3 | macOS 13.7.7 Ventura | arm64 | 4.5.1 Patched (2025-09-10 r88807) -- "Great Square Root" | 4638 |
| Click on any hostname to see more info about the system (e.g. compilers) (*) as reported by 'uname -p', except on Windows and Mac OS X | ||||
| Package 989/2361 | Hostname | OS / Arch | INSTALL | BUILD | CHECK | BUILD BIN | ||||||||
| hierinf 1.28.0 (landing page) Claude Renaux
| nebbiolo2 | Linux (Ubuntu 24.04.3 LTS) / x86_64 | OK | OK | OK | |||||||||
| kjohnson3 | macOS 13.7.7 Ventura / arm64 | OK | OK | OK | OK | |||||||||
|
To the developers/maintainers of the hierinf package: - Allow up to 24 hours (and sometimes 48 hours) for your latest push to git@git.bioconductor.org:packages/hierinf.git to reflect on this report. See Troubleshooting Build Report for more information. - Use the following Renviron settings to reproduce errors and warnings. - If 'R CMD check' started to fail recently on the Linux builder(s) over a missing dependency, add the missing dependency to 'Suggests:' in your DESCRIPTION file. See Renviron.bioc for more information. |
| Package: hierinf |
| Version: 1.28.0 |
| Command: /home/biocbuild/bbs-3.22-bioc/R/bin/R CMD check --install=check:hierinf.install-out.txt --library=/home/biocbuild/bbs-3.22-bioc/R/site-library --timings hierinf_1.28.0.tar.gz |
| StartedAt: 2025-11-05 00:30:43 -0500 (Wed, 05 Nov 2025) |
| EndedAt: 2025-11-05 00:34:49 -0500 (Wed, 05 Nov 2025) |
| EllapsedTime: 246.3 seconds |
| RetCode: 0 |
| Status: OK |
| CheckDir: hierinf.Rcheck |
| Warnings: 0 |
##############################################################################
##############################################################################
###
### Running command:
###
### /home/biocbuild/bbs-3.22-bioc/R/bin/R CMD check --install=check:hierinf.install-out.txt --library=/home/biocbuild/bbs-3.22-bioc/R/site-library --timings hierinf_1.28.0.tar.gz
###
##############################################################################
##############################################################################
* using log directory ‘/home/biocbuild/bbs-3.22-bioc/meat/hierinf.Rcheck’
* using R version 4.5.1 Patched (2025-08-23 r88802)
* using platform: x86_64-pc-linux-gnu
* R was compiled by
gcc (Ubuntu 13.3.0-6ubuntu2~24.04) 13.3.0
GNU Fortran (Ubuntu 13.3.0-6ubuntu2~24.04) 13.3.0
* running under: Ubuntu 24.04.3 LTS
* using session charset: UTF-8
* checking for file ‘hierinf/DESCRIPTION’ ... OK
* checking extension type ... Package
* this is package ‘hierinf’ version ‘1.28.0’
* package encoding: UTF-8
* checking package namespace information ... OK
* checking package dependencies ... OK
* checking if this is a source package ... OK
* checking if there is a namespace ... OK
* checking for hidden files and directories ... OK
* checking for portable file names ... OK
* checking for sufficient/correct file permissions ... OK
* checking whether package ‘hierinf’ can be installed ... OK
* checking installed package size ... OK
* checking package directory ... OK
* checking ‘build’ directory ... OK
* checking DESCRIPTION meta-information ... OK
* checking top-level files ... OK
* checking for left-over files ... OK
* checking index information ... OK
* checking package subdirectories ... NOTE
Problems with news in ‘NEWS.md’:
No news entries found.
* checking code files for non-ASCII characters ... OK
* checking R files for syntax errors ... OK
* checking whether the package can be loaded ... OK
* checking whether the package can be loaded with stated dependencies ... OK
* checking whether the package can be unloaded cleanly ... OK
* checking whether the namespace can be loaded with stated dependencies ... OK
* checking whether the namespace can be unloaded cleanly ... OK
* checking loading without being on the library search path ... OK
* checking dependencies in R code ... OK
* checking S3 generic/method consistency ... OK
* checking replacement functions ... OK
* checking foreign function calls ... OK
* checking R code for possible problems ... OK
* checking Rd files ... OK
* checking Rd metadata ... OK
* checking Rd cross-references ... NOTE
Found the following Rd file(s) with Rd \link{} targets missing package
anchors:
compute_r2.Rd: NagelkerkeR2
multisplit.Rd: glmnet
test_hierarchy.Rd: glmnet
Please provide package anchors for all Rd \link{} targets not in the
package itself and the base packages.
* checking for missing documentation entries ... OK
* checking for code/documentation mismatches ... OK
* checking Rd \usage sections ... OK
* checking Rd contents ... OK
* checking for unstated dependencies in examples ... OK
* checking contents of ‘data’ directory ... OK
* checking data for non-ASCII characters ... OK
* checking LazyData ... OK
* checking data for ASCII and uncompressed saves ... OK
* checking files in ‘vignettes’ ... OK
* checking examples ... OK
Examples with CPU (user + system) or elapsed time > 5s
user system elapsed
simGWAS 58.997 0.072 59.070
test_hierarchy 11.085 0.017 11.102
test_only_hierarchy 10.271 0.005 10.276
compute_r2 6.811 0.105 6.916
print.hierT 5.535 0.010 5.548
* checking for unstated dependencies in ‘tests’ ... OK
* checking tests ...
Running ‘testthat.R’
OK
* checking for unstated dependencies in vignettes ... OK
* checking package vignettes ... OK
* checking re-building of vignette outputs ... OK
* checking PDF version of manual ... OK
* DONE
Status: 2 NOTEs
See
‘/home/biocbuild/bbs-3.22-bioc/meat/hierinf.Rcheck/00check.log’
for details.
hierinf.Rcheck/00install.out
############################################################################## ############################################################################## ### ### Running command: ### ### /home/biocbuild/bbs-3.22-bioc/R/bin/R CMD INSTALL hierinf ### ############################################################################## ############################################################################## * installing to library ‘/home/biocbuild/bbs-3.22-bioc/R/site-library’ * installing *source* package ‘hierinf’ ... ** this is package ‘hierinf’ version ‘1.28.0’ ** using staged installation ** R ** data *** moving datasets to lazyload DB ** inst ** byte-compile and prepare package for lazy loading ** help *** installing help indices ** building package indices ** installing vignettes ** testing if installed package can be loaded from temporary location ** testing if installed package can be loaded from final location ** testing if installed package keeps a record of temporary installation path * DONE (hierinf)
hierinf.Rcheck/tests/testthat.Rout
R version 4.5.1 Patched (2025-08-23 r88802) -- "Great Square Root"
Copyright (C) 2025 The R Foundation for Statistical Computing
Platform: x86_64-pc-linux-gnu
R is free software and comes with ABSOLUTELY NO WARRANTY.
You are welcome to redistribute it under certain conditions.
Type 'license()' or 'licence()' for distribution details.
R is a collaborative project with many contributors.
Type 'contributors()' for more information and
'citation()' on how to cite R or R packages in publications.
Type 'demo()' for some demos, 'help()' for on-line help, or
'help.start()' for an HTML browser interface to help.
Type 'q()' to quit R.
> # All tests are in the folder testthat
> require("testthat")
Loading required package: testthat
> test_check("hierinf")
Loading required package: hierinf
[ FAIL 0 | WARN 0 | SKIP 12 | PASS 145 ]
══ Skipped tests (12) ══════════════════════════════════════════════════════════
• On Bioconductor (12): 'test-cluster_var.R:182:3', 'test-multisplit.R:92:3',
'test-test_hierarchy.R:352:3', 'test-test_hierarchy.R:461:3',
'test-test_hierarchy.R:575:3', 'test-test_only_hierarchy.R:460:3',
'test-test_only_hierarchy.R:570:3', 'test-test_only_hierarchy.R:684:3',
'test-test_only_hierarchy.R:892:3', 'test-test_only_hierarchy.R:1271:3',
'test-test_only_hierarchy.R:1563:3', 'test-test_only_hierarchy.R:1701:3'
[ FAIL 0 | WARN 0 | SKIP 12 | PASS 145 ]
>
> proc.time()
user system elapsed
49.769 0.624 50.527
hierinf.Rcheck/hierinf-Ex.timings
| name | user | system | elapsed | |
| cluster_position | 0.072 | 0.003 | 0.075 | |
| cluster_var | 0.683 | 0.019 | 0.702 | |
| compute_r2 | 6.811 | 0.105 | 6.916 | |
| multisplit | 1.010 | 0.014 | 1.024 | |
| print.hierT | 5.535 | 0.010 | 5.548 | |
| simGWAS | 58.997 | 0.072 | 59.070 | |
| test_hierarchy | 11.085 | 0.017 | 11.102 | |
| test_only_hierarchy | 10.271 | 0.005 | 10.276 | |