| Back to Multiple platform build/check report for BioC 3.21: simplified long |
|
This page was generated on 2025-10-16 11:41 -0400 (Thu, 16 Oct 2025).
| Hostname | OS | Arch (*) | R version | Installed pkgs |
|---|---|---|---|---|
| nebbiolo1 | Linux (Ubuntu 24.04.3 LTS) | x86_64 | 4.5.1 (2025-06-13) -- "Great Square Root" | 4833 |
| merida1 | macOS 12.7.6 Monterey | x86_64 | 4.5.1 RC (2025-06-05 r88288) -- "Great Square Root" | 4614 |
| kjohnson1 | macOS 13.7.5 Ventura | arm64 | 4.5.1 Patched (2025-06-14 r88325) -- "Great Square Root" | 4555 |
| kunpeng2 | Linux (openEuler 24.03 LTS) | aarch64 | R Under development (unstable) (2025-02-19 r87757) -- "Unsuffered Consequences" | 4586 |
| Click on any hostname to see more info about the system (e.g. compilers) (*) as reported by 'uname -p', except on Windows and Mac OS X | ||||
| Package 967/2341 | Hostname | OS / Arch | INSTALL | BUILD | CHECK | BUILD BIN | ||||||||
| hiAnnotator 1.42.0 (landing page) Nirav V Malani
| nebbiolo1 | Linux (Ubuntu 24.04.3 LTS) / x86_64 | OK | OK | OK | |||||||||
| merida1 | macOS 12.7.6 Monterey / x86_64 | OK | OK | OK | OK | |||||||||
| kjohnson1 | macOS 13.7.5 Ventura / arm64 | OK | OK | OK | OK | |||||||||
| kunpeng2 | Linux (openEuler 24.03 LTS) / aarch64 | OK | OK | OK | ||||||||||
|
To the developers/maintainers of the hiAnnotator package: - Allow up to 24 hours (and sometimes 48 hours) for your latest push to git@git.bioconductor.org:packages/hiAnnotator.git to reflect on this report. See Troubleshooting Build Report for more information. - Use the following Renviron settings to reproduce errors and warnings. - If 'R CMD check' started to fail recently on the Linux builder(s) over a missing dependency, add the missing dependency to 'Suggests:' in your DESCRIPTION file. See Renviron.bioc for more information. - See Martin Grigorov's blog post for how to debug Linux ARM64 related issues on a x86_64 host. |
| Package: hiAnnotator |
| Version: 1.42.0 |
| Command: /home/biocbuild/R/R/bin/R CMD check --install=check:hiAnnotator.install-out.txt --library=/home/biocbuild/R/R/site-library --no-vignettes --timings hiAnnotator_1.42.0.tar.gz |
| StartedAt: 2025-10-14 10:06:31 -0000 (Tue, 14 Oct 2025) |
| EndedAt: 2025-10-14 10:12:04 -0000 (Tue, 14 Oct 2025) |
| EllapsedTime: 333.2 seconds |
| RetCode: 0 |
| Status: OK |
| CheckDir: hiAnnotator.Rcheck |
| Warnings: 0 |
##############################################################################
##############################################################################
###
### Running command:
###
### /home/biocbuild/R/R/bin/R CMD check --install=check:hiAnnotator.install-out.txt --library=/home/biocbuild/R/R/site-library --no-vignettes --timings hiAnnotator_1.42.0.tar.gz
###
##############################################################################
##############################################################################
* using log directory ‘/home/biocbuild/bbs-3.21-bioc/meat/hiAnnotator.Rcheck’
* using R Under development (unstable) (2025-02-19 r87757)
* using platform: aarch64-unknown-linux-gnu
* R was compiled by
aarch64-unknown-linux-gnu-gcc (GCC) 14.2.0
GNU Fortran (GCC) 14.2.0
* running under: openEuler 24.03 (LTS-SP1)
* using session charset: UTF-8
* using option ‘--no-vignettes’
* checking for file ‘hiAnnotator/DESCRIPTION’ ... OK
* this is package ‘hiAnnotator’ version ‘1.42.0’
* checking package namespace information ... OK
* checking package dependencies ... OK
* checking if this is a source package ... OK
* checking if there is a namespace ... OK
* checking for hidden files and directories ... OK
* checking for portable file names ... OK
* checking for sufficient/correct file permissions ... OK
* checking whether package ‘hiAnnotator’ can be installed ... OK
* checking installed package size ... OK
* checking package directory ... OK
* checking ‘build’ directory ... OK
* checking DESCRIPTION meta-information ... OK
* checking top-level files ... OK
* checking for left-over files ... OK
* checking index information ... OK
* checking package subdirectories ... OK
* checking code files for non-ASCII characters ... OK
* checking R files for syntax errors ... OK
* checking whether the package can be loaded ... OK
* checking whether the package can be loaded with stated dependencies ... OK
* checking whether the package can be unloaded cleanly ... OK
* checking whether the namespace can be loaded with stated dependencies ... OK
* checking whether the namespace can be unloaded cleanly ... OK
* checking loading without being on the library search path ... OK
* checking dependencies in R code ... OK
* checking S3 generic/method consistency ... OK
* checking replacement functions ... OK
* checking foreign function calls ... OK
* checking R code for possible problems ... NOTE
get2NearestFeature: no visible global function definition for ‘IRanges’
get2NearestFeature: no visible global function definition for ‘mid’
get2NearestFeature: no visible binding for global variable ‘qStrand’
get2NearestFeature: no visible binding for global variable
‘subjectHits’
get2NearestFeature : <anonymous>: no visible binding for global
variable ‘queryHits’
get2NearestFeature : <anonymous>: no visible binding for global
variable ‘featureName’
getFeatureCounts : <anonymous>: no visible global function definition
for ‘countQueryHits’
getFeatureCountsBig: no visible global function definition for ‘mid’
getLowestDists: no visible binding for global variable ‘queryHits’
getNearestFeature: no visible global function definition for ‘IRanges’
getNearestFeature: no visible global function definition for ‘mid’
getNearestFeature: no visible binding for global variable ‘queryHits’
getNearestFeature: no visible binding for global variable ‘n’
getNearestFeature: no visible binding for global variable ‘featureName’
getSitesInFeature: no visible global function definition for
‘overlapsAny’
getSitesInFeature: no visible binding for global variable ‘queryHits’
getSitesInFeature: no visible global function definition for ‘n’
getSitesInFeature: no visible binding for global variable ‘featureName’
makeChunks: no visible global function definition for ‘breakInChunks’
makeChunks: no visible global function definition for ‘detectCores’
makeChunks : <anonymous>: no visible global function definition for
‘keepSeqlevels’
makeChunks : <anonymous>: no visible global function definition for
‘seqlevelsInUse’
makeGRanges: no visible global function definition for ‘IRanges’
makeGRanges: no visible global function definition for ‘seqlengths’
makeGRanges: no visible global function definition for ‘seqlevels<-’
makeGRanges: no visible global function definition for ‘sortSeqlevels’
makeGRanges: no visible global function definition for ‘seqlevelsInUse’
makeGRanges: no visible global function definition for ‘seqlengths<-’
makeGRanges: no visible global function definition for ‘seqlevels’
Undefined global functions or variables:
IRanges breakInChunks countQueryHits detectCores featureName
keepSeqlevels mid n overlapsAny qStrand queryHits seqlengths
seqlengths<- seqlevels seqlevels<- seqlevelsInUse sortSeqlevels
subjectHits
* checking Rd files ... OK
* checking Rd metadata ... OK
* checking Rd cross-references ... NOTE
Found the following Rd file(s) with Rd \link{} targets missing package
anchors:
getUCSCtable.Rd: browserSession, ucscTableQuery
Please provide package anchors for all Rd \link{} targets not in the
package itself and the base packages.
* checking for missing documentation entries ... OK
* checking for code/documentation mismatches ... OK
* checking Rd \usage sections ... OK
* checking Rd contents ... OK
* checking for unstated dependencies in examples ... OK
* checking contents of ‘data’ directory ... OK
* checking data for non-ASCII characters ... OK
* checking data for ASCII and uncompressed saves ... OK
* checking files in ‘vignettes’ ... NOTE
The following directory looks like a leftover from 'knitr':
‘figure’
Please remove from your package.
* checking examples ... OK
* checking for unstated dependencies in vignettes ... OK
* checking package vignettes ... OK
* checking running R code from vignettes ... SKIPPED
* checking re-building of vignette outputs ... SKIPPED
* checking PDF version of manual ... OK
* DONE
Status: 3 NOTEs
See
‘/home/biocbuild/bbs-3.21-bioc/meat/hiAnnotator.Rcheck/00check.log’
for details.
hiAnnotator.Rcheck/00install.out
############################################################################## ############################################################################## ### ### Running command: ### ### /home/biocbuild/R/R/bin/R CMD INSTALL hiAnnotator ### ############################################################################## ############################################################################## * installing to library ‘/home/biocbuild/R/R-devel_2025-02-19/site-library’ * installing *source* package ‘hiAnnotator’ ... ** this is package ‘hiAnnotator’ version ‘1.42.0’ ** using staged installation ** R ** data ** byte-compile and prepare package for lazy loading ** help *** installing help indices ** building package indices ** installing vignettes ** testing if installed package can be loaded from temporary location ** testing if installed package can be loaded from final location ** testing if installed package keeps a record of temporary installation path * DONE (hiAnnotator)
hiAnnotator.Rcheck/hiAnnotator-Ex.timings
| name | user | system | elapsed | |
| cleanColname | 0.001 | 0.000 | 0.000 | |
| doAnnotation | 1.942 | 0.104 | 2.050 | |
| get2NearestFeature | 1.469 | 0.079 | 1.681 | |
| getFeatureCounts | 0.603 | 0.032 | 0.636 | |
| getFeatureCountsBig | 0.642 | 0.000 | 0.644 | |
| getLowestDists | 0.115 | 0.004 | 0.120 | |
| getNearestFeature | 1.412 | 0.008 | 1.423 | |
| getRelevantCol | 0.006 | 0.000 | 0.006 | |
| getSitesInFeature | 0.691 | 0.008 | 0.700 | |
| getUCSCtable | 0 | 0 | 0 | |
| getWindowLabel | 0.000 | 0.000 | 0.001 | |
| makeChunks | 0.392 | 0.008 | 0.406 | |
| makeGRanges | 0.390 | 0.012 | 0.402 | |
| makeUCSCsession | 0 | 0 | 0 | |
| plotdisFeature | 2.159 | 0.084 | 2.248 | |