| Back to Multiple platform build/check report for BioC 3.21: simplified long |
|
This page was generated on 2025-04-22 13:16 -0400 (Tue, 22 Apr 2025).
| Hostname | OS | Arch (*) | R version | Installed pkgs |
|---|---|---|---|---|
| nebbiolo1 | Linux (Ubuntu 24.04.1 LTS) | x86_64 | 4.5.0 RC (2025-04-04 r88126) -- "How About a Twenty-Six" | 4831 |
| palomino7 | Windows Server 2022 Datacenter | x64 | 4.5.0 RC (2025-04-04 r88126 ucrt) -- "How About a Twenty-Six" | 4573 |
| lconway | macOS 12.7.1 Monterey | x86_64 | 4.5.0 RC (2025-04-04 r88126) -- "How About a Twenty-Six" | 4599 |
| kjohnson3 | macOS 13.7.1 Ventura | arm64 | 4.5.0 RC (2025-04-04 r88126) -- "How About a Twenty-Six" | 4553 |
| kunpeng2 | Linux (openEuler 24.03 LTS) | aarch64 | R Under development (unstable) (2025-02-19 r87757) -- "Unsuffered Consequences" | 4570 |
| Click on any hostname to see more info about the system (e.g. compilers) (*) as reported by 'uname -p', except on Windows and Mac OS X | ||||
| Package 947/2341 | Hostname | OS / Arch | INSTALL | BUILD | CHECK | BUILD BIN | ||||||||
| gypsum 1.4.0 (landing page) Aaron Lun
| nebbiolo1 | Linux (Ubuntu 24.04.1 LTS) / x86_64 | OK | OK | OK | |||||||||
| palomino7 | Windows Server 2022 Datacenter / x64 | OK | OK | OK | OK | |||||||||
| lconway | macOS 12.7.1 Monterey / x86_64 | OK | OK | OK | OK | |||||||||
| kjohnson3 | macOS 13.7.1 Ventura / arm64 | OK | OK | OK | OK | |||||||||
| kunpeng2 | Linux (openEuler 24.03 LTS) / aarch64 | OK | OK | OK | ||||||||||
|
To the developers/maintainers of the gypsum package: - Allow up to 24 hours (and sometimes 48 hours) for your latest push to git@git.bioconductor.org:packages/gypsum.git to reflect on this report. See Troubleshooting Build Report for more information. - Use the following Renviron settings to reproduce errors and warnings. - If 'R CMD check' started to fail recently on the Linux builder(s) over a missing dependency, add the missing dependency to 'Suggests:' in your DESCRIPTION file. See Renviron.bioc for more information. |
| Package: gypsum |
| Version: 1.4.0 |
| Command: /Library/Frameworks/R.framework/Resources/bin/R CMD check --install=check:gypsum.install-out.txt --library=/Library/Frameworks/R.framework/Resources/library --no-vignettes --timings gypsum_1.4.0.tar.gz |
| StartedAt: 2025-04-21 21:11:28 -0400 (Mon, 21 Apr 2025) |
| EndedAt: 2025-04-21 21:12:54 -0400 (Mon, 21 Apr 2025) |
| EllapsedTime: 85.7 seconds |
| RetCode: 0 |
| Status: OK |
| CheckDir: gypsum.Rcheck |
| Warnings: 0 |
##############################################################################
##############################################################################
###
### Running command:
###
### /Library/Frameworks/R.framework/Resources/bin/R CMD check --install=check:gypsum.install-out.txt --library=/Library/Frameworks/R.framework/Resources/library --no-vignettes --timings gypsum_1.4.0.tar.gz
###
##############################################################################
##############################################################################
* using log directory ‘/Users/biocbuild/bbs-3.21-bioc/meat/gypsum.Rcheck’
* using R version 4.5.0 RC (2025-04-04 r88126)
* using platform: x86_64-apple-darwin20
* R was compiled by
Apple clang version 14.0.0 (clang-1400.0.29.202)
GNU Fortran (GCC) 14.2.0
* running under: macOS Monterey 12.7.6
* using session charset: UTF-8
* using option ‘--no-vignettes’
* checking for file ‘gypsum/DESCRIPTION’ ... OK
* this is package ‘gypsum’ version ‘1.4.0’
* checking package namespace information ... OK
* checking package dependencies ... OK
* checking if this is a source package ... OK
* checking if there is a namespace ... OK
* checking for hidden files and directories ... OK
* checking for portable file names ... OK
* checking for sufficient/correct file permissions ... OK
* checking whether package ‘gypsum’ can be installed ... OK
* checking installed package size ... OK
* checking package directory ... OK
* checking ‘build’ directory ... OK
* checking DESCRIPTION meta-information ... NOTE
License stub is invalid DCF.
* checking top-level files ... OK
* checking for left-over files ... OK
* checking index information ... OK
* checking package subdirectories ... OK
* checking code files for non-ASCII characters ... OK
* checking R files for syntax errors ... OK
* checking whether the package can be loaded ... OK
* checking whether the package can be loaded with stated dependencies ... OK
* checking whether the package can be unloaded cleanly ... OK
* checking whether the namespace can be loaded with stated dependencies ... OK
* checking whether the namespace can be unloaded cleanly ... OK
* checking dependencies in R code ... OK
* checking S3 generic/method consistency ... OK
* checking replacement functions ... OK
* checking foreign function calls ... OK
* checking R code for possible problems ... OK
* checking Rd files ... OK
* checking Rd metadata ... OK
* checking Rd cross-references ... OK
* checking for missing documentation entries ... OK
* checking for code/documentation mismatches ... OK
* checking Rd \usage sections ... OK
* checking Rd contents ... OK
* checking for unstated dependencies in examples ... OK
* checking files in ‘vignettes’ ... OK
* checking examples ... OK
Examples with CPU (user + system) or elapsed time > 5s
user system elapsed
fetchLatest 0.047 0.011 6.408
* checking for unstated dependencies in ‘tests’ ... OK
* checking tests ...
Running ‘testthat.R’
OK
* checking for unstated dependencies in vignettes ... OK
* checking package vignettes ... OK
* checking running R code from vignettes ... SKIPPED
* checking re-building of vignette outputs ... SKIPPED
* checking PDF version of manual ... OK
* DONE
Status: 1 NOTE
See
‘/Users/biocbuild/bbs-3.21-bioc/meat/gypsum.Rcheck/00check.log’
for details.
gypsum.Rcheck/00install.out
############################################################################## ############################################################################## ### ### Running command: ### ### /Library/Frameworks/R.framework/Resources/bin/R CMD INSTALL gypsum ### ############################################################################## ############################################################################## * installing to library ‘/Library/Frameworks/R.framework/Versions/4.5-x86_64/Resources/library’ * installing *source* package ‘gypsum’ ... ** this is package ‘gypsum’ version ‘1.4.0’ ** using staged installation ** R ** inst ** byte-compile and prepare package for lazy loading ** help *** installing help indices ** building package indices ** installing vignettes ** testing if installed package can be loaded from temporary location ** testing if installed package can be loaded from final location ** testing if installed package keeps a record of temporary installation path * DONE (gypsum)
gypsum.Rcheck/tests/testthat.Rout
R version 4.5.0 RC (2025-04-04 r88126) -- "How About a Twenty-Six"
Copyright (C) 2025 The R Foundation for Statistical Computing
Platform: x86_64-apple-darwin20
R is free software and comes with ABSOLUTELY NO WARRANTY.
You are welcome to redistribute it under certain conditions.
Type 'license()' or 'licence()' for distribution details.
R is a collaborative project with many contributors.
Type 'contributors()' for more information and
'citation()' on how to cite R or R packages in publications.
Type 'demo()' for some demos, 'help()' for on-line help, or
'help.start()' for an HTML browser interface to help.
Type 'q()' to quit R.
> library(testthat)
> library(gypsum)
> test_check("gypsum")
[ FAIL 0 | WARN 0 | SKIP 13 | PASS 252 ]
══ Skipped tests (13) ══════════════════════════════════════════════════════════
• is.na(gh_token) is TRUE (13): 'test-accessToken.R:5:5', 'test-latest.R:5:5',
'test-permissions.R:5:5', 'test-probation.R:5:5', 'test-probation.R:28:5',
'test-quota.R:5:5', 'test-quota.R:23:5', 'test-remove.R:5:5',
'test-unlockProject.R:5:5', 'test-upload.R:5:5', 'test-upload.R:55:5',
'test-upload.R:89:5', 'test-upload.R:107:5'
[ FAIL 0 | WARN 0 | SKIP 13 | PASS 252 ]
>
> proc.time()
user system elapsed
4.361 0.576 17.351
gypsum.Rcheck/gypsum-Ex.timings
| name | user | system | elapsed | |
| abortUpload | 0.001 | 0.003 | 0.007 | |
| accessToken | 0.000 | 0.000 | 0.005 | |
| approveProbation | 0.001 | 0.001 | 0.001 | |
| cacheDirectory | 0.001 | 0.000 | 0.000 | |
| cloneVersion | 0.009 | 0.005 | 0.014 | |
| completeUpload | 0.001 | 0.003 | 0.003 | |
| createProject | 0.001 | 0.000 | 0.001 | |
| fetchLatest | 0.047 | 0.011 | 6.408 | |
| fetchManifest | 0.000 | 0.001 | 0.002 | |
| fetchMetadataDatabase | 0.012 | 0.004 | 0.257 | |
| fetchMetadataSchema | 0.000 | 0.001 | 0.002 | |
| fetchPermissions | 0.015 | 0.001 | 0.151 | |
| fetchQuota | 0.007 | 0.000 | 0.143 | |
| fetchSummary | 0.003 | 0.001 | 0.006 | |
| fetchUsage | 0.007 | 0.000 | 0.150 | |
| formatObjectMetadata | 1.025 | 0.040 | 1.073 | |
| listAssets | 0.007 | 0.000 | 0.128 | |
| listFiles | 0.007 | 0.000 | 0.125 | |
| listProjects | 0 | 0 | 0 | |
| listVersions | 0.006 | 0.000 | 0.125 | |
| prepareDirectoryUpload | 0.004 | 0.003 | 0.006 | |
| publicS3Config | 0.001 | 0.001 | 0.003 | |
| refreshLatest | 0 | 0 | 0 | |
| refreshUsage | 0.000 | 0.000 | 0.001 | |
| rejectProbation | 0.001 | 0.000 | 0.001 | |
| removeAsset | 0.001 | 0.001 | 0.001 | |
| removeProject | 0 | 0 | 0 | |
| removeVersion | 0.001 | 0.000 | 0.001 | |
| resolveLinks | 0.048 | 0.015 | 0.979 | |
| restUrl | 0.000 | 0.001 | 0.001 | |
| saveFile | 0.001 | 0.001 | 0.002 | |
| saveVersion | 0.000 | 0.000 | 0.001 | |
| searchMetadata | 0.572 | 0.040 | 0.626 | |
| setPermissions | 0.000 | 0.000 | 0.001 | |
| setQuota | 0.000 | 0.001 | 0.000 | |
| startUpload | 0.001 | 0.001 | 0.002 | |
| translateTextQuery | 0.051 | 0.012 | 0.064 | |
| unlockProject | 0.000 | 0.000 | 0.001 | |
| uploadDirectory | 0.000 | 0.002 | 0.002 | |
| uploadFiles | 0.001 | 0.002 | 0.002 | |
| validateMetadata | 0.392 | 0.038 | 0.398 | |