| Back to Multiple platform build/check report for BioC 3.21: simplified long |
|
This page was generated on 2025-10-16 11:40 -0400 (Thu, 16 Oct 2025).
| Hostname | OS | Arch (*) | R version | Installed pkgs |
|---|---|---|---|---|
| nebbiolo1 | Linux (Ubuntu 24.04.3 LTS) | x86_64 | 4.5.1 (2025-06-13) -- "Great Square Root" | 4833 |
| merida1 | macOS 12.7.6 Monterey | x86_64 | 4.5.1 RC (2025-06-05 r88288) -- "Great Square Root" | 4614 |
| kjohnson1 | macOS 13.7.5 Ventura | arm64 | 4.5.1 Patched (2025-06-14 r88325) -- "Great Square Root" | 4555 |
| kunpeng2 | Linux (openEuler 24.03 LTS) | aarch64 | R Under development (unstable) (2025-02-19 r87757) -- "Unsuffered Consequences" | 4586 |
| Click on any hostname to see more info about the system (e.g. compilers) (*) as reported by 'uname -p', except on Windows and Mac OS X | ||||
| Package 924/2341 | Hostname | OS / Arch | INSTALL | BUILD | CHECK | BUILD BIN | ||||||||
| groHMM 1.42.0 (landing page) Tulip Nandu
| nebbiolo1 | Linux (Ubuntu 24.04.3 LTS) / x86_64 | OK | OK | WARNINGS | |||||||||
| merida1 | macOS 12.7.6 Monterey / x86_64 | OK | OK | WARNINGS | OK | |||||||||
| kjohnson1 | macOS 13.7.5 Ventura / arm64 | OK | OK | WARNINGS | OK | |||||||||
| kunpeng2 | Linux (openEuler 24.03 LTS) / aarch64 | OK | OK | WARNINGS | ||||||||||
|
To the developers/maintainers of the groHMM package: - Allow up to 24 hours (and sometimes 48 hours) for your latest push to git@git.bioconductor.org:packages/groHMM.git to reflect on this report. See Troubleshooting Build Report for more information. - Use the following Renviron settings to reproduce errors and warnings. - If 'R CMD check' started to fail recently on the Linux builder(s) over a missing dependency, add the missing dependency to 'Suggests:' in your DESCRIPTION file. See Renviron.bioc for more information. |
| Package: groHMM |
| Version: 1.42.0 |
| Command: /Library/Frameworks/R.framework/Resources/bin/R CMD INSTALL groHMM |
| StartedAt: 2025-10-13 16:40:13 -0400 (Mon, 13 Oct 2025) |
| EndedAt: 2025-10-13 16:40:51 -0400 (Mon, 13 Oct 2025) |
| EllapsedTime: 38.5 seconds |
| RetCode: 0 |
| Status: OK |
##############################################################################
##############################################################################
###
### Running command:
###
### /Library/Frameworks/R.framework/Resources/bin/R CMD INSTALL groHMM
###
##############################################################################
##############################################################################
* installing to library ‘/Library/Frameworks/R.framework/Versions/4.5-arm64/Resources/library’
* installing *source* package ‘groHMM’ ...
** this is package ‘groHMM’ version ‘1.42.0’
** using staged installation
** libs
using C compiler: ‘Apple clang version 15.0.0 (clang-1500.0.40.1)’
using SDK: ‘MacOSX11.3.sdk’
clang -arch arm64 -std=gnu2x -I"/Library/Frameworks/R.framework/Resources/include" -DNDEBUG -I/opt/R/arm64/include -fPIC -falign-functions=64 -Wall -g -O2 -c AnnotateProbes.c -o AnnotateProbes.o
clang -arch arm64 -std=gnu2x -I"/Library/Frameworks/R.framework/Resources/include" -DNDEBUG -I/opt/R/arm64/include -fPIC -falign-functions=64 -Wall -g -O2 -c DecayAlgorithm.c -o DecayAlgorithm.o
DecayAlgorithm.c:94:15: warning: unused variable 'false_value' [-Wunused-variable]
const int false_value= 0;
^
1 warning generated.
clang -arch arm64 -std=gnu2x -I"/Library/Frameworks/R.framework/Resources/include" -DNDEBUG -I/opt/R/arm64/include -fPIC -falign-functions=64 -Wall -g -O2 -c MLEfit.c -o MLEfit.o
MLEfit.c:260:25: warning: variable 'cnt' set but not used [-Wunused-but-set-variable]
int maxn = 2*n_x+1, cnt=0;
^
In file included from MLEfit.c:43:
./hmmHeader.h:281:16: warning: unused function 'MargainalizeSumLogProbOver' [-Wunused-function]
static double MargainalizeSumLogProbOver(int state, int position,
^
./hmmHeader.h:301:16: warning: unused function 'expSum' [-Wunused-function]
static double expSum(double *logValues, int length) {
^
3 warnings generated.
clang -arch arm64 -std=gnu2x -I"/Library/Frameworks/R.framework/Resources/include" -DNDEBUG -I/opt/R/arm64/include -fPIC -falign-functions=64 -Wall -g -O2 -c RegisterRRoutines.c -o RegisterRRoutines.o
clang -arch arm64 -std=gnu2x -I"/Library/Frameworks/R.framework/Resources/include" -DNDEBUG -I/opt/R/arm64/include -fPIC -falign-functions=64 -Wall -g -O2 -c Windowing.c -o Windowing.o
Windowing.c:146:6: warning: unused variable 'II' [-Wunused-variable]
int II = 0;
^
1 warning generated.
clang -arch arm64 -std=gnu2x -I"/Library/Frameworks/R.framework/Resources/include" -DNDEBUG -I/opt/R/arm64/include -fPIC -falign-functions=64 -Wall -g -O2 -c hmmEM.c -o hmmEM.o
In file included from hmmEM.c:50:
./hmmHeader.h:281:16: warning: unused function 'MargainalizeSumLogProbOver' [-Wunused-function]
static double MargainalizeSumLogProbOver(int state, int position,
^
./hmmHeader.h:301:16: warning: unused function 'expSum' [-Wunused-function]
static double expSum(double *logValues, int length) {
^
2 warnings generated.
clang -arch arm64 -std=gnu2x -I"/Library/Frameworks/R.framework/Resources/include" -DNDEBUG -I/opt/R/arm64/include -fPIC -falign-functions=64 -Wall -g -O2 -c hmmFwBw.c -o hmmFwBw.o
In file included from hmmFwBw.c:45:
./hmmHeader.h:281:16: warning: unused function 'MargainalizeSumLogProbOver' [-Wunused-function]
static double MargainalizeSumLogProbOver(int state, int position,
^
./hmmHeader.h:301:16: warning: unused function 'expSum' [-Wunused-function]
static double expSum(double *logValues, int length) {
^
2 warnings generated.
clang -arch arm64 -std=gnu2x -I"/Library/Frameworks/R.framework/Resources/include" -DNDEBUG -I/opt/R/arm64/include -fPIC -falign-functions=64 -Wall -g -O2 -c hmmMiscFunctions.c -o hmmMiscFunctions.o
hmmMiscFunctions.c:236:49: warning: format specifies type 'int' but the argument has type 'double' [-Wformat]
Assertion about to fail! logPP= %d\n", logPP);
~~ ^~~~~
%f
hmmMiscFunctions.c:384:10: warning: unused variable 'wi' [-Wunused-variable]
double wi, *newEx;
^
hmmMiscFunctions.c:417:10: warning: unused variable 'epsilon' [-Wunused-variable]
double epsilon=0.00001;
^
3 warnings generated.
clang -arch arm64 -std=gnu2x -I"/Library/Frameworks/R.framework/Resources/include" -DNDEBUG -I/opt/R/arm64/include -fPIC -falign-functions=64 -Wall -g -O2 -c hmmViterbi.c -o hmmViterbi.o
In file included from hmmViterbi.c:48:
./hmmHeader.h:281:16: warning: unused function 'MargainalizeSumLogProbOver' [-Wunused-function]
static double MargainalizeSumLogProbOver(int state, int position,
^
./hmmHeader.h:301:16: warning: unused function 'expSum' [-Wunused-function]
static double expSum(double *logValues, int length) {
^
2 warnings generated.
clang -arch arm64 -std=gnu2x -dynamiclib -Wl,-headerpad_max_install_names -undefined dynamic_lookup -L/Library/Frameworks/R.framework/Resources/lib -L/opt/R/arm64/lib -o groHMM.so AnnotateProbes.o DecayAlgorithm.o MLEfit.o RegisterRRoutines.o Windowing.o hmmEM.o hmmFwBw.o hmmMiscFunctions.o hmmViterbi.o -F/Library/Frameworks/R.framework/.. -framework R
installing to /Library/Frameworks/R.framework/Versions/4.5-arm64/Resources/library/00LOCK-groHMM/00new/groHMM/libs
** R
** inst
** byte-compile and prepare package for lazy loading
** help
*** installing help indices
** building package indices
** installing vignettes
** testing if installed package can be loaded from temporary location
** checking absolute paths in shared objects and dynamic libraries
** testing if installed package can be loaded from final location
** testing if installed package keeps a record of temporary installation path
* DONE (groHMM)