| Back to Multiple platform build/check report for BioC 3.21: simplified long |
|
This page was generated on 2025-08-18 11:41 -0400 (Mon, 18 Aug 2025).
| Hostname | OS | Arch (*) | R version | Installed pkgs |
|---|---|---|---|---|
| nebbiolo1 | Linux (Ubuntu 24.04.3 LTS) | x86_64 | 4.5.1 (2025-06-13) -- "Great Square Root" | 4824 |
| palomino7 | Windows Server 2022 Datacenter | x64 | 4.5.1 (2025-06-13 ucrt) -- "Great Square Root" | 4566 |
| merida1 | macOS 12.7.5 Monterey | x86_64 | 4.5.1 RC (2025-06-05 r88288) -- "Great Square Root" | 4604 |
| kjohnson1 | macOS 13.6.6 Ventura | arm64 | 4.5.1 Patched (2025-06-14 r88325) -- "Great Square Root" | 4545 |
| kunpeng2 | Linux (openEuler 24.03 LTS) | aarch64 | R Under development (unstable) (2025-02-19 r87757) -- "Unsuffered Consequences" | 4579 |
| Click on any hostname to see more info about the system (e.g. compilers) (*) as reported by 'uname -p', except on Windows and Mac OS X | ||||
| Package 916/2341 | Hostname | OS / Arch | INSTALL | BUILD | CHECK | BUILD BIN | ||||||||
| graph 1.86.0 (landing page) Bioconductor Package Maintainer
| nebbiolo1 | Linux (Ubuntu 24.04.3 LTS) / x86_64 | OK | OK | OK | |||||||||
| palomino7 | Windows Server 2022 Datacenter / x64 | OK | OK | OK | OK | |||||||||
| merida1 | macOS 12.7.5 Monterey / x86_64 | OK | OK | OK | OK | |||||||||
| kjohnson1 | macOS 13.6.6 Ventura / arm64 | OK | OK | OK | OK | |||||||||
| kunpeng2 | Linux (openEuler 24.03 LTS) / aarch64 | OK | OK | OK | ||||||||||
|
To the developers/maintainers of the graph package: - Allow up to 24 hours (and sometimes 48 hours) for your latest push to git@git.bioconductor.org:packages/graph.git to reflect on this report. See Troubleshooting Build Report for more information. - Use the following Renviron settings to reproduce errors and warnings. - If 'R CMD check' started to fail recently on the Linux builder(s) over a missing dependency, add the missing dependency to 'Suggests:' in your DESCRIPTION file. See Renviron.bioc for more information. |
| Package: graph |
| Version: 1.86.0 |
| Command: E:\biocbuild\bbs-3.21-bioc\R\bin\R.exe CMD check --no-multiarch --install=check:graph.install-out.txt --library=E:\biocbuild\bbs-3.21-bioc\R\library --no-vignettes --timings graph_1.86.0.tar.gz |
| StartedAt: 2025-08-15 02:52:01 -0400 (Fri, 15 Aug 2025) |
| EndedAt: 2025-08-15 02:53:24 -0400 (Fri, 15 Aug 2025) |
| EllapsedTime: 82.7 seconds |
| RetCode: 0 |
| Status: OK |
| CheckDir: graph.Rcheck |
| Warnings: 0 |
##############################################################################
##############################################################################
###
### Running command:
###
### E:\biocbuild\bbs-3.21-bioc\R\bin\R.exe CMD check --no-multiarch --install=check:graph.install-out.txt --library=E:\biocbuild\bbs-3.21-bioc\R\library --no-vignettes --timings graph_1.86.0.tar.gz
###
##############################################################################
##############################################################################
* using log directory 'E:/biocbuild/bbs-3.21-bioc/meat/graph.Rcheck'
* using R version 4.5.1 (2025-06-13 ucrt)
* using platform: x86_64-w64-mingw32
* R was compiled by
gcc.exe (GCC) 14.2.0
GNU Fortran (GCC) 14.2.0
* running under: Windows Server 2022 x64 (build 20348)
* using session charset: UTF-8
* using option '--no-vignettes'
* checking for file 'graph/DESCRIPTION' ... OK
* this is package 'graph' version '1.86.0'
* checking package namespace information ... OK
* checking package dependencies ... OK
* checking if this is a source package ... OK
* checking if there is a namespace ... OK
* checking for hidden files and directories ... OK
* checking for portable file names ... OK
* checking whether package 'graph' can be installed ... OK
* used C compiler: 'gcc.exe (GCC) 14.2.0'
* checking installed package size ... OK
* checking package directory ... OK
* checking 'build' directory ... OK
* checking DESCRIPTION meta-information ... OK
* checking top-level files ... OK
* checking for left-over files ... OK
* checking index information ... OK
* checking package subdirectories ... OK
* checking code files for non-ASCII characters ... OK
* checking R files for syntax errors ... OK
* checking whether the package can be loaded ... OK
* checking whether the package can be loaded with stated dependencies ... OK
* checking whether the package can be unloaded cleanly ... OK
* checking whether the namespace can be loaded with stated dependencies ... OK
* checking whether the namespace can be unloaded cleanly ... OK
* checking dependencies in R code ... OK
* checking S3 generic/method consistency ... OK
* checking replacement functions ... OK
* checking foreign function calls ... OK
* checking R code for possible problems ... OK
* checking Rd files ... OK
* checking Rd metadata ... OK
* checking Rd cross-references ... NOTE
Non-topic package-anchored link(s) in Rd file 'IMCA.Rd':
'[Rgraphviz:plot-methods]{plot.graph}'
See section 'Cross-references' in the 'Writing R Extensions' manual.
* checking for missing documentation entries ... OK
* checking for code/documentation mismatches ... OK
* checking Rd \usage sections ... OK
* checking Rd contents ... OK
* checking for unstated dependencies in examples ... OK
* checking contents of 'data' directory ... OK
* checking data for non-ASCII characters ... OK
* checking data for ASCII and uncompressed saves ... OK
* checking line endings in C/C++/Fortran sources/headers ... OK
* checking line endings in Makefiles ... OK
* checking compilation flags in Makevars ... OK
* checking for GNU extensions in Makefiles ... OK
* checking for portable use of $(BLAS_LIBS) and $(LAPACK_LIBS) ... OK
* checking use of PKG_*FLAGS in Makefiles ... OK
* checking include directives in Makefiles ... OK
* checking compiled code ... NOTE
Note: information on .o files for x64 is not available
File 'E:/biocbuild/bbs-3.21-bioc/R/library/graph/libs/x64/BioC_graph.dll':
Found '_exit', possibly from '_exit' (C)
Found 'abort', possibly from 'abort' (C), 'runtime' (Fortran)
Compiled code should not call entry points which might terminate R nor
write to stdout/stderr instead of to the console, nor use Fortran I/O
nor system RNGs nor [v]sprintf. The detected symbols are linked into
the code but might come from libraries and not actually be called.
See 'Writing portable packages' in the 'Writing R Extensions' manual.
* checking files in 'vignettes' ... OK
* checking examples ... OK
* checking for unstated dependencies in 'tests' ... OK
* checking tests ...
Running 'graph_unit_tests.R'
OK
* checking for unstated dependencies in vignettes ... OK
* checking package vignettes ... OK
* checking running R code from vignettes ... SKIPPED
* checking re-building of vignette outputs ... SKIPPED
* checking PDF version of manual ... OK
* DONE
Status: 2 NOTEs
See
'E:/biocbuild/bbs-3.21-bioc/meat/graph.Rcheck/00check.log'
for details.
graph.Rcheck/00install.out
############################################################################## ############################################################################## ### ### Running command: ### ### E:\biocbuild\bbs-3.21-bioc\R\bin\R.exe CMD INSTALL graph ### ############################################################################## ############################################################################## * installing to library 'E:/biocbuild/bbs-3.21-bioc/R/library' * installing *source* package 'graph' ... ** this is package 'graph' version '1.86.0' ** using staged installation ** libs using C compiler: 'gcc.exe (GCC) 14.2.0' gcc -I"E:/biocbuild/bbs-3.21-bioc/R/include" -DNDEBUG -I"C:/rtools45/x86_64-w64-mingw32.static.posix/include" -O2 -Wall -std=gnu2x -mfpmath=sse -msse2 -mstackrealign -c graph.c -o graph.o gcc -shared -s -static-libgcc -o graph.dll tmp.def graph.o -LC:/rtools45/x86_64-w64-mingw32.static.posix/lib/x64 -LC:/rtools45/x86_64-w64-mingw32.static.posix/lib -LE:/biocbuild/bbs-3.21-bioc/R/bin/x64 -lR mv graph.dll BioC_graph.dll installing to E:/biocbuild/bbs-3.21-bioc/R/library/00LOCK-graph/00new/graph/libs/x64 ** R ** data ** inst ** byte-compile and prepare package for lazy loading ** help *** installing help indices ** building package indices ** installing vignettes ** testing if installed package can be loaded from temporary location ** testing if installed package can be loaded from final location ** testing if installed package keeps a record of temporary installation path * DONE (graph)
graph.Rcheck/tests/graph_unit_tests.Rout
R version 4.5.1 (2025-06-13 ucrt) -- "Great Square Root"
Copyright (C) 2025 The R Foundation for Statistical Computing
Platform: x86_64-w64-mingw32/x64
R is free software and comes with ABSOLUTELY NO WARRANTY.
You are welcome to redistribute it under certain conditions.
Type 'license()' or 'licence()' for distribution details.
R is a collaborative project with many contributors.
Type 'contributors()' for more information and
'citation()' on how to cite R or R packages in publications.
Type 'demo()' for some demos, 'help()' for on-line help, or
'help.start()' for an HTML browser interface to help.
Type 'q()' to quit R.
> BiocGenerics:::testPackage("graph", pattern="_test.R")
Attaching package: 'generics'
The following objects are masked from 'package:base':
as.difftime, as.factor, as.ordered, intersect, is.element, setdiff,
setequal, union
Attaching package: 'BiocGenerics'
The following objects are masked from 'package:stats':
IQR, mad, sd, var, xtabs
The following objects are masked from 'package:base':
Filter, Find, Map, Position, Reduce, anyDuplicated, aperm, append,
as.data.frame, basename, cbind, colnames, dirname, do.call,
duplicated, eval, evalq, get, grep, grepl, is.unsorted, lapply,
mapply, match, mget, order, paste, pmax, pmax.int, pmin, pmin.int,
rank, rbind, rownames, sapply, saveRDS, table, tapply, unique,
unsplit, which.max, which.min
RUNIT TEST PROTOCOL -- Fri Aug 15 02:53:09 2025
***********************************************
Number of test functions: 211
Number of errors: 0
Number of failures: 0
1 Test Suite :
graph RUnit Tests - 211 test functions, 0 errors, 0 failures
Number of test functions: 211
Number of errors: 0
Number of failures: 0
>
> proc.time()
user system elapsed
4.96 0.21 5.17
graph.Rcheck/graph-Ex.timings
| name | user | system | elapsed | |
| DFS | 0.10 | 0.00 | 0.09 | |
| IMCA | 0.14 | 0.04 | 0.17 | |
| MAPKsig | 0.14 | 0.00 | 0.14 | |
| MultiGraph-class | 0.11 | 0.00 | 0.11 | |
| acc-methods | 0 | 0 | 0 | |
| addEdge | 0.08 | 0.00 | 0.08 | |
| addNode | 0.02 | 0.00 | 0.02 | |
| adj-methods | 0 | 0 | 0 | |
| adjacencyMatrix | 0 | 0 | 0 | |
| apoptosisGraph | 0.04 | 0.00 | 0.04 | |
| attrData-class | 0 | 0 | 0 | |
| aveNumEdges | 0 | 0 | 0 | |
| biocRepos | 0.02 | 0.00 | 0.02 | |
| boundary | 0 | 0 | 0 | |
| calcProb | 0 | 0 | 0 | |
| calcSumProb | 0 | 0 | 0 | |
| clearNode | 0.02 | 0.00 | 0.02 | |
| clusterGraph-class | 0.01 | 0.00 | 0.02 | |
| clusteringCoefficient-methods | 0.03 | 0.00 | 0.03 | |
| combineNodes | 0.07 | 0.00 | 0.06 | |
| distGraph-class | 0 | 0 | 0 | |
| duplicatedEdges | 0 | 0 | 0 | |
| edgeMatrix | 0 | 0 | 0 | |
| edgeSets | 0.03 | 0.00 | 0.03 | |
| edgeWeights | 0 | 0 | 0 | |
| fromGXL-methods | 0.21 | 0.03 | 0.23 | |
| graph-class | 0 | 0 | 0 | |
| graph2SparseM | 0.07 | 0.02 | 0.09 | |
| graphAM-class | 0.03 | 0.00 | 0.04 | |
| graphBAM-class | 0.04 | 0.00 | 0.03 | |
| graphExamples | 0.00 | 0.01 | 0.01 | |
| graphNEL-class | 0.01 | 0.00 | 0.02 | |
| inEdges | 0 | 0 | 0 | |
| leaves | 0.03 | 0.00 | 0.03 | |
| listEdges | 0.02 | 0.00 | 0.02 | |
| matrix2Graph | 0.03 | 0.00 | 0.03 | |
| mostEdges | 0 | 0 | 0 | |
| numNoEdges | 0 | 0 | 0 | |
| pancrCaIni | 0.12 | 0.00 | 0.12 | |
| randomEGraph | 0 | 0 | 0 | |
| randomGraph | 0 | 0 | 0 | |
| randomNodeGraph | 0 | 0 | 0 | |
| removeEdge | 0.02 | 0.00 | 0.02 | |
| removeNode | 0 | 0 | 0 | |
| renderInfo-class | 0.02 | 0.00 | 0.01 | |
| reverseEdgeDirections | 0 | 0 | 0 | |
| simpleEdge-class | 0 | 0 | 0 | |
| standardLabeling | 0.04 | 0.00 | 0.05 | |
| subGraph | 0 | 0 | 0 | |
| toDotR-methods | 0.02 | 0.04 | 0.06 | |
| ugraph | 0 | 0 | 0 | |
| validGraph | 0.01 | 0.00 | 0.02 | |