Back to Multiple platform build/check report for BioC 3.22:   simplified   long
ABCDEF[G]HIJKLMNOPQRSTUVWXYZ

This page was generated on 2025-11-20 12:04 -0500 (Thu, 20 Nov 2025).

HostnameOSArch (*)R versionInstalled pkgs
nebbiolo2Linux (Ubuntu 24.04.3 LTS)x86_644.5.2 (2025-10-31) -- "[Not] Part in a Rumble" 4615
merida1macOS 12.7.6 Montereyx86_644.5.2 Patched (2025-11-05 r88990) -- "[Not] Part in a Rumble" 4610
kjohnson1macOS 13.7.5 Venturaarm644.5.2 Patched (2025-11-04 r88984) -- "[Not] Part in a Rumble" 4598
taishanLinux (openEuler 24.03 LTS)aarch644.5.0 (2025-04-11) -- "How About a Twenty-Six" 4668
Click on any hostname to see more info about the system (e.g. compilers)      (*) as reported by 'uname -p', except on Windows and Mac OS X

Package 893/2361HostnameOS / ArchINSTALLBUILDCHECKBUILD BIN
glmSparseNet 1.28.0  (landing page)
André Veríssimo
Snapshot Date: 2025-11-17 13:45 -0500 (Mon, 17 Nov 2025)
git_url: https://git.bioconductor.org/packages/glmSparseNet
git_branch: RELEASE_3_22
git_last_commit: b51637e
git_last_commit_date: 2025-10-29 10:47:42 -0500 (Wed, 29 Oct 2025)
nebbiolo2Linux (Ubuntu 24.04.3 LTS) / x86_64  OK    OK    OK  UNNEEDED, same version is already published
merida1macOS 12.7.6 Monterey / x86_64  OK    OK    OK    OK  UNNEEDED, same version is already published
kjohnson1macOS 13.7.5 Ventura / arm64  OK    OK    OK    OK  UNNEEDED, same version is already published
taishanLinux (openEuler 24.03 LTS) / aarch64  OK    OK    OK  


CHECK results for glmSparseNet on merida1

To the developers/maintainers of the glmSparseNet package:
- Allow up to 24 hours (and sometimes 48 hours) for your latest push to git@git.bioconductor.org:packages/glmSparseNet.git to reflect on this report. See Troubleshooting Build Report for more information.
- Use the following Renviron settings to reproduce errors and warnings.
- If 'R CMD check' started to fail recently on the Linux builder(s) over a missing dependency, add the missing dependency to 'Suggests:' in your DESCRIPTION file. See Renviron.bioc for more information.

raw results


Summary

Package: glmSparseNet
Version: 1.28.0
Command: /Library/Frameworks/R.framework/Resources/bin/R CMD check --install=check:glmSparseNet.install-out.txt --library=/Library/Frameworks/R.framework/Resources/library --no-vignettes --timings glmSparseNet_1.28.0.tar.gz
StartedAt: 2025-11-18 08:22:42 -0500 (Tue, 18 Nov 2025)
EndedAt: 2025-11-18 08:26:35 -0500 (Tue, 18 Nov 2025)
EllapsedTime: 232.9 seconds
RetCode: 0
Status:   OK  
CheckDir: glmSparseNet.Rcheck
Warnings: 0

Command output

##############################################################################
##############################################################################
###
### Running command:
###
###   /Library/Frameworks/R.framework/Resources/bin/R CMD check --install=check:glmSparseNet.install-out.txt --library=/Library/Frameworks/R.framework/Resources/library --no-vignettes --timings glmSparseNet_1.28.0.tar.gz
###
##############################################################################
##############################################################################


* using log directory ‘/Users/biocbuild/bbs-3.22-bioc/meat/glmSparseNet.Rcheck’
* using R version 4.5.2 Patched (2025-11-05 r88990)
* using platform: x86_64-apple-darwin20
* R was compiled by
    Apple clang version 14.0.0 (clang-1400.0.29.202)
    GNU Fortran (GCC) 14.2.0
* running under: macOS Monterey 12.7.6
* using session charset: UTF-8
* using option ‘--no-vignettes’
* checking for file ‘glmSparseNet/DESCRIPTION’ ... OK
* checking extension type ... Package
* this is package ‘glmSparseNet’ version ‘1.28.0’
* package encoding: UTF-8
* checking package namespace information ... OK
* checking package dependencies ... OK
* checking if this is a source package ... OK
* checking if there is a namespace ... OK
* checking for hidden files and directories ... OK
* checking for portable file names ... OK
* checking for sufficient/correct file permissions ... OK
* checking whether package ‘glmSparseNet’ can be installed ... OK
* checking installed package size ... OK
* checking package directory ... OK
* checking ‘build’ directory ... OK
* checking DESCRIPTION meta-information ... OK
* checking top-level files ... OK
* checking for left-over files ... OK
* checking index information ... OK
* checking package subdirectories ... OK
* checking code files for non-ASCII characters ... OK
* checking R files for syntax errors ... OK
* checking whether the package can be loaded ... OK
* checking whether the package can be loaded with stated dependencies ... OK
* checking whether the package can be unloaded cleanly ... OK
* checking whether the namespace can be loaded with stated dependencies ... OK
* checking whether the namespace can be unloaded cleanly ... OK
* checking whether startup messages can be suppressed ... OK
* checking dependencies in R code ... OK
* checking S3 generic/method consistency ... OK
* checking replacement functions ... OK
* checking foreign function calls ... OK
* checking R code for possible problems ... OK
* checking Rd files ... OK
* checking Rd metadata ... OK
* checking Rd cross-references ... OK
* checking for missing documentation entries ... OK
* checking for code/documentation mismatches ... OK
* checking Rd \usage sections ... OK
* checking Rd contents ... OK
* checking for unstated dependencies in examples ... OK
* checking contents of ‘data’ directory ... OK
* checking data for non-ASCII characters ... OK
* checking data for ASCII and uncompressed saves ... OK
* checking files in ‘vignettes’ ... OK
* checking examples ... OK
Examples with CPU (user + system) or elapsed time > 5s
                     user system elapsed
cv.glmSparseNet    27.933  1.161  31.935
separate2GroupsCox 10.627  0.462  12.731
dot-biomartLoad     5.057  0.433   7.950
ensemblGeneNames    4.186  0.214   5.468
* checking for unstated dependencies in ‘tests’ ... OK
* checking tests ...
  Running ‘testthat.R’
 OK
* checking for unstated dependencies in vignettes ... OK
* checking package vignettes ... OK
* checking running R code from vignettes ... SKIPPED
* checking re-building of vignette outputs ... SKIPPED
* checking PDF version of manual ... OK
* DONE

Status: OK


Installation output

glmSparseNet.Rcheck/00install.out

##############################################################################
##############################################################################
###
### Running command:
###
###   /Library/Frameworks/R.framework/Resources/bin/R CMD INSTALL glmSparseNet
###
##############################################################################
##############################################################################


* installing to library ‘/Library/Frameworks/R.framework/Versions/4.5-x86_64/Resources/library’
* installing *source* package ‘glmSparseNet’ ...
** this is package ‘glmSparseNet’ version ‘1.28.0’
** using staged installation
** R
** data
** inst
** byte-compile and prepare package for lazy loading
** help
*** installing help indices
*** copying figures
** building package indices
** installing vignettes
** testing if installed package can be loaded from temporary location
** testing if installed package can be loaded from final location
** testing if installed package keeps a record of temporary installation path
* DONE (glmSparseNet)

Tests output

glmSparseNet.Rcheck/tests/testthat.Rout


R version 4.5.2 Patched (2025-11-05 r88990) -- "[Not] Part in a Rumble"
Copyright (C) 2025 The R Foundation for Statistical Computing
Platform: x86_64-apple-darwin20

R is free software and comes with ABSOLUTELY NO WARRANTY.
You are welcome to redistribute it under certain conditions.
Type 'license()' or 'licence()' for distribution details.

R is a collaborative project with many contributors.
Type 'contributors()' for more information and
'citation()' on how to cite R or R packages in publications.

Type 'demo()' for some demos, 'help()' for on-line help, or
'help.start()' for an HTML browser interface to help.
Type 'q()' to quit R.

> library(testthat)
> library(glmSparseNet)
> 
> test_check("glmSparseNet")
[ FAIL 0 | WARN 0 | SKIP 2 | PASS 215 ]

══ Skipped tests (2) ═══════════════════════════════════════════════════════════
• empty test (2): 'test-cache.R:38:1', 'test-cache.R:62:1'

[ FAIL 0 | WARN 0 | SKIP 2 | PASS 215 ]
> 
> proc.time()
   user  system elapsed 
 62.164   9.754  75.173 

Example timings

glmSparseNet.Rcheck/glmSparseNet-Ex.timings

nameusersystemelapsed
balancedCvFolds0.0100.0100.024
buildLambda0.0040.0060.010
buildStringNetwork0.0000.0000.001
cv.glmSparseNet27.933 1.16131.935
degreeCor0.0260.0070.037
degreeCov0.0060.0020.008
dot-baseDir0.0000.0000.001
dot-biomartLoad5.0570.4337.950
dot-buildFunctionDigest0.0000.0010.001
dot-cacheCompression0.0000.0010.001
dot-calcPenalty0.4460.0340.559
dot-calculateResult0.0020.0010.003
dot-createDirectoryForCache0.0000.0020.007
dot-curlWorkaround0.0010.0010.001
dot-digestCache0.0000.0000.001
dot-runCache0.0070.0050.017
dot-saveRunCache0.0020.0010.004
dot-showMessage0.0010.0000.000
dot-writeReadme0.0000.0000.001
downloadFileLocal0.0360.0360.292
ensemblGeneNames4.1860.2145.468
geneNames1.5740.0952.054
glmSparseNet3.2350.1003.857
heuristicScale0.0000.0010.001
hubHeuristic0.0010.0000.000
myColors0.0000.0010.001
mySymbols0.0000.0010.001
networkCorParallel0.0450.0090.057
networkCovParallel0.0150.0020.017
networkOptions0.0000.0000.001
orphanHeuristic0.0010.0010.003
protein2EnsemblGeneNames1.5790.0931.949
separate2GroupsCox10.627 0.46212.731
stringDBhomoSapiens0.0010.0010.000