Back to Multiple platform build/check report for BioC 3.21:   simplified   long
ABCDEF[G]HIJKLMNOPQRSTUVWXYZ

This page was generated on 2025-09-29 11:41 -0400 (Mon, 29 Sep 2025).

HostnameOSArch (*)R versionInstalled pkgs
nebbiolo1Linux (Ubuntu 24.04.3 LTS)x86_644.5.1 (2025-06-13) -- "Great Square Root" 4827
merida1macOS 12.7.5 Montereyx86_644.5.1 RC (2025-06-05 r88288) -- "Great Square Root" 4608
kjohnson1macOS 13.6.6 Venturaarm644.5.1 Patched (2025-06-14 r88325) -- "Great Square Root" 4549
kunpeng2Linux (openEuler 24.03 LTS)aarch64R Under development (unstable) (2025-02-19 r87757) -- "Unsuffered Consequences" 4580
Click on any hostname to see more info about the system (e.g. compilers)      (*) as reported by 'uname -p', except on Windows and Mac OS X

Package 875/2341HostnameOS / ArchINSTALLBUILDCHECKBUILD BIN
ggtree 3.16.3  (landing page)
Guangchuang Yu
Snapshot Date: 2025-09-25 13:40 -0400 (Thu, 25 Sep 2025)
git_url: https://git.bioconductor.org/packages/ggtree
git_branch: RELEASE_3_21
git_last_commit: 19798cf
git_last_commit_date: 2025-07-11 12:54:16 -0400 (Fri, 11 Jul 2025)
nebbiolo1Linux (Ubuntu 24.04.3 LTS) / x86_64  OK    OK    OK  UNNEEDED, same version is already published
merida1macOS 12.7.5 Monterey / x86_64  OK    OK    OK    OK  UNNEEDED, same version is already published
kjohnson1macOS 13.6.6 Ventura / arm64  OK    OK    OK    OK  UNNEEDED, same version is already published
kunpeng2Linux (openEuler 24.03 LTS) / aarch64  OK    OK    OK  


CHECK results for ggtree on kunpeng2

To the developers/maintainers of the ggtree package:
- Allow up to 24 hours (and sometimes 48 hours) for your latest push to git@git.bioconductor.org:packages/ggtree.git to reflect on this report. See Troubleshooting Build Report for more information.
- Use the following Renviron settings to reproduce errors and warnings.
- If 'R CMD check' started to fail recently on the Linux builder(s) over a missing dependency, add the missing dependency to 'Suggests:' in your DESCRIPTION file. See Renviron.bioc for more information.
- See Martin Grigorov's blog post for how to debug Linux ARM64 related issues on a x86_64 host.

raw results


Summary

Package: ggtree
Version: 3.16.3
Command: /home/biocbuild/R/R/bin/R CMD check --install=check:ggtree.install-out.txt --library=/home/biocbuild/R/R/site-library --no-vignettes --timings ggtree_3.16.3.tar.gz
StartedAt: 2025-09-26 11:03:32 -0000 (Fri, 26 Sep 2025)
EndedAt: 2025-09-26 11:04:57 -0000 (Fri, 26 Sep 2025)
EllapsedTime: 85.0 seconds
RetCode: 0
Status:   OK  
CheckDir: ggtree.Rcheck
Warnings: 0

Command output

##############################################################################
##############################################################################
###
### Running command:
###
###   /home/biocbuild/R/R/bin/R CMD check --install=check:ggtree.install-out.txt --library=/home/biocbuild/R/R/site-library --no-vignettes --timings ggtree_3.16.3.tar.gz
###
##############################################################################
##############################################################################


* using log directory ‘/home/biocbuild/bbs-3.21-bioc/meat/ggtree.Rcheck’
* using R Under development (unstable) (2025-02-19 r87757)
* using platform: aarch64-unknown-linux-gnu
* R was compiled by
    aarch64-unknown-linux-gnu-gcc (GCC) 14.2.0
    GNU Fortran (GCC) 14.2.0
* running under: openEuler 24.03 (LTS-SP1)
* using session charset: UTF-8
* using option ‘--no-vignettes’
* checking for file ‘ggtree/DESCRIPTION’ ... OK
* checking extension type ... Package
* this is package ‘ggtree’ version ‘3.16.3’
* package encoding: UTF-8
* checking package namespace information ... OK
* checking package dependencies ... OK
* checking if this is a source package ... OK
* checking if there is a namespace ... OK
* checking for hidden files and directories ... OK
* checking for portable file names ... OK
* checking for sufficient/correct file permissions ... OK
* checking whether package ‘ggtree’ can be installed ... OK
* checking installed package size ... OK
* checking package directory ... OK
* checking ‘build’ directory ... OK
* checking DESCRIPTION meta-information ... OK
* checking top-level files ... OK
* checking for left-over files ... OK
* checking index information ... OK
* checking package subdirectories ... OK
* checking code files for non-ASCII characters ... OK
* checking R files for syntax errors ... OK
* checking whether the package can be loaded ... OK
* checking whether the package can be loaded with stated dependencies ... OK
* checking whether the package can be unloaded cleanly ... OK
* checking whether the namespace can be loaded with stated dependencies ... OK
* checking whether the namespace can be unloaded cleanly ... OK
* checking loading without being on the library search path ... OK
* checking whether startup messages can be suppressed ... OK
* checking dependencies in R code ... OK
* checking S3 generic/method consistency ... OK
* checking replacement functions ... OK
* checking foreign function calls ... OK
* checking R code for possible problems ... OK
* checking Rd files ... OK
* checking Rd metadata ... OK
* checking Rd cross-references ... NOTE
Non-topic package-anchored link(s) in Rd file 'reexports.Rd':
  ‘[ggfun:attacher]{%<+%}’ ‘[ggplot2:element]{margin}’
  ‘[ggplot2:scale_manual]{scale_color_manual}’
  ‘[ggplot2:scale_manual]{scale_colour_manual}’
  ‘[ggplot2:scale_manual]{scale_fill_manual}’
  ‘[ggplot2:scale_continuous]{scale_x_continuous}’
  ‘[magrittr:pipe]{%>%}’

See section 'Cross-references' in the 'Writing R Extensions' manual.
* checking for missing documentation entries ... OK
* checking for code/documentation mismatches ... OK
* checking Rd \usage sections ... OK
* checking Rd contents ... OK
* checking for unstated dependencies in examples ... OK
* checking files in ‘vignettes’ ... OK
* checking examples ... OK
* checking for unstated dependencies in ‘tests’ ... OK
* checking tests ...
  Running ‘testthat.R’
 OK
* checking for unstated dependencies in vignettes ... OK
* checking package vignettes ... OK
* checking running R code from vignettes ... SKIPPED
* checking re-building of vignette outputs ... SKIPPED
* checking PDF version of manual ... OK
* DONE

Status: 1 NOTE
See
  ‘/home/biocbuild/bbs-3.21-bioc/meat/ggtree.Rcheck/00check.log’
for details.


Installation output

ggtree.Rcheck/00install.out

##############################################################################
##############################################################################
###
### Running command:
###
###   /home/biocbuild/R/R/bin/R CMD INSTALL ggtree
###
##############################################################################
##############################################################################


* installing to library ‘/home/biocbuild/R/R-devel_2025-02-19/site-library’
* installing *source* package ‘ggtree’ ...
** this is package ‘ggtree’ version ‘3.16.3’
** using staged installation
** R
** inst
** byte-compile and prepare package for lazy loading
** help
*** installing help indices
** building package indices
** installing vignettes
** testing if installed package can be loaded from temporary location
** testing if installed package can be loaded from final location
** testing if installed package keeps a record of temporary installation path
* DONE (ggtree)

Tests output

ggtree.Rcheck/tests/testthat.Rout


R Under development (unstable) (2025-02-19 r87757) -- "Unsuffered Consequences"
Copyright (C) 2025 The R Foundation for Statistical Computing
Platform: aarch64-unknown-linux-gnu

R is free software and comes with ABSOLUTELY NO WARRANTY.
You are welcome to redistribute it under certain conditions.
Type 'license()' or 'licence()' for distribution details.

R is a collaborative project with many contributors.
Type 'contributors()' for more information and
'citation()' on how to cite R or R packages in publications.

Type 'demo()' for some demos, 'help()' for on-line help, or
'help.start()' for an HTML browser interface to help.
Type 'q()' to quit R.

> library(testthat)
> library(ggtree)
ggtree v3.16.3 Learn more at https://yulab-smu.top/contribution-tree-data/

Please cite:

Guangchuang Yu.  Data Integration, Manipulation and Visualization of
Phylogenetic Trees (1st edition). Chapman and Hall/CRC. 2022,
doi:10.1201/9781003279242, ISBN: 9781032233574
> 
> test_check("ggtree")
[ FAIL 0 | WARN 4 | SKIP 0 | PASS 14 ]

[ FAIL 0 | WARN 4 | SKIP 0 | PASS 14 ]
> 
> proc.time()
   user  system elapsed 
  2.899   0.111   3.002 

Example timings

ggtree.Rcheck/ggtree-Ex.timings

nameusersystemelapsed
collapse0.4260.1240.551
expand0.2410.0080.249
facet-plot0.3790.0200.401
flip0.2750.0000.276
geom-hilight2.7070.0322.745
geom_balance0.3270.0400.368
geom_cladelab0.7540.0070.768
geom_label20.3100.0000.311
geom_point21.1770.0041.184
geom_rootedge0.9660.0000.968
geom_rootpoint0.3940.0000.395
geom_strip0.2220.0000.223
geom_striplab0.3050.0280.334
geom_tiplab0.2090.0000.210
geom_tiplab20.3390.0000.340
geom_tippoint0.1880.0080.197
geom_tree0.1730.0000.174
get_taxa_name0.0370.0000.037
ggdensitree2.1380.0082.153
ggexpand0.3080.0000.309
ggtree-format-painter0.2350.0000.237
ggtree0.1870.0010.187
label_pad0.0010.0000.001
open_tree0.3020.0000.302
reexports0.3140.0000.315
revts0.2110.0000.211
rotate0.2110.0030.215
rotate_tree0.3100.0000.311
scaleClade0.2530.0000.253
theme_tree0.2080.0040.212
theme_tree20.2180.0040.223
tree-layout1.3860.0001.388
viewClade0.2950.0000.296
xlim_expand0.3610.0160.378
xlim_tree0.3670.0280.396
zoomClade000