| Back to Multiple platform build/check report for BioC 3.21: simplified long |
|
This page was generated on 2025-10-16 11:41 -0400 (Thu, 16 Oct 2025).
| Hostname | OS | Arch (*) | R version | Installed pkgs |
|---|---|---|---|---|
| nebbiolo1 | Linux (Ubuntu 24.04.3 LTS) | x86_64 | 4.5.1 (2025-06-13) -- "Great Square Root" | 4833 |
| merida1 | macOS 12.7.6 Monterey | x86_64 | 4.5.1 RC (2025-06-05 r88288) -- "Great Square Root" | 4614 |
| kjohnson1 | macOS 13.7.5 Ventura | arm64 | 4.5.1 Patched (2025-06-14 r88325) -- "Great Square Root" | 4555 |
| kunpeng2 | Linux (openEuler 24.03 LTS) | aarch64 | R Under development (unstable) (2025-02-19 r87757) -- "Unsuffered Consequences" | 4586 |
| Click on any hostname to see more info about the system (e.g. compilers) (*) as reported by 'uname -p', except on Windows and Mac OS X | ||||
| Package 872/2341 | Hostname | OS / Arch | INSTALL | BUILD | CHECK | BUILD BIN | ||||||||
| ggsc 1.6.1 (landing page) Guangchuang Yu
| nebbiolo1 | Linux (Ubuntu 24.04.3 LTS) / x86_64 | OK | OK | OK | |||||||||
| merida1 | macOS 12.7.6 Monterey / x86_64 | OK | OK | OK | OK | |||||||||
| kjohnson1 | macOS 13.7.5 Ventura / arm64 | OK | OK | OK | OK | |||||||||
| kunpeng2 | Linux (openEuler 24.03 LTS) / aarch64 | OK | OK | OK | ||||||||||
|
To the developers/maintainers of the ggsc package: - Allow up to 24 hours (and sometimes 48 hours) for your latest push to git@git.bioconductor.org:packages/ggsc.git to reflect on this report. See Troubleshooting Build Report for more information. - Use the following Renviron settings to reproduce errors and warnings. - If 'R CMD check' started to fail recently on the Linux builder(s) over a missing dependency, add the missing dependency to 'Suggests:' in your DESCRIPTION file. See Renviron.bioc for more information. - See Martin Grigorov's blog post for how to debug Linux ARM64 related issues on a x86_64 host. |
| Package: ggsc |
| Version: 1.6.1 |
| Command: /home/biocbuild/R/R/bin/R CMD check --install=check:ggsc.install-out.txt --library=/home/biocbuild/R/R/site-library --no-vignettes --timings ggsc_1.6.1.tar.gz |
| StartedAt: 2025-10-14 09:41:29 -0000 (Tue, 14 Oct 2025) |
| EndedAt: 2025-10-14 09:48:57 -0000 (Tue, 14 Oct 2025) |
| EllapsedTime: 448.3 seconds |
| RetCode: 0 |
| Status: OK |
| CheckDir: ggsc.Rcheck |
| Warnings: 0 |
##############################################################################
##############################################################################
###
### Running command:
###
### /home/biocbuild/R/R/bin/R CMD check --install=check:ggsc.install-out.txt --library=/home/biocbuild/R/R/site-library --no-vignettes --timings ggsc_1.6.1.tar.gz
###
##############################################################################
##############################################################################
* using log directory ‘/home/biocbuild/bbs-3.21-bioc/meat/ggsc.Rcheck’
* using R Under development (unstable) (2025-02-19 r87757)
* using platform: aarch64-unknown-linux-gnu
* R was compiled by
aarch64-unknown-linux-gnu-gcc (GCC) 14.2.0
GNU Fortran (GCC) 14.2.0
* running under: openEuler 24.03 (LTS-SP1)
* using session charset: UTF-8
* using option ‘--no-vignettes’
* checking for file ‘ggsc/DESCRIPTION’ ... OK
* this is package ‘ggsc’ version ‘1.6.1’
* package encoding: UTF-8
* checking package namespace information ... OK
* checking package dependencies ... OK
* checking if this is a source package ... OK
* checking if there is a namespace ... OK
* checking for hidden files and directories ... OK
* checking for portable file names ... OK
* checking for sufficient/correct file permissions ... OK
* checking whether package ‘ggsc’ can be installed ... OK
* used C++ compiler: ‘aarch64-unknown-linux-gnu-g++ (GCC) 14.2.0’
* checking installed package size ... OK
* checking package directory ... OK
* checking ‘build’ directory ... OK
* checking DESCRIPTION meta-information ... OK
* checking top-level files ... OK
* checking for left-over files ... OK
* checking index information ... OK
* checking package subdirectories ... OK
* checking code files for non-ASCII characters ... OK
* checking R files for syntax errors ... OK
* checking whether the package can be loaded ... OK
* checking whether the package can be loaded with stated dependencies ... OK
* checking whether the package can be unloaded cleanly ... OK
* checking whether the namespace can be loaded with stated dependencies ... OK
* checking whether the namespace can be unloaded cleanly ... OK
* checking loading without being on the library search path ... OK
* checking dependencies in R code ... OK
* checking S3 generic/method consistency ... OK
* checking replacement functions ... OK
* checking foreign function calls ... OK
* checking R code for possible problems ... OK
* checking Rd files ... OK
* checking Rd metadata ... OK
* checking Rd cross-references ... NOTE
Non-topic package-anchored link(s) in Rd file 'reexports.Rd':
‘[ggfun:attacher]{%<+%}’
See section 'Cross-references' in the 'Writing R Extensions' manual.
* checking for missing documentation entries ... OK
* checking for code/documentation mismatches ... OK
* checking Rd \usage sections ... OK
* checking Rd contents ... OK
* checking for unstated dependencies in examples ... OK
* checking line endings in C/C++/Fortran sources/headers ... OK
* checking line endings in Makefiles ... OK
* checking compilation flags in Makevars ... OK
* checking for GNU extensions in Makefiles ... INFO
GNU make is a SystemRequirements.
* checking for portable use of $(BLAS_LIBS) and $(LAPACK_LIBS) ... OK
* checking use of PKG_*FLAGS in Makefiles ... OK
* checking compiled code ... NOTE
Note: information on .o files is not available
* checking files in ‘vignettes’ ... OK
* checking examples ... OK
Examples with CPU (user + system) or elapsed time > 5s
user system elapsed
sc-feature-methods 24.740 0.214 23.311
sc-violin-methods 8.954 0.231 9.202
sc-dim-count 8.205 0.370 8.650
sc-dim-methods 6.737 0.020 6.773
sc-dim-geom-label 6.608 0.069 6.690
sc-dim-geom-feature 6.609 0.040 6.668
sc-dim-geom-ellipse 6.542 0.084 6.666
sc-dim-sub 6.381 0.013 6.408
sc-dim-geom-subset 6.148 0.060 6.220
geom_scattermore2 5.019 0.144 4.450
* checking for unstated dependencies in ‘tests’ ... OK
* checking tests ...
Running ‘testthat.R’
OK
* checking for unstated dependencies in vignettes ... OK
* checking package vignettes ... OK
* checking running R code from vignettes ... SKIPPED
* checking re-building of vignette outputs ... SKIPPED
* checking PDF version of manual ... OK
* DONE
Status: 2 NOTEs
See
‘/home/biocbuild/bbs-3.21-bioc/meat/ggsc.Rcheck/00check.log’
for details.
ggsc.Rcheck/00install.out
##############################################################################
##############################################################################
###
### Running command:
###
### /home/biocbuild/R/R/bin/R CMD INSTALL ggsc
###
##############################################################################
##############################################################################
* installing to library ‘/home/biocbuild/R/R-devel_2025-02-19/site-library’
* installing *source* package ‘ggsc’ ...
** this is package ‘ggsc’ version ‘1.6.1’
** using staged installation
** libs
using C++ compiler: ‘aarch64-unknown-linux-gnu-g++ (GCC) 14.2.0’
/opt/ohpc/pub/compiler/gcc/14.2.0/bin/aarch64-unknown-linux-gnu-g++ -std=gnu++17 -I"/home/biocbuild/R/R/include" -DNDEBUG -I'/home/biocbuild/R/R-devel_2025-02-19/site-library/Rcpp/include' -I'/home/biocbuild/R/R-devel_2025-02-19/site-library/RcppArmadillo/include' -I'/home/biocbuild/R/R-devel_2025-02-19/site-library/RcppParallel/include' -I/usr/local/include -fopenmp -DARMA_64BIT_WORD -fPIC -g -O2 -Wall -Werror=format-security -c RcppExports.cpp -o RcppExports.o
/opt/ohpc/pub/compiler/gcc/14.2.0/bin/aarch64-unknown-linux-gnu-g++ -std=gnu++17 -I"/home/biocbuild/R/R/include" -DNDEBUG -I'/home/biocbuild/R/R-devel_2025-02-19/site-library/Rcpp/include' -I'/home/biocbuild/R/R-devel_2025-02-19/site-library/RcppArmadillo/include' -I'/home/biocbuild/R/R-devel_2025-02-19/site-library/RcppParallel/include' -I/usr/local/include -fopenmp -DARMA_64BIT_WORD -fPIC -g -O2 -Wall -Werror=format-security -c kde.cpp -o kde.o
In file included from /home/biocbuild/R/R-devel_2025-02-19/site-library/RcppParallel/include/tbb/tbb.h:32,
from /home/biocbuild/R/R-devel_2025-02-19/site-library/RcppParallel/include/RcppParallel/TBB.h:10,
from /home/biocbuild/R/R-devel_2025-02-19/site-library/RcppParallel/include/RcppParallel.h:24,
from kde.cpp:2:
/home/biocbuild/R/R-devel_2025-02-19/site-library/RcppParallel/include/tbb/atomic.h: In instantiation of ‘tbb::atomic<T>& tbb::internal::as_atomic(T&) [with T = long unsigned int]’:
/home/biocbuild/R/R-devel_2025-02-19/site-library/RcppParallel/include/tbb/tbb_thread.h:251:29: required from here
251 | return as_atomic(location.my_id).compare_and_swap(value.my_id, comparand.my_id);
| ~~~~~~~~~^~~~~~~~~~~~~~~~
/home/biocbuild/R/R-devel_2025-02-19/site-library/RcppParallel/include/tbb/atomic.h:544:12: warning: casting ‘long unsigned int’ to ‘tbb::atomic<long unsigned int>&’ does not use ‘constexpr tbb::atomic<long unsigned int>::atomic(long unsigned int)’ [-Wcast-user-defined]
544 | return (atomic<T>&)t;
| ^~~~~~~~~~~~~
/home/biocbuild/R/R-devel_2025-02-19/site-library/RcppParallel/include/tbb/atomic.h: In instantiation of ‘tbb::atomic<T>& tbb::internal::as_atomic(T&) [with T = tbb::interface5::internal::hash_map_base::bucket*]’:
/home/biocbuild/R/R-devel_2025-02-19/site-library/RcppParallel/include/tbb/concurrent_hash_map.h:291:31: required from here
291 | && as_atomic(my_table[new_seg]).compare_and_swap(is_allocating, NULL) == NULL )
| ~~~~~~~~~^~~~~~~~~~~~~~~~~~~
/home/biocbuild/R/R-devel_2025-02-19/site-library/RcppParallel/include/tbb/atomic.h:544:12: warning: casting ‘tbb::interface5::internal::hash_map_base::bucket*’ to ‘tbb::atomic<tbb::interface5::internal::hash_map_base::bucket*>&’ does not use ‘constexpr tbb::atomic<T*>::atomic(T*) [with T = tbb::interface5::internal::hash_map_base::bucket]’ [-Wcast-user-defined]
544 | return (atomic<T>&)t;
| ^~~~~~~~~~~~~
/opt/ohpc/pub/compiler/gcc/14.2.0/bin/aarch64-unknown-linux-gnu-g++ -std=gnu++17 -shared -L/home/biocbuild/R/R/lib -L/usr/local/lib -o ggsc.so RcppExports.o kde.o -fopenmp -L/home/biocbuild/R/R/lib -lRlapack -L/home/biocbuild/R/R/lib -lRblas -lgfortran -lm -L/home/biocbuild/R/R/lib -lR
installing to /home/biocbuild/R/R-devel_2025-02-19/site-library/00LOCK-ggsc/00new/ggsc/libs
** R
** byte-compile and prepare package for lazy loading
** help
*** installing help indices
** building package indices
** installing vignettes
** testing if installed package can be loaded from temporary location
** checking absolute paths in shared objects and dynamic libraries
** testing if installed package can be loaded from final location
** testing if installed package keeps a record of temporary installation path
* DONE (ggsc)
ggsc.Rcheck/tests/testthat.Rout
R Under development (unstable) (2025-02-19 r87757) -- "Unsuffered Consequences"
Copyright (C) 2025 The R Foundation for Statistical Computing
Platform: aarch64-unknown-linux-gnu
R is free software and comes with ABSOLUTELY NO WARRANTY.
You are welcome to redistribute it under certain conditions.
Type 'license()' or 'licence()' for distribution details.
R is a collaborative project with many contributors.
Type 'contributors()' for more information and
'citation()' on how to cite R or R packages in publications.
Type 'demo()' for some demos, 'help()' for on-line help, or
'help.start()' for an HTML browser interface to help.
Type 'q()' to quit R.
> # This file is part of the standard setup for testthat.
> # It is recommended that you do not modify it.
> #
> # Where should you do additional test configuration?
> # Learn more about the roles of various files in:
> # * https://r-pkgs.org/tests.html
> # * https://testthat.r-lib.org/reference/test_package.html#special-files
>
> library(testthat)
> library(ggsc)
>
> test_check("ggsc")
[ FAIL 0 | WARN 1 | SKIP 0 | PASS 2 ]
[ FAIL 0 | WARN 1 | SKIP 0 | PASS 2 ]
>
> proc.time()
user system elapsed
17.939 0.768 18.733
ggsc.Rcheck/ggsc-Ex.timings
| name | user | system | elapsed | |
| geom_bgpoint | 0.483 | 0.068 | 0.553 | |
| geom_scattermore2 | 5.019 | 0.144 | 4.450 | |
| plot-lisa-feature | 0 | 0 | 0 | |
| sc-dim-count | 8.205 | 0.370 | 8.650 | |
| sc-dim-geom-ellipse | 6.542 | 0.084 | 6.666 | |
| sc-dim-geom-feature | 6.609 | 0.040 | 6.668 | |
| sc-dim-geom-label | 6.608 | 0.069 | 6.690 | |
| sc-dim-geom-subset | 6.148 | 0.060 | 6.220 | |
| sc-dim-methods | 6.737 | 0.020 | 6.773 | |
| sc-dim-sub | 6.381 | 0.013 | 6.408 | |
| sc-dot-methods | 1.325 | 0.004 | 1.332 | |
| sc-feature-methods | 24.740 | 0.214 | 23.311 | |
| sc-geom-point | 0.880 | 0.007 | 0.801 | |
| sc-spatial-methods | 0 | 0 | 0 | |
| sc-violin-methods | 8.954 | 0.231 | 9.202 | |