| Back to Multiple platform build/check report for BioC 3.21: simplified long |
|
This page was generated on 2025-04-22 13:18 -0400 (Tue, 22 Apr 2025).
| Hostname | OS | Arch (*) | R version | Installed pkgs |
|---|---|---|---|---|
| nebbiolo1 | Linux (Ubuntu 24.04.1 LTS) | x86_64 | 4.5.0 RC (2025-04-04 r88126) -- "How About a Twenty-Six" | 4831 |
| palomino7 | Windows Server 2022 Datacenter | x64 | 4.5.0 RC (2025-04-04 r88126 ucrt) -- "How About a Twenty-Six" | 4573 |
| lconway | macOS 12.7.1 Monterey | x86_64 | 4.5.0 RC (2025-04-04 r88126) -- "How About a Twenty-Six" | 4599 |
| kjohnson3 | macOS 13.7.1 Ventura | arm64 | 4.5.0 RC (2025-04-04 r88126) -- "How About a Twenty-Six" | 4553 |
| kunpeng2 | Linux (openEuler 24.03 LTS) | aarch64 | R Under development (unstable) (2025-02-19 r87757) -- "Unsuffered Consequences" | 4570 |
| Click on any hostname to see more info about the system (e.g. compilers) (*) as reported by 'uname -p', except on Windows and Mac OS X | ||||
| Package 854/2341 | Hostname | OS / Arch | INSTALL | BUILD | CHECK | BUILD BIN | ||||||||
| geomeTriD 1.2.0 (landing page) Jianhong Ou
| nebbiolo1 | Linux (Ubuntu 24.04.1 LTS) / x86_64 | OK | OK | OK | |||||||||
| palomino7 | Windows Server 2022 Datacenter / x64 | OK | OK | OK | OK | |||||||||
| lconway | macOS 12.7.1 Monterey / x86_64 | OK | OK | OK | OK | |||||||||
| kjohnson3 | macOS 13.7.1 Ventura / arm64 | OK | OK | OK | OK | |||||||||
| kunpeng2 | Linux (openEuler 24.03 LTS) / aarch64 | OK | OK | OK | ||||||||||
|
To the developers/maintainers of the geomeTriD package: - Allow up to 24 hours (and sometimes 48 hours) for your latest push to git@git.bioconductor.org:packages/geomeTriD.git to reflect on this report. See Troubleshooting Build Report for more information. - Use the following Renviron settings to reproduce errors and warnings. - If 'R CMD check' started to fail recently on the Linux builder(s) over a missing dependency, add the missing dependency to 'Suggests:' in your DESCRIPTION file. See Renviron.bioc for more information. |
| Package: geomeTriD |
| Version: 1.2.0 |
| Command: /Library/Frameworks/R.framework/Resources/bin/R CMD check --install=check:geomeTriD.install-out.txt --library=/Library/Frameworks/R.framework/Resources/library --no-vignettes --timings geomeTriD_1.2.0.tar.gz |
| StartedAt: 2025-04-21 19:36:34 -0400 (Mon, 21 Apr 2025) |
| EndedAt: 2025-04-21 19:39:11 -0400 (Mon, 21 Apr 2025) |
| EllapsedTime: 157.9 seconds |
| RetCode: 0 |
| Status: OK |
| CheckDir: geomeTriD.Rcheck |
| Warnings: 0 |
##############################################################################
##############################################################################
###
### Running command:
###
### /Library/Frameworks/R.framework/Resources/bin/R CMD check --install=check:geomeTriD.install-out.txt --library=/Library/Frameworks/R.framework/Resources/library --no-vignettes --timings geomeTriD_1.2.0.tar.gz
###
##############################################################################
##############################################################################
* using log directory ‘/Users/biocbuild/bbs-3.21-bioc/meat/geomeTriD.Rcheck’
* using R version 4.5.0 RC (2025-04-04 r88126)
* using platform: aarch64-apple-darwin20
* R was compiled by
Apple clang version 14.0.0 (clang-1400.0.29.202)
GNU Fortran (GCC) 14.2.0
* running under: macOS Ventura 13.7.1
* using session charset: UTF-8
* using option ‘--no-vignettes’
* checking for file ‘geomeTriD/DESCRIPTION’ ... OK
* checking extension type ... Package
* this is package ‘geomeTriD’ version ‘1.2.0’
* package encoding: UTF-8
* checking package namespace information ... OK
* checking package dependencies ... OK
* checking if this is a source package ... OK
* checking if there is a namespace ... OK
* checking for hidden files and directories ... OK
* checking for portable file names ... OK
* checking for sufficient/correct file permissions ... OK
* checking whether package ‘geomeTriD’ can be installed ... OK
* checking installed package size ... OK
* checking package directory ... OK
* checking ‘build’ directory ... OK
* checking DESCRIPTION meta-information ... OK
* checking top-level files ... OK
* checking for left-over files ... OK
* checking index information ... OK
* checking package subdirectories ... OK
* checking code files for non-ASCII characters ... OK
* checking R files for syntax errors ... OK
* checking whether the package can be loaded ... OK
* checking whether the package can be loaded with stated dependencies ... OK
* checking whether the package can be unloaded cleanly ... OK
* checking whether the namespace can be loaded with stated dependencies ... OK
* checking whether the namespace can be unloaded cleanly ... OK
* checking dependencies in R code ... OK
* checking S3 generic/method consistency ... OK
* checking replacement functions ... OK
* checking foreign function calls ... OK
* checking R code for possible problems ... OK
* checking Rd files ... OK
* checking Rd metadata ... OK
* checking Rd cross-references ... OK
* checking for missing documentation entries ... OK
* checking for code/documentation mismatches ... OK
* checking Rd \usage sections ... OK
* checking Rd contents ... OK
* checking for unstated dependencies in examples ... OK
* checking files in ‘vignettes’ ... OK
* checking examples ... OK
* checking for unstated dependencies in ‘tests’ ... OK
* checking tests ...
Running ‘runTests.R’
OK
* checking for unstated dependencies in vignettes ... OK
* checking package vignettes ... OK
* checking running R code from vignettes ... SKIPPED
* checking re-building of vignette outputs ... SKIPPED
* checking PDF version of manual ... OK
* DONE
Status: OK
geomeTriD.Rcheck/00install.out
############################################################################## ############################################################################## ### ### Running command: ### ### /Library/Frameworks/R.framework/Resources/bin/R CMD INSTALL geomeTriD ### ############################################################################## ############################################################################## * installing to library ‘/Library/Frameworks/R.framework/Versions/4.5-arm64/Resources/library’ * installing *source* package ‘geomeTriD’ ... ** this is package ‘geomeTriD’ version ‘1.2.0’ ** using staged installation ** R ** inst ** byte-compile and prepare package for lazy loading ** help *** installing help indices ** building package indices ** installing vignettes ** testing if installed package can be loaded from temporary location ** testing if installed package can be loaded from final location ** testing if installed package keeps a record of temporary installation path * DONE (geomeTriD)
geomeTriD.Rcheck/tests/runTests.Rout
R version 4.5.0 RC (2025-04-04 r88126) -- "How About a Twenty-Six"
Copyright (C) 2025 The R Foundation for Statistical Computing
Platform: aarch64-apple-darwin20
R is free software and comes with ABSOLUTELY NO WARRANTY.
You are welcome to redistribute it under certain conditions.
Type 'license()' or 'licence()' for distribution details.
R is a collaborative project with many contributors.
Type 'contributors()' for more information and
'citation()' on how to cite R or R packages in publications.
Type 'demo()' for some demos, 'help()' for on-line help, or
'help.start()' for an HTML browser interface to help.
Type 'q()' to quit R.
> options(rgl.useNULL=TRUE)
> require("geomeTriD") || stop("unable to load Package:geomeTriD")
Loading required package: geomeTriD
[1] TRUE
> require(rgl) || stop("unable to load rgl")
Loading required package: rgl
[1] TRUE
> require("testthat") || stop("unable to load testthat")
Loading required package: testthat
[1] TRUE
>
> x <- readRDS(system.file("extdata", "4DNFI1UEG1HD.chr21.FLAMINGO.res.rds",
+ package = "geomeTriD"
+ ))
> gi <- readRDS(system.file("extdata", "gi.rds", package = "trackViewer"))
> test_check("geomeTriD")
[ FAIL 0 | WARN 20 | SKIP 3 | PASS 92 ]
══ Skipped tests (3) ═══════════════════════════════════════════════════════════
• empty test (3): 'test_create3dGenomicSignals.R:1:1',
'test_signalCalculation.R:1:1', 'test_signalCalculation.R:23:1'
[ FAIL 0 | WARN 20 | SKIP 3 | PASS 92 ]
>
> proc.time()
user system elapsed
14.332 0.416 14.770
geomeTriD.Rcheck/geomeTriD-Ex.timings
| name | user | system | elapsed | |
| alignCoor | 0.993 | 0.013 | 1.012 | |
| availableGeometries | 0 | 0 | 0 | |
| create3dGenomicSignals | 0.139 | 0.015 | 0.154 | |
| createTADGeometries | 0.326 | 0.027 | 0.352 | |
| extractBackbonePositions | 0.185 | 0.004 | 0.190 | |
| geomeTriD-package | 0.000 | 0.000 | 0.001 | |
| loopBouquetPlot | 0.970 | 0.034 | 1.007 | |
| mdsPlot | 1.662 | 0.039 | 1.704 | |
| pointCluster | 0.017 | 0.000 | 0.018 | |
| rglViewer | 0.276 | 0.002 | 0.279 | |
| smooth3dPoints | 0.057 | 0.003 | 0.060 | |
| threeJsGeometry-class | 0 | 0 | 0 | |
| threeJsViewer-shiny | 0.000 | 0.000 | 0.001 | |
| threeJsViewer | 0.073 | 0.007 | 0.198 | |
| view3dCells | 0.006 | 0.003 | 0.009 | |
| view3dStructure | 0.271 | 0.002 | 0.273 | |