Back to Multiple platform build/check report for BioC 3.22:   simplified   long
ABCDEF[G]HIJKLMNOPQRSTUVWXYZ

This page was generated on 2025-11-06 11:59 -0500 (Thu, 06 Nov 2025).

HostnameOSArch (*)R versionInstalled pkgs
nebbiolo2Linux (Ubuntu 24.04.3 LTS)x86_644.5.1 Patched (2025-08-23 r88802) -- "Great Square Root" 4902
kjohnson3macOS 13.7.7 Venturaarm644.5.1 Patched (2025-09-10 r88807) -- "Great Square Root" 4638
Click on any hostname to see more info about the system (e.g. compilers)      (*) as reported by 'uname -p', except on Windows and Mac OS X

All results for package genefilter


To the developers/maintainers of the genefilter package:
- Allow up to 24 hours (and sometimes 48 hours) for your latest push to git@git.bioconductor.org:packages/genefilter.git to reflect on this report. See Troubleshooting Build Report for more information.
- Use the following Renviron settings to reproduce errors and warnings.
- If 'R CMD check' started to fail recently on the Linux builder(s) over a missing dependency, add the missing dependency to 'Suggests:' in your DESCRIPTION file. See Renviron.bioc for more information.

raw results

Package 818/2361HostnameOS / ArchINSTALLBUILDCHECKBUILD BIN
genefilter 1.92.0  (landing page)
Bioconductor Package Maintainer
Snapshot Date: 2025-11-05 13:45 -0500 (Wed, 05 Nov 2025)
git_url: https://git.bioconductor.org/packages/genefilter
git_branch: RELEASE_3_22
git_last_commit: b24c1ba
git_last_commit_date: 2025-10-29 09:41:48 -0500 (Wed, 29 Oct 2025)
nebbiolo2Linux (Ubuntu 24.04.3 LTS) / x86_64  OK    OK    WARNINGS  UNNEEDED, same version is already published
kjohnson3macOS 13.7.7 Ventura / arm64  OK    OK    WARNINGS    OK  UNNEEDED, same version is already published



Results for Bioconductor software packages that depend directly on package genefilter

QUICK STATSOS / ArchINSTALLBUILDCHECKBUILD BIN
nebbiolo2Linux (Ubuntu 24.04.3 LTS) / x86_64
0032
0230
00525
kjohnson3macOS 13.7.7 Ventura / arm64
0032
0230
00624
0030
Package 1/32HostnameOS / ArchINSTALLBUILDCHECKBUILD BIN
a4Base 1.58.0  (landing page)
Laure Cougnaud
git_last_commit: b4398e6
git_last_commit_date: 2025-10-29 10:07:20 -0500
nebbiolo2Linux (Ubuntu 24.04.3 LTS) / x86_64  OK    OK    OK  UNNEEDED, same version is already published
kjohnson3macOS 13.7.7 Ventura / arm64  OK    OK    OK    OK  UNNEEDED, same version is already published
Package 2/32HostnameOS / ArchINSTALLBUILDCHECKBUILD BIN
annmap 1.52.0  (landing page)
Chris Wirth
git_last_commit: 2222171
git_last_commit_date: 2025-10-29 10:11:14 -0500
nebbiolo2Linux (Ubuntu 24.04.3 LTS) / x86_64  OK    OK    WARNINGS  UNNEEDED, same version is already published
kjohnson3macOS 13.7.7 Ventura / arm64  OK    OK    WARNINGS    OK  UNNEEDED, same version is already published
Package 3/32HostnameOS / ArchINSTALLBUILDCHECKBUILD BIN
arrayQualityMetrics 3.66.0  (landing page)
Mike Smith
git_last_commit: 9561d9d
git_last_commit_date: 2025-10-29 09:59:44 -0500
nebbiolo2Linux (Ubuntu 24.04.3 LTS) / x86_64  OK    OK    OK  NO, package depends on 'beadarray' which is not available
kjohnson3macOS 13.7.7 Ventura / arm64  OK    OK    OK    OK  NO, package depends on 'beadarray' which is not available
Package 4/32HostnameOS / ArchINSTALLBUILDCHECKBUILD BIN
broadSeq 1.4.0  (landing page)
Rishi Das Roy
git_last_commit: f0b1505
git_last_commit_date: 2025-10-29 11:30:34 -0500
nebbiolo2Linux (Ubuntu 24.04.3 LTS) / x86_64  OK    OK    WARNINGS  NO, package depends on 'DELocal' which is not available
kjohnson3macOS 13.7.7 Ventura / arm64  OK    OK    WARNINGS    OK  NO, package depends on 'DELocal' which is not available
Package 5/32HostnameOS / ArchINSTALLBUILDCHECKBUILD BIN
Category 2.76.0  (landing page)
Bioconductor Package Maintainer
git_last_commit: df2c742
git_last_commit_date: 2025-10-29 09:56:37 -0500
nebbiolo2Linux (Ubuntu 24.04.3 LTS) / x86_64  OK    OK    OK  UNNEEDED, same version is already published
kjohnson3macOS 13.7.7 Ventura / arm64  OK    OK    OK    OK  UNNEEDED, same version is already published
Package 6/32HostnameOS / ArchINSTALLBUILDCHECKBUILD BIN
cbaf 1.32.0  (landing page)
Arman Shahrisa
git_last_commit: b77921d
git_last_commit_date: 2025-10-29 10:41:05 -0500
nebbiolo2Linux (Ubuntu 24.04.3 LTS) / x86_64  OK    OK    OK  UNNEEDED, same version is already published
kjohnson3macOS 13.7.7 Ventura / arm64  OK    OK    OK    OK  UNNEEDED, same version is already published
Package 7/32HostnameOS / ArchINSTALLBUILDCHECKBUILD BIN
ClassifyR 3.14.0  (landing page)
Dario Strbenac
git_last_commit: ff15d84
git_last_commit_date: 2025-10-29 10:20:42 -0500
nebbiolo2Linux (Ubuntu 24.04.3 LTS) / x86_64  OK    OK    OK  UNNEEDED, same version is already published
kjohnson3macOS 13.7.7 Ventura / arm64  OK    OK    WARNINGS    OK  UNNEEDED, same version is already published
Package 8/32HostnameOS / ArchINSTALLBUILDCHECKBUILD BIN
CNTools 1.66.0  (landing page)
J. Zhang
git_last_commit: e91ebea
git_last_commit_date: 2025-10-29 10:02:56 -0500
nebbiolo2Linux (Ubuntu 24.04.3 LTS) / x86_64  OK    OK    OK  UNNEEDED, same version is already published
kjohnson3macOS 13.7.7 Ventura / arm64  OK    OK    OK    OK  UNNEEDED, same version is already published
Package 9/32HostnameOS / ArchINSTALLBUILDCHECKBUILD BIN
countsimQC 1.28.0  (landing page)
Charlotte Soneson
git_last_commit: 5ad5ec4
git_last_commit_date: 2025-10-29 10:47:52 -0500
nebbiolo2Linux (Ubuntu 24.04.3 LTS) / x86_64  OK    OK    OK  UNNEEDED, same version is already published
kjohnson3macOS 13.7.7 Ventura / arm64  OK    OK    OK    OK  UNNEEDED, same version is already published
Package 10/32HostnameOS / ArchINSTALLBUILDCHECKBUILD BIN
covRNA 1.36.0  (landing page)
Lara Urban
git_last_commit: 1b430ba
git_last_commit_date: 2025-10-29 10:32:21 -0500
nebbiolo2Linux (Ubuntu 24.04.3 LTS) / x86_64  OK    OK    OK  UNNEEDED, same version is already published
kjohnson3macOS 13.7.7 Ventura / arm64  OK    OK    OK    OK  UNNEEDED, same version is already published
Package 11/32HostnameOS / ArchINSTALLBUILDCHECKBUILD BIN
DEXSeq 1.56.0  (landing page)
Alejandro Reyes
git_last_commit: 0f430e0
git_last_commit_date: 2025-10-29 10:07:54 -0500
nebbiolo2Linux (Ubuntu 24.04.3 LTS) / x86_64  OK    OK    OK  UNNEEDED, same version is already published
kjohnson3macOS 13.7.7 Ventura / arm64  OK    OK    OK    OK  UNNEEDED, same version is already published
Package 12/32HostnameOS / ArchINSTALLBUILDCHECKBUILD BIN
ENmix 1.46.0  (landing page)
Zongli Xu
git_last_commit: 50af132
git_last_commit_date: 2025-10-29 10:25:39 -0500
nebbiolo2Linux (Ubuntu 24.04.3 LTS) / x86_64  OK    OK    OK  UNNEEDED, same version is already published
kjohnson3macOS 13.7.7 Ventura / arm64  OK    OK    OK    OK  UNNEEDED, same version is already published
Package 13/32HostnameOS / ArchINSTALLBUILDCHECKBUILD BIN
GeneMeta 1.82.0  (landing page)
Bioconductor Package Maintainer
git_last_commit: a64e7aa
git_last_commit_date: 2025-10-29 09:56:40 -0500
nebbiolo2Linux (Ubuntu 24.04.3 LTS) / x86_64  OK    OK    OK  UNNEEDED, same version is already published
kjohnson3macOS 13.7.7 Ventura / arm64  OK    OK    OK    OK  UNNEEDED, same version is already published
Package 14/32HostnameOS / ArchINSTALLBUILDCHECKBUILD BIN
GSRI 2.58.0  (landing page)
Julian Gehring
git_last_commit: 9282321
git_last_commit_date: 2025-10-29 10:05:02 -0500
nebbiolo2Linux (Ubuntu 24.04.3 LTS) / x86_64  OK    OK    OK  UNNEEDED, same version is already published
kjohnson3macOS 13.7.7 Ventura / arm64  OK    OK    OK    OK  UNNEEDED, same version is already published
Package 15/32HostnameOS / ArchINSTALLBUILDCHECKBUILD BIN
metaseqR2 1.22.0  (landing page)
Panagiotis Moulos
git_last_commit: e5e7809
git_last_commit_date: 2025-10-29 10:59:18 -0500
nebbiolo2Linux (Ubuntu 24.04.3 LTS) / x86_64  OK    OK    OK  UNNEEDED, same version is already published
kjohnson3macOS 13.7.7 Ventura / arm64  OK    OK    OK    OK  UNNEEDED, same version is already published
Package 16/32HostnameOS / ArchINSTALLBUILDCHECKBUILD BIN
methylCC 1.24.0  (landing page)
Stephanie C. Hicks
git_last_commit: 98b2564
git_last_commit_date: 2025-10-29 10:54:45 -0500
nebbiolo2Linux (Ubuntu 24.04.3 LTS) / x86_64  OK    OK    OK  UNNEEDED, same version is already published
kjohnson3macOS 13.7.7 Ventura / arm64  OK    OK    OK    OK  UNNEEDED, same version is already published
Package 17/32HostnameOS / ArchINSTALLBUILDCHECKBUILD BIN
methylumi 2.56.0  (landing page)
Sean Davis
git_last_commit: baf2fdd
git_last_commit_date: 2025-10-29 10:02:53 -0500
nebbiolo2Linux (Ubuntu 24.04.3 LTS) / x86_64  OK    OK    OK  UNNEEDED, same version is already published
kjohnson3macOS 13.7.7 Ventura / arm64  OK    OK    OK    OK  UNNEEDED, same version is already published
Package 18/32HostnameOS / ArchINSTALLBUILDCHECKBUILD BIN
minfi 1.56.0  (landing page)
Kasper Daniel Hansen
git_last_commit: e6780b4
git_last_commit_date: 2025-10-29 10:09:18 -0500
nebbiolo2Linux (Ubuntu 24.04.3 LTS) / x86_64  OK    OK    OK  UNNEEDED, same version is already published
kjohnson3macOS 13.7.7 Ventura / arm64  OK    OK    OK    OK  UNNEEDED, same version is already published
Package 19/32HostnameOS / ArchINSTALLBUILDCHECKBUILD BIN
MLInterfaces 1.90.0  (landing page)
Vincent Carey
git_last_commit: 2d5da27
git_last_commit_date: 2025-10-29 09:55:18 -0500
nebbiolo2Linux (Ubuntu 24.04.3 LTS) / x86_64  OK    OK    WARNINGS  UNNEEDED, same version is already published
kjohnson3macOS 13.7.7 Ventura / arm64  OK    OK    WARNINGS    OK  UNNEEDED, same version is already published
Package 20/32HostnameOS / ArchINSTALLBUILDCHECKBUILD BIN
mogsa 1.44.0  (landing page)
Chen Meng
git_last_commit: f89a88e
git_last_commit_date: 2025-10-29 10:25:17 -0500
nebbiolo2Linux (Ubuntu 24.04.3 LTS) / x86_64  OK    OK    OK  UNNEEDED, same version is already published
kjohnson3macOS 13.7.7 Ventura / arm64  OK    OK    OK    OK  UNNEEDED, same version is already published
Package 21/32HostnameOS / ArchINSTALLBUILDCHECKBUILD BIN
NBAMSeq 1.26.0  (landing page)
Xu Ren
git_last_commit: 4d8f91b
git_last_commit_date: 2025-10-29 10:51:23 -0500
nebbiolo2Linux (Ubuntu 24.04.3 LTS) / x86_64  OK    OK    OK  UNNEEDED, same version is already published
kjohnson3macOS 13.7.7 Ventura / arm64  OK    OK    OK    OK  UNNEEDED, same version is already published
Package 22/32HostnameOS / ArchINSTALLBUILDCHECKBUILD BIN
pcaExplorer 3.4.0  (landing page)
Federico Marini
git_last_commit: 5b76435
git_last_commit_date: 2025-10-29 10:31:39 -0500
nebbiolo2Linux (Ubuntu 24.04.3 LTS) / x86_64  OK    OK    OK  UNNEEDED, same version is already published
kjohnson3macOS 13.7.7 Ventura / arm64  OK    OK    OK    OK  UNNEEDED, same version is already published
Package 23/32HostnameOS / ArchINSTALLBUILDCHECKBUILD BIN
PECA 1.46.0  (landing page)
Tomi Suomi
git_last_commit: ea1bf85
git_last_commit_date: 2025-10-29 10:17:25 -0500
nebbiolo2Linux (Ubuntu 24.04.3 LTS) / x86_64  OK    OK    OK  UNNEEDED, same version is already published
kjohnson3macOS 13.7.7 Ventura / arm64  OK    OK    OK    OK  UNNEEDED, same version is already published
Package 24/32HostnameOS / ArchINSTALLBUILDCHECKBUILD BIN
phenoTest 1.58.0  (landing page)
Evarist Planet
git_last_commit: 25bf541
git_last_commit_date: 2025-10-29 10:06:30 -0500
nebbiolo2Linux (Ubuntu 24.04.3 LTS) / x86_64  OK    OK    OK  UNNEEDED, same version is already published
kjohnson3macOS 13.7.7 Ventura / arm64  OK    OK    OK    OK  UNNEEDED, same version is already published
Package 25/32HostnameOS / ArchINSTALLBUILDCHECKBUILD BIN
protGear 1.14.0  (landing page)
Kennedy Mwai
git_last_commit: 494bde5
git_last_commit_date: 2025-10-29 11:15:59 -0500
nebbiolo2Linux (Ubuntu 24.04.3 LTS) / x86_64  OK    OK    OK  UNNEEDED, same version is already published
kjohnson3macOS 13.7.7 Ventura / arm64  OK    OK    OK    OK  UNNEEDED, same version is already published
Package 26/32HostnameOS / ArchINSTALLBUILDCHECKBUILD BIN
SGCP 1.10.0  (landing page)
Niloofar AghaieAbiane
git_last_commit: d571adf
git_last_commit_date: 2025-10-29 11:20:24 -0500
nebbiolo2Linux (Ubuntu 24.04.3 LTS) / x86_64  OK    ERROR  skipped
kjohnson3macOS 13.7.7 Ventura / arm64  OK    ERROR  skippedskipped
Package 27/32HostnameOS / ArchINSTALLBUILDCHECKBUILD BIN
spatialHeatmap 2.16.0  (landing page)
Jianhai Zhang
git_last_commit: e3ad0e0
git_last_commit_date: 2025-10-29 11:02:59 -0500
nebbiolo2Linux (Ubuntu 24.04.3 LTS) / x86_64  OK    ERROR  skipped
kjohnson3macOS 13.7.7 Ventura / arm64  OK    ERROR  skippedskipped
Package 28/32HostnameOS / ArchINSTALLBUILDCHECKBUILD BIN
SpliceWiz 1.12.0  (landing page)
Alex Chit Hei Wong
git_last_commit: 1767347
git_last_commit_date: 2025-10-29 11:17:35 -0500
nebbiolo2Linux (Ubuntu 24.04.3 LTS) / x86_64  OK    OK    WARNINGS  UNNEEDED, same version is already published
kjohnson3macOS 13.7.7 Ventura / arm64  OK    OK    WARNINGS    OK  UNNEEDED, same version is already published
Package 29/32HostnameOS / ArchINSTALLBUILDCHECKBUILD BIN
sva 3.58.0  (landing page)
Jeffrey T. Leek , John D. Storey
git_last_commit: 32d0f19
git_last_commit_date: 2025-10-29 10:09:21 -0500
nebbiolo2Linux (Ubuntu 24.04.3 LTS) / x86_64  OK    OK    OK  UNNEEDED, same version is already published
kjohnson3macOS 13.7.7 Ventura / arm64  OK    OK    OK    OK  UNNEEDED, same version is already published
Package 30/32HostnameOS / ArchINSTALLBUILDCHECKBUILD BIN
tilingArray 1.88.0  (landing page)
Zhenyu Xu
git_last_commit: 14b8616
git_last_commit_date: 2025-10-29 09:56:07 -0500
nebbiolo2Linux (Ubuntu 24.04.3 LTS) / x86_64  OK    OK    OK  UNNEEDED, same version is already published
kjohnson3macOS 13.7.7 Ventura / arm64  OK    OK    OK    OK  UNNEEDED, same version is already published
Package 31/32HostnameOS / ArchINSTALLBUILDCHECKBUILD BIN
XDE 2.56.0  (landing page)
Robert Scharpf
git_last_commit: 76ff15d
git_last_commit_date: 2025-10-29 10:00:04 -0500
nebbiolo2Linux (Ubuntu 24.04.3 LTS) / x86_64  OK    OK    WARNINGS  UNNEEDED, same version is already published
kjohnson3macOS 13.7.7 Ventura / arm64  OK    OK    WARNINGS    OK  UNNEEDED, same version is already published
Package 32/32HostnameOS / ArchINSTALLBUILDCHECKBUILD BIN
zinbwave 1.32.0  (landing page)
Davide Risso
git_last_commit: cfc6ec2
git_last_commit_date: 2025-10-29 10:39:04 -0500
nebbiolo2Linux (Ubuntu 24.04.3 LTS) / x86_64  OK    OK    OK  UNNEEDED, same version is already published
kjohnson3macOS 13.7.7 Ventura / arm64  OK    OK    OK    OK  UNNEEDED, same version is already published