| Back to Multiple platform build/check report for BioC 3.21: simplified long |
|
This page was generated on 2025-10-16 11:37 -0400 (Thu, 16 Oct 2025).
| Hostname | OS | Arch (*) | R version | Installed pkgs |
|---|---|---|---|---|
| nebbiolo1 | Linux (Ubuntu 24.04.3 LTS) | x86_64 | 4.5.1 (2025-06-13) -- "Great Square Root" | 4833 |
| merida1 | macOS 12.7.6 Monterey | x86_64 | 4.5.1 RC (2025-06-05 r88288) -- "Great Square Root" | 4614 |
| kjohnson1 | macOS 13.7.5 Ventura | arm64 | 4.5.1 Patched (2025-06-14 r88325) -- "Great Square Root" | 4555 |
| kunpeng2 | Linux (openEuler 24.03 LTS) | aarch64 | R Under development (unstable) (2025-02-19 r87757) -- "Unsuffered Consequences" | 4586 |
| Click on any hostname to see more info about the system (e.g. compilers) (*) as reported by 'uname -p', except on Windows and Mac OS X | ||||
| Package 400/2341 | Hostname | OS / Arch | INSTALL | BUILD | CHECK | BUILD BIN | ||||||||
| CNTools 1.64.0 (landing page) J. Zhang
| nebbiolo1 | Linux (Ubuntu 24.04.3 LTS) / x86_64 | OK | OK | OK | |||||||||
| merida1 | macOS 12.7.6 Monterey / x86_64 | OK | OK | OK | OK | |||||||||
| kjohnson1 | macOS 13.7.5 Ventura / arm64 | OK | OK | OK | OK | |||||||||
| kunpeng2 | Linux (openEuler 24.03 LTS) / aarch64 | OK | OK | OK | ||||||||||
|
To the developers/maintainers of the CNTools package: - Allow up to 24 hours (and sometimes 48 hours) for your latest push to git@git.bioconductor.org:packages/CNTools.git to reflect on this report. See Troubleshooting Build Report for more information. - Use the following Renviron settings to reproduce errors and warnings. - If 'R CMD check' started to fail recently on the Linux builder(s) over a missing dependency, add the missing dependency to 'Suggests:' in your DESCRIPTION file. See Renviron.bioc for more information. |
| Package: CNTools |
| Version: 1.64.0 |
| Command: /home/biocbuild/bbs-3.21-bioc/R/bin/R CMD check --install=check:CNTools.install-out.txt --library=/home/biocbuild/bbs-3.21-bioc/R/site-library --timings CNTools_1.64.0.tar.gz |
| StartedAt: 2025-10-15 21:53:19 -0400 (Wed, 15 Oct 2025) |
| EndedAt: 2025-10-15 21:55:28 -0400 (Wed, 15 Oct 2025) |
| EllapsedTime: 129.2 seconds |
| RetCode: 0 |
| Status: OK |
| CheckDir: CNTools.Rcheck |
| Warnings: 0 |
##############################################################################
##############################################################################
###
### Running command:
###
### /home/biocbuild/bbs-3.21-bioc/R/bin/R CMD check --install=check:CNTools.install-out.txt --library=/home/biocbuild/bbs-3.21-bioc/R/site-library --timings CNTools_1.64.0.tar.gz
###
##############################################################################
##############################################################################
* using log directory ‘/home/biocbuild/bbs-3.21-bioc/meat/CNTools.Rcheck’
* using R version 4.5.1 (2025-06-13)
* using platform: x86_64-pc-linux-gnu
* R was compiled by
gcc (Ubuntu 13.3.0-6ubuntu2~24.04) 13.3.0
GNU Fortran (Ubuntu 13.3.0-6ubuntu2~24.04) 13.3.0
* running under: Ubuntu 24.04.3 LTS
* using session charset: UTF-8
* checking for file ‘CNTools/DESCRIPTION’ ... OK
* this is package ‘CNTools’ version ‘1.64.0’
* checking package namespace information ... OK
* checking package dependencies ... OK
* checking if this is a source package ... OK
* checking if there is a namespace ... OK
* checking for hidden files and directories ... OK
* checking for portable file names ... OK
* checking for sufficient/correct file permissions ... OK
* checking whether package ‘CNTools’ can be installed ... OK
* used C compiler: ‘gcc (Ubuntu 13.3.0-6ubuntu2~24.04) 13.3.0’
* checking installed package size ... OK
* checking package directory ... OK
* checking ‘build’ directory ... OK
* checking DESCRIPTION meta-information ... NOTE
Malformed Title field: should not end in a period.
Malformed Description field: should contain one or more complete sentences.
* checking top-level files ... OK
* checking for left-over files ... OK
* checking index information ... OK
* checking package subdirectories ... OK
* checking code files for non-ASCII characters ... OK
* checking R files for syntax errors ... OK
* checking whether the package can be loaded ... OK
* checking whether the package can be loaded with stated dependencies ... OK
* checking whether the package can be unloaded cleanly ... OK
* checking whether the namespace can be loaded with stated dependencies ... OK
* checking whether the namespace can be unloaded cleanly ... OK
* checking loading without being on the library search path ... OK
* checking whether startup messages can be suppressed ... OK
* checking dependencies in R code ... NOTE
'library' or 'require' calls to packages already attached by Depends:
‘methods’ ‘tools’
Please remove these calls from your code.
Packages in Depends field not imported from:
‘methods’ ‘tools’
These packages need to be imported from (in the NAMESPACE file)
for when this namespace is loaded but not attached.
':::' call which should be '::': ‘genefilter:::genefilter’
See the note in ?`:::` about the use of this operator.
There are ::: calls to the package's namespace in its code. A package
almost never needs to use ::: for its own objects:
‘getCommonSegValues’
* checking S3 generic/method consistency ... OK
* checking replacement functions ... OK
* checking foreign function calls ... OK
* checking R code for possible problems ... NOTE
File ‘CNTools/R/zzz.R’:
.onLoad calls:
require("methods", quietly = TRUE)
require("tools", quietly = TRUE)
Package startup functions should not change the search path.
See section ‘Good practice’ in '?.onAttach'.
filterByMad: no visible binding for global variable ‘mad’
filterByMad: no visible global function definition for ‘quantile’
getPairCor : pair2Cor: no visible global function definition for ‘cor’
getPairDist : pair2Dist: no visible global function definition for
‘dist’
getPairDist: no visible global function definition for ‘as.dist’
getCor,RS: no visible global function definition for ‘cor’
getDist,RS: no visible global function definition for ‘dist’
Undefined global functions or variables:
as.dist cor dist mad quantile
Consider adding
importFrom("stats", "as.dist", "cor", "dist", "mad", "quantile")
to your NAMESPACE file.
* checking Rd files ... OK
* checking Rd metadata ... OK
* checking Rd cross-references ... OK
* checking for missing documentation entries ... OK
* checking for code/documentation mismatches ... OK
* checking Rd \usage sections ... OK
* checking Rd contents ... OK
* checking for unstated dependencies in examples ... OK
* checking contents of ‘data’ directory ... OK
* checking data for non-ASCII characters ... OK
* checking data for ASCII and uncompressed saves ... OK
* checking line endings in C/C++/Fortran sources/headers ... OK
* checking compiled code ... NOTE
Note: information on .o files is not available
* checking files in ‘vignettes’ ... OK
* checking examples ... OK
* checking for unstated dependencies in vignettes ... OK
* checking package vignettes ... OK
* checking re-building of vignette outputs ... OK
* checking PDF version of manual ... OK
* DONE
Status: 4 NOTEs
See
‘/home/biocbuild/bbs-3.21-bioc/meat/CNTools.Rcheck/00check.log’
for details.
CNTools.Rcheck/00install.out
############################################################################## ############################################################################## ### ### Running command: ### ### /home/biocbuild/bbs-3.21-bioc/R/bin/R CMD INSTALL CNTools ### ############################################################################## ############################################################################## * installing to library ‘/home/biocbuild/bbs-3.21-bioc/R/site-library’ * installing *source* package ‘CNTools’ ... ** this is package ‘CNTools’ version ‘1.64.0’ ** using staged installation ** libs using C compiler: ‘gcc (Ubuntu 13.3.0-6ubuntu2~24.04) 13.3.0’ gcc -std=gnu2x -I"/home/biocbuild/bbs-3.21-bioc/R/include" -DNDEBUG -I/usr/local/include -fpic -g -O2 -Wall -Werror=format-security -c getratios.c -o getratios.o gcc -std=gnu2x -shared -L/home/biocbuild/bbs-3.21-bioc/R/lib -L/usr/local/lib -o CNTools.so getratios.o -L/home/biocbuild/bbs-3.21-bioc/R/lib -lR installing to /home/biocbuild/bbs-3.21-bioc/R/site-library/00LOCK-CNTools/00new/CNTools/libs ** R ** data ** byte-compile and prepare package for lazy loading Creating a new generic function for ‘start’ in package ‘CNTools’ Creating a new generic function for ‘end’ in package ‘CNTools’ Creating a generic function for ‘genefilter’ from package ‘genefilter’ in package ‘CNTools’ ** help *** installing help indices ** building package indices ** installing vignettes ** testing if installed package can be loaded from temporary location ** checking absolute paths in shared objects and dynamic libraries ** testing if installed package can be loaded from final location ** testing if installed package keeps a record of temporary installation path * DONE (CNTools)
CNTools.Rcheck/CNTools-Ex.timings
| name | user | system | elapsed | |
| CNSeg-class | 0.719 | 0.040 | 0.760 | |
| RS-class | 0.799 | 0.040 | 0.839 | |