| Back to Multiple platform build/check report for BioC 3.21: simplified long |
|
This page was generated on 2025-10-16 11:39 -0400 (Thu, 16 Oct 2025).
| Hostname | OS | Arch (*) | R version | Installed pkgs |
|---|---|---|---|---|
| nebbiolo1 | Linux (Ubuntu 24.04.3 LTS) | x86_64 | 4.5.1 (2025-06-13) -- "Great Square Root" | 4833 |
| merida1 | macOS 12.7.6 Monterey | x86_64 | 4.5.1 RC (2025-06-05 r88288) -- "Great Square Root" | 4614 |
| kjohnson1 | macOS 13.7.5 Ventura | arm64 | 4.5.1 Patched (2025-06-14 r88325) -- "Great Square Root" | 4555 |
| kunpeng2 | Linux (openEuler 24.03 LTS) | aarch64 | R Under development (unstable) (2025-02-19 r87757) -- "Unsuffered Consequences" | 4586 |
| Click on any hostname to see more info about the system (e.g. compilers) (*) as reported by 'uname -p', except on Windows and Mac OS X | ||||
| Package 802/2341 | Hostname | OS / Arch | INSTALL | BUILD | CHECK | BUILD BIN | ||||||||
| gemma.R 3.4.6 (landing page) Ogan Mancarci
| nebbiolo1 | Linux (Ubuntu 24.04.3 LTS) / x86_64 | OK | OK | ERROR | |||||||||
| merida1 | macOS 12.7.6 Monterey / x86_64 | OK | OK | ERROR | OK | |||||||||
| kjohnson1 | macOS 13.7.5 Ventura / arm64 | OK | OK | ERROR | OK | |||||||||
| kunpeng2 | Linux (openEuler 24.03 LTS) / aarch64 | OK | OK | ERROR | ||||||||||
|
To the developers/maintainers of the gemma.R package: - Allow up to 24 hours (and sometimes 48 hours) for your latest push to git@git.bioconductor.org:packages/gemma.R.git to reflect on this report. See Troubleshooting Build Report for more information. - Use the following Renviron settings to reproduce errors and warnings. - If 'R CMD check' started to fail recently on the Linux builder(s) over a missing dependency, add the missing dependency to 'Suggests:' in your DESCRIPTION file. See Renviron.bioc for more information. |
| Package: gemma.R |
| Version: 3.4.6 |
| Command: /Library/Frameworks/R.framework/Resources/bin/R CMD check --install=check:gemma.R.install-out.txt --library=/Library/Frameworks/R.framework/Resources/library --no-vignettes --timings gemma.R_3.4.6.tar.gz |
| StartedAt: 2025-10-14 04:09:34 -0400 (Tue, 14 Oct 2025) |
| EndedAt: 2025-10-14 04:19:49 -0400 (Tue, 14 Oct 2025) |
| EllapsedTime: 614.4 seconds |
| RetCode: 1 |
| Status: ERROR |
| CheckDir: gemma.R.Rcheck |
| Warnings: NA |
##############################################################################
##############################################################################
###
### Running command:
###
### /Library/Frameworks/R.framework/Resources/bin/R CMD check --install=check:gemma.R.install-out.txt --library=/Library/Frameworks/R.framework/Resources/library --no-vignettes --timings gemma.R_3.4.6.tar.gz
###
##############################################################################
##############################################################################
* using log directory ‘/Users/biocbuild/bbs-3.21-bioc/meat/gemma.R.Rcheck’
* using R version 4.5.1 RC (2025-06-05 r88288)
* using platform: x86_64-apple-darwin20
* R was compiled by
Apple clang version 14.0.0 (clang-1400.0.29.202)
GNU Fortran (GCC) 14.2.0
* running under: macOS Monterey 12.7.6
* using session charset: UTF-8
* using option ‘--no-vignettes’
* checking for file ‘gemma.R/DESCRIPTION’ ... OK
* this is package ‘gemma.R’ version ‘3.4.6’
* package encoding: UTF-8
* checking package namespace information ... OK
* checking package dependencies ... INFO
Imports includes 21 non-default packages.
Importing from so many packages makes the package vulnerable to any of
them becoming unavailable. Move as many as possible to Suggests and
use conditionally.
* checking if this is a source package ... OK
* checking if there is a namespace ... OK
* checking for hidden files and directories ... OK
* checking for portable file names ... OK
* checking for sufficient/correct file permissions ... OK
* checking whether package ‘gemma.R’ can be installed ... OK
* checking installed package size ... OK
* checking package directory ... OK
* checking ‘build’ directory ... OK
* checking DESCRIPTION meta-information ... OK
* checking top-level files ... OK
* checking for left-over files ... OK
* checking index information ... OK
* checking package subdirectories ... OK
* checking code files for non-ASCII characters ... OK
* checking R files for syntax errors ... OK
* checking whether the package can be loaded ... OK
* checking whether the package can be loaded with stated dependencies ... OK
* checking whether the package can be unloaded cleanly ... OK
* checking whether the namespace can be loaded with stated dependencies ... OK
* checking whether the namespace can be unloaded cleanly ... OK
* checking dependencies in R code ... OK
* checking S3 generic/method consistency ... OK
* checking replacement functions ... OK
* checking foreign function calls ... OK
* checking R code for possible problems ... OK
* checking Rd files ... OK
* checking Rd metadata ... OK
* checking Rd cross-references ... OK
* checking for missing documentation entries ... OK
* checking for code/documentation mismatches ... OK
* checking Rd \usage sections ... OK
* checking Rd contents ... OK
* checking for unstated dependencies in examples ... OK
* checking files in ‘vignettes’ ... OK
* checking examples ... OK
Examples with CPU (user + system) or elapsed time > 5s
user system elapsed
get_dataset_object 15.315 0.665 19.716
get_gene_differential_expression_values 2.764 0.207 8.865
dot-get_gene_differential_expression_values 2.844 0.033 10.081
dot-get_dataset_expression_for_genes 2.057 0.123 9.600
get_dataset_differential_expression_analyses 0.804 0.098 5.402
get_datasets 0.327 0.052 5.598
* checking for unstated dependencies in ‘tests’ ... OK
* checking tests ...
Running ‘testthat.R’
ERROR
Running the tests in ‘tests/testthat.R’ failed.
Last 13 lines of output:
══ Skipped tests (4) ═══════════════════════════════════════════════════════════
• On Bioconductor (4): 'testCaches.R:37:3', 'testConvenience.R:15:5',
'testConvenience.R:37:5', 'testDatasetEndpoints.R:88:5'
══ Failed tests ════════════════════════════════════════════════════════════════
── Failure ('testCompression.R:21:5'): Compressed inputs work ──────────────────
all(uncompressed$value.URI %in% compressed$value.URI) is not TRUE
`actual`: FALSE
`expected`: TRUE
[ FAIL 1 | WARN 0 | SKIP 4 | PASS 197 ]
Error: Test failures
Execution halted
* checking for unstated dependencies in vignettes ... OK
* checking package vignettes ... OK
* checking running R code from vignettes ... SKIPPED
* checking re-building of vignette outputs ... SKIPPED
* checking PDF version of manual ... OK
* DONE
Status: 1 ERROR
See
‘/Users/biocbuild/bbs-3.21-bioc/meat/gemma.R.Rcheck/00check.log’
for details.
gemma.R.Rcheck/00install.out
############################################################################## ############################################################################## ### ### Running command: ### ### /Library/Frameworks/R.framework/Resources/bin/R CMD INSTALL gemma.R ### ############################################################################## ############################################################################## * installing to library ‘/Library/Frameworks/R.framework/Versions/4.5-x86_64/Resources/library’ * installing *source* package ‘gemma.R’ ... ** this is package ‘gemma.R’ version ‘3.4.6’ ** using staged installation ** R ** inst ** byte-compile and prepare package for lazy loading ** help *** installing help indices *** copying figures ** building package indices ** installing vignettes ** testing if installed package can be loaded from temporary location ** testing if installed package can be loaded from final location ** testing if installed package keeps a record of temporary installation path * DONE (gemma.R)
gemma.R.Rcheck/tests/testthat.Rout.fail
R version 4.5.1 RC (2025-06-05 r88288) -- "Great Square Root"
Copyright (C) 2025 The R Foundation for Statistical Computing
Platform: x86_64-apple-darwin20
R is free software and comes with ABSOLUTELY NO WARRANTY.
You are welcome to redistribute it under certain conditions.
Type 'license()' or 'licence()' for distribution details.
R is a collaborative project with many contributors.
Type 'contributors()' for more information and
'citation()' on how to cite R or R packages in publications.
Type 'demo()' for some demos, 'help()' for on-line help, or
'help.start()' for an HTML browser interface to help.
Type 'q()' to quit R.
> library(testthat)
> library(dplyr)
Attaching package: 'dplyr'
The following object is masked from 'package:testthat':
matches
The following objects are masked from 'package:stats':
filter, lag
The following objects are masked from 'package:base':
intersect, setdiff, setequal, union
>
> # Prevent certificate issues for GitHub actions
> options(gemma.SSL = FALSE)
> # get gemma api path if it's set in the environment
> gemma.R:::setGemmaPath('prod')
[1] "https://gemma.msl.ubc.ca/rest/v2/"
> print(gemma.R:::gemmaPath())
[1] "https://gemma.msl.ubc.ca/rest/v2/"
> test_check("gemma.R")
Loading required package: gemma.R
[ FAIL 1 | WARN 0 | SKIP 4 | PASS 197 ]
══ Skipped tests (4) ═══════════════════════════════════════════════════════════
• On Bioconductor (4): 'testCaches.R:37:3', 'testConvenience.R:15:5',
'testConvenience.R:37:5', 'testDatasetEndpoints.R:88:5'
══ Failed tests ════════════════════════════════════════════════════════════════
── Failure ('testCompression.R:21:5'): Compressed inputs work ──────────────────
all(uncompressed$value.URI %in% compressed$value.URI) is not TRUE
`actual`: FALSE
`expected`: TRUE
[ FAIL 1 | WARN 0 | SKIP 4 | PASS 197 ]
Error: Test failures
Execution halted
gemma.R.Rcheck/gemma.R-Ex.timings
| name | user | system | elapsed | |
| dot-getResultSets | 0 | 0 | 0 | |
| dot-get_dataset_expression_for_genes | 2.057 | 0.123 | 9.600 | |
| dot-get_gene_differential_expression_values | 2.844 | 0.033 | 10.081 | |
| filter_properties | 0.061 | 0.008 | 0.079 | |
| forget_gemma_memoised | 0.032 | 0.113 | 0.222 | |
| gemma_call | 0.013 | 0.017 | 0.106 | |
| get_annotation_children | 0.017 | 0.002 | 0.088 | |
| get_annotation_parents | 0.020 | 0.003 | 0.093 | |
| get_child_terms | 0.047 | 0.002 | 0.141 | |
| get_dataset_annotations | 0.016 | 0.001 | 0.096 | |
| get_dataset_differential_expression_analyses | 0.804 | 0.098 | 5.402 | |
| get_dataset_expression | 1.232 | 0.209 | 3.344 | |
| get_dataset_expression_for_genes | 0.512 | 0.021 | 1.029 | |
| get_dataset_object | 15.315 | 0.665 | 19.716 | |
| get_dataset_platforms | 0.027 | 0.002 | 0.298 | |
| get_dataset_processed_expression | 1.607 | 0.189 | 4.640 | |
| get_dataset_quantitation_types | 0.021 | 0.004 | 0.237 | |
| get_dataset_raw_expression | 0.857 | 0.130 | 2.601 | |
| get_dataset_samples | 1.171 | 0.032 | 1.640 | |
| get_datasets | 0.327 | 0.052 | 5.598 | |
| get_datasets_by_ids | 0.090 | 0.005 | 0.288 | |
| get_differential_expression_values | 0.304 | 0.064 | 3.431 | |
| get_gene_differential_expression_values | 2.764 | 0.207 | 8.865 | |
| get_gene_go_terms | 0.079 | 0.004 | 0.438 | |
| get_gene_locations | 0.040 | 0.003 | 0.284 | |
| get_gene_probes | 0.052 | 0.009 | 0.314 | |
| get_genes | 0.048 | 0.004 | 0.262 | |
| get_platform_annotations | 0.776 | 0.102 | 2.591 | |
| get_platform_datasets | 0.072 | 0.006 | 0.450 | |
| get_platform_element_genes | 0.022 | 0.002 | 0.139 | |
| get_platforms_by_ids | 0.052 | 0.003 | 0.270 | |
| get_result_sets | 0.083 | 0.005 | 0.293 | |
| get_taxa | 0.019 | 0.002 | 0.108 | |
| get_taxa_by_ids | 0.017 | 0.002 | 0.110 | |
| get_taxon_datasets | 0.082 | 0.013 | 0.428 | |
| make_design | 1.406 | 0.030 | 1.945 | |
| search_annotations | 0.022 | 0.004 | 0.116 | |
| search_datasets | 0.076 | 0.011 | 0.507 | |
| search_gemma | 0.208 | 0.046 | 0.766 | |
| update_result | 1.064 | 0.030 | 4.497 | |