Back to Multiple platform build/check report for BioC 3.22:   simplified   long
ABCDEF[G]HIJKLMNOPQRSTUVWXYZ

This page was generated on 2025-10-31 12:04 -0400 (Fri, 31 Oct 2025).

HostnameOSArch (*)R versionInstalled pkgs
nebbiolo2Linux (Ubuntu 24.04.3 LTS)x86_644.5.1 Patched (2025-08-23 r88802) -- "Great Square Root" 4901
lconwaymacOS 12.7.6 Montereyx86_644.5.1 Patched (2025-09-10 r88807) -- "Great Square Root" 4691
kjohnson3macOS 13.7.7 Venturaarm644.5.1 Patched (2025-09-10 r88807) -- "Great Square Root" 4637
Click on any hostname to see more info about the system (e.g. compilers)      (*) as reported by 'uname -p', except on Windows and Mac OS X

Package 812/2361HostnameOS / ArchINSTALLBUILDCHECKBUILD BIN
gemma.R 3.6.0  (landing page)
Ogan Mancarci
Snapshot Date: 2025-10-30 13:45 -0400 (Thu, 30 Oct 2025)
git_url: https://git.bioconductor.org/packages/gemma.R
git_branch: RELEASE_3_22
git_last_commit: 11548e5
git_last_commit_date: 2025-10-29 11:18:54 -0400 (Wed, 29 Oct 2025)
nebbiolo2Linux (Ubuntu 24.04.3 LTS) / x86_64  OK    OK    OK  UNNEEDED, same version is already published
lconwaymacOS 12.7.6 Monterey / x86_64  OK    OK    OK    OK  UNNEEDED, same version is already published
kjohnson3macOS 13.7.7 Ventura / arm64  OK    OK    OK    OK  UNNEEDED, same version is already published


CHECK results for gemma.R on lconway

To the developers/maintainers of the gemma.R package:
- Allow up to 24 hours (and sometimes 48 hours) for your latest push to git@git.bioconductor.org:packages/gemma.R.git to reflect on this report. See Troubleshooting Build Report for more information.
- Use the following Renviron settings to reproduce errors and warnings.
- If 'R CMD check' started to fail recently on the Linux builder(s) over a missing dependency, add the missing dependency to 'Suggests:' in your DESCRIPTION file. See Renviron.bioc for more information.

raw results


Summary

Package: gemma.R
Version: 3.6.0
Command: /Library/Frameworks/R.framework/Resources/bin/R CMD check --install=check:gemma.R.install-out.txt --library=/Library/Frameworks/R.framework/Resources/library --no-vignettes --timings gemma.R_3.6.0.tar.gz
StartedAt: 2025-10-30 21:12:24 -0400 (Thu, 30 Oct 2025)
EndedAt: 2025-10-30 21:20:16 -0400 (Thu, 30 Oct 2025)
EllapsedTime: 471.8 seconds
RetCode: 0
Status:   OK  
CheckDir: gemma.R.Rcheck
Warnings: 0

Command output

##############################################################################
##############################################################################
###
### Running command:
###
###   /Library/Frameworks/R.framework/Resources/bin/R CMD check --install=check:gemma.R.install-out.txt --library=/Library/Frameworks/R.framework/Resources/library --no-vignettes --timings gemma.R_3.6.0.tar.gz
###
##############################################################################
##############################################################################


* using log directory ‘/Users/biocbuild/bbs-3.22-bioc/meat/gemma.R.Rcheck’
* using R version 4.5.1 Patched (2025-09-10 r88807)
* using platform: x86_64-apple-darwin20
* R was compiled by
    Apple clang version 14.0.0 (clang-1400.0.29.202)
    GNU Fortran (GCC) 14.2.0
* running under: macOS Monterey 12.7.6
* using session charset: UTF-8
* using option ‘--no-vignettes’
* checking for file ‘gemma.R/DESCRIPTION’ ... OK
* this is package ‘gemma.R’ version ‘3.6.0’
* package encoding: UTF-8
* checking package namespace information ... OK
* checking package dependencies ... INFO
Imports includes 21 non-default packages.
Importing from so many packages makes the package vulnerable to any of
them becoming unavailable.  Move as many as possible to Suggests and
use conditionally.
* checking if this is a source package ... OK
* checking if there is a namespace ... OK
* checking for hidden files and directories ... OK
* checking for portable file names ... OK
* checking for sufficient/correct file permissions ... OK
* checking whether package ‘gemma.R’ can be installed ... OK
* checking installed package size ... OK
* checking package directory ... OK
* checking ‘build’ directory ... OK
* checking DESCRIPTION meta-information ... OK
* checking top-level files ... OK
* checking for left-over files ... OK
* checking index information ... OK
* checking package subdirectories ... OK
* checking code files for non-ASCII characters ... OK
* checking R files for syntax errors ... OK
* checking whether the package can be loaded ... OK
* checking whether the package can be loaded with stated dependencies ... OK
* checking whether the package can be unloaded cleanly ... OK
* checking whether the namespace can be loaded with stated dependencies ... OK
* checking whether the namespace can be unloaded cleanly ... OK
* checking dependencies in R code ... OK
* checking S3 generic/method consistency ... OK
* checking replacement functions ... OK
* checking foreign function calls ... OK
* checking R code for possible problems ... OK
* checking Rd files ... OK
* checking Rd metadata ... OK
* checking Rd cross-references ... OK
* checking for missing documentation entries ... OK
* checking for code/documentation mismatches ... OK
* checking Rd \usage sections ... OK
* checking Rd contents ... OK
* checking for unstated dependencies in examples ... OK
* checking files in ‘vignettes’ ... OK
* checking examples ... OK
Examples with CPU (user + system) or elapsed time > 5s
                                              user system elapsed
get_dataset_object                           7.964  0.351  10.950
get_gene_differential_expression_values      1.863  0.079   8.796
dot-get_gene_differential_expression_values  1.481  0.014   9.088
get_dataset_processed_expression             1.222  0.103   5.058
get_dataset_differential_expression_analyses 0.540  0.065   5.378
get_datasets                                 0.213  0.024   7.909
* checking for unstated dependencies in ‘tests’ ... OK
* checking tests ...
  Running ‘testthat.R’
 OK
* checking for unstated dependencies in vignettes ... OK
* checking package vignettes ... OK
* checking running R code from vignettes ... SKIPPED
* checking re-building of vignette outputs ... SKIPPED
* checking PDF version of manual ... OK
* DONE

Status: OK


Installation output

gemma.R.Rcheck/00install.out

##############################################################################
##############################################################################
###
### Running command:
###
###   /Library/Frameworks/R.framework/Resources/bin/R CMD INSTALL gemma.R
###
##############################################################################
##############################################################################


* installing to library ‘/Library/Frameworks/R.framework/Versions/4.5-x86_64/Resources/library’
* installing *source* package ‘gemma.R’ ...
** this is package ‘gemma.R’ version ‘3.6.0’
** using staged installation
** R
** inst
** byte-compile and prepare package for lazy loading
** help
*** installing help indices
*** copying figures
** building package indices
** installing vignettes
** testing if installed package can be loaded from temporary location
** testing if installed package can be loaded from final location
** testing if installed package keeps a record of temporary installation path
* DONE (gemma.R)

Tests output

gemma.R.Rcheck/tests/testthat.Rout


R version 4.5.1 Patched (2025-09-10 r88807) -- "Great Square Root"
Copyright (C) 2025 The R Foundation for Statistical Computing
Platform: x86_64-apple-darwin20

R is free software and comes with ABSOLUTELY NO WARRANTY.
You are welcome to redistribute it under certain conditions.
Type 'license()' or 'licence()' for distribution details.

R is a collaborative project with many contributors.
Type 'contributors()' for more information and
'citation()' on how to cite R or R packages in publications.

Type 'demo()' for some demos, 'help()' for on-line help, or
'help.start()' for an HTML browser interface to help.
Type 'q()' to quit R.

> library(testthat)
> library(dplyr)

Attaching package: 'dplyr'

The following object is masked from 'package:testthat':

    matches

The following objects are masked from 'package:stats':

    filter, lag

The following objects are masked from 'package:base':

    intersect, setdiff, setequal, union

> 
> # Prevent certificate issues for GitHub actions
> options(gemma.SSL = FALSE)
> # get gemma api path if it's set in the environment
> gemma.R:::setGemmaPath('prod')
[1] "https://gemma.msl.ubc.ca/rest/v2/"
> print(gemma.R:::gemmaPath())
[1] "https://gemma.msl.ubc.ca/rest/v2/"
> test_check("gemma.R")
Loading required package: gemma.R
[ FAIL 0 | WARN 0 | SKIP 5 | PASS 192 ]

══ Skipped tests (5) ═══════════════════════════════════════════════════════════
• On Bioconductor (4): 'testCaches.R:37:3', 'testConvenience.R:15:5',
  'testConvenience.R:37:5', 'testDatasetEndpoints.R:88:5'
• empty test (1): 'testConvenience.R:1:1'

[ FAIL 0 | WARN 0 | SKIP 5 | PASS 192 ]
> 
> 
> 
> proc.time()
   user  system elapsed 
116.558   7.221 342.652 

Example timings

gemma.R.Rcheck/gemma.R-Ex.timings

nameusersystemelapsed
dot-getResultSets000
dot-get_dataset_expression_for_genes1.0810.0722.888
dot-get_gene_differential_expression_values1.4810.0149.088
filter_properties0.0260.0030.032
forget_gemma_memoised0.0150.0470.219
gemma_call0.0060.0060.097
get_annotation_children0.0190.0010.096
get_annotation_parents0.0110.0010.088
get_child_terms0.0220.0010.126
get_dataset_annotations0.0100.0010.097
get_dataset_differential_expression_analyses0.5400.0655.378
get_dataset_expression0.8300.1173.370
get_dataset_expression_for_genes0.2550.0090.870
get_dataset_object 7.964 0.35110.950
get_dataset_platforms0.0150.0020.412
get_dataset_processed_expression1.2220.1035.058
get_dataset_publications0.0100.0000.091
get_dataset_quantitation_types0.0090.0010.299
get_dataset_raw_expression1.0030.0672.929
get_dataset_samples0.2140.0210.646
get_datasets0.2130.0247.909
get_datasets_by_ids0.0470.0030.224
get_differential_expression_values0.2660.0443.631
get_gene_differential_expression_values1.8630.0798.796
get_gene_go_terms0.0360.0030.347
get_gene_locations0.0220.0020.233
get_gene_probes0.0280.0040.215
get_genes0.0280.0010.221
get_platform_annotations0.5360.0593.037
get_platform_datasets0.0390.0040.535
get_platform_element_genes0.0130.0010.121
get_platforms_by_ids0.0260.0020.227
get_result_sets0.0440.0040.226
get_taxa0.0100.0020.089
get_taxa_by_ids0.0090.0010.088
get_taxon_datasets0.0460.0090.391
make_design0.6310.0241.128
search_annotations0.0110.0020.091
search_datasets0.0370.0040.430
search_gemma0.1070.0170.778
update_result0.5520.0293.901