| Back to Multiple platform build/check report for BioC 3.21: simplified long |
|
This page was generated on 2025-10-16 11:41 -0400 (Thu, 16 Oct 2025).
| Hostname | OS | Arch (*) | R version | Installed pkgs |
|---|---|---|---|---|
| nebbiolo1 | Linux (Ubuntu 24.04.3 LTS) | x86_64 | 4.5.1 (2025-06-13) -- "Great Square Root" | 4833 |
| merida1 | macOS 12.7.6 Monterey | x86_64 | 4.5.1 RC (2025-06-05 r88288) -- "Great Square Root" | 4614 |
| kjohnson1 | macOS 13.7.5 Ventura | arm64 | 4.5.1 Patched (2025-06-14 r88325) -- "Great Square Root" | 4555 |
| kunpeng2 | Linux (openEuler 24.03 LTS) | aarch64 | R Under development (unstable) (2025-02-19 r87757) -- "Unsuffered Consequences" | 4586 |
| Click on any hostname to see more info about the system (e.g. compilers) (*) as reported by 'uname -p', except on Windows and Mac OS X | ||||
| Package 801/2341 | Hostname | OS / Arch | INSTALL | BUILD | CHECK | BUILD BIN | ||||||||
| gemini 1.22.0 (landing page) Sidharth Jain
| nebbiolo1 | Linux (Ubuntu 24.04.3 LTS) / x86_64 | OK | OK | OK | |||||||||
| merida1 | macOS 12.7.6 Monterey / x86_64 | OK | OK | OK | OK | |||||||||
| kjohnson1 | macOS 13.7.5 Ventura / arm64 | OK | OK | OK | OK | |||||||||
| kunpeng2 | Linux (openEuler 24.03 LTS) / aarch64 | OK | OK | OK | ||||||||||
|
To the developers/maintainers of the gemini package: - Allow up to 24 hours (and sometimes 48 hours) for your latest push to git@git.bioconductor.org:packages/gemini.git to reflect on this report. See Troubleshooting Build Report for more information. - Use the following Renviron settings to reproduce errors and warnings. - If 'R CMD check' started to fail recently on the Linux builder(s) over a missing dependency, add the missing dependency to 'Suggests:' in your DESCRIPTION file. See Renviron.bioc for more information. - See Martin Grigorov's blog post for how to debug Linux ARM64 related issues on a x86_64 host. |
| Package: gemini |
| Version: 1.22.0 |
| Command: /home/biocbuild/R/R/bin/R CMD check --install=check:gemini.install-out.txt --library=/home/biocbuild/R/R/site-library --no-vignettes --timings gemini_1.22.0.tar.gz |
| StartedAt: 2025-10-14 09:22:50 -0000 (Tue, 14 Oct 2025) |
| EndedAt: 2025-10-14 09:26:23 -0000 (Tue, 14 Oct 2025) |
| EllapsedTime: 213.1 seconds |
| RetCode: 0 |
| Status: OK |
| CheckDir: gemini.Rcheck |
| Warnings: 0 |
##############################################################################
##############################################################################
###
### Running command:
###
### /home/biocbuild/R/R/bin/R CMD check --install=check:gemini.install-out.txt --library=/home/biocbuild/R/R/site-library --no-vignettes --timings gemini_1.22.0.tar.gz
###
##############################################################################
##############################################################################
* using log directory ‘/home/biocbuild/bbs-3.21-bioc/meat/gemini.Rcheck’
* using R Under development (unstable) (2025-02-19 r87757)
* using platform: aarch64-unknown-linux-gnu
* R was compiled by
aarch64-unknown-linux-gnu-gcc (GCC) 14.2.0
GNU Fortran (GCC) 14.2.0
* running under: openEuler 24.03 (LTS-SP1)
* using session charset: UTF-8
* using option ‘--no-vignettes’
* checking for file ‘gemini/DESCRIPTION’ ... OK
* checking extension type ... Package
* this is package ‘gemini’ version ‘1.22.0’
* package encoding: UTF-8
* checking package namespace information ... OK
* checking package dependencies ... OK
* checking if this is a source package ... OK
* checking if there is a namespace ... OK
* checking for hidden files and directories ... OK
* checking for portable file names ... OK
* checking for sufficient/correct file permissions ... OK
* checking whether package ‘gemini’ can be installed ... OK
* checking installed package size ... OK
* checking package directory ... OK
* checking ‘build’ directory ... OK
* checking DESCRIPTION meta-information ... NOTE
License stub is invalid DCF.
* checking top-level files ... OK
* checking for left-over files ... OK
* checking index information ... OK
* checking package subdirectories ... OK
* checking code files for non-ASCII characters ... OK
* checking R files for syntax errors ... OK
* checking whether the package can be loaded ... OK
* checking whether the package can be loaded with stated dependencies ... OK
* checking whether the package can be unloaded cleanly ... OK
* checking whether the namespace can be loaded with stated dependencies ... OK
* checking whether the namespace can be unloaded cleanly ... OK
* checking loading without being on the library search path ... OK
* checking dependencies in R code ... OK
* checking S3 generic/method consistency ... OK
* checking replacement functions ... OK
* checking foreign function calls ... OK
* checking R code for possible problems ... NOTE
gemini_boxplot : <anonymous>: no visible binding for global variable
‘.’
gemini_boxplot: no visible binding for global variable ‘.’
gemini_boxplot : <anonymous>: no visible binding for global variable
‘gi’
gemini_boxplot : <anonymous>: no visible binding for global variable
‘hj’
gemini_boxplot: no visible binding for global variable ‘label’
gemini_boxplot: no visible binding for global variable ‘y’
gemini_calculate_lfc: no visible binding for global variable ‘.’
update_s_pb: no visible binding for global variable ‘.’
update_tau_pb: no visible binding for global variable ‘.’
Undefined global functions or variables:
. gi hj label y
* checking Rd files ... NOTE
checkRd: (-1) gemini_initialize.Rd:81-83: Lost braces
81 | \strong{Use of negative control}{
| ^
* checking Rd metadata ... OK
* checking Rd cross-references ... OK
* checking for missing documentation entries ... OK
* checking for code/documentation mismatches ... OK
* checking Rd \usage sections ... OK
* checking Rd contents ... OK
* checking for unstated dependencies in examples ... OK
* checking contents of ‘data’ directory ... OK
* checking data for non-ASCII characters ... OK
* checking data for ASCII and uncompressed saves ... OK
* checking files in ‘vignettes’ ... OK
* checking examples ... OK
Examples with CPU (user + system) or elapsed time > 5s
user system elapsed
gemini_inference 36.245 0.267 36.611
update_tau_pb 15.815 0.131 15.984
update_x_pb 14.081 0.108 14.221
gemini_initialize 6.450 0.084 6.548
* checking for unstated dependencies in ‘tests’ ... OK
* checking tests ...
Running ‘testthat.R’
OK
* checking for unstated dependencies in vignettes ... OK
* checking package vignettes ... OK
* checking running R code from vignettes ... SKIPPED
* checking re-building of vignette outputs ... SKIPPED
* checking PDF version of manual ... OK
* DONE
Status: 3 NOTEs
See
‘/home/biocbuild/bbs-3.21-bioc/meat/gemini.Rcheck/00check.log’
for details.
gemini.Rcheck/00install.out
############################################################################## ############################################################################## ### ### Running command: ### ### /home/biocbuild/R/R/bin/R CMD INSTALL gemini ### ############################################################################## ############################################################################## * installing to library ‘/home/biocbuild/R/R-devel_2025-02-19/site-library’ * installing *source* package ‘gemini’ ... ** this is package ‘gemini’ version ‘1.22.0’ ** using staged installation ** R ** data ** inst ** byte-compile and prepare package for lazy loading ** help *** installing help indices ** building package indices ** installing vignettes ** testing if installed package can be loaded from temporary location ** testing if installed package can be loaded from final location ** testing if installed package keeps a record of temporary installation path * DONE (gemini)
gemini.Rcheck/tests/testthat.Rout
R Under development (unstable) (2025-02-19 r87757) -- "Unsuffered Consequences"
Copyright (C) 2025 The R Foundation for Statistical Computing
Platform: aarch64-unknown-linux-gnu
R is free software and comes with ABSOLUTELY NO WARRANTY.
You are welcome to redistribute it under certain conditions.
Type 'license()' or 'licence()' for distribution details.
R is a collaborative project with many contributors.
Type 'contributors()' for more information and
'citation()' on how to cite R or R packages in publications.
Type 'demo()' for some demos, 'help()' for on-line help, or
'help.start()' for an HTML browser interface to help.
Type 'q()' to quit R.
> library(testthat)
> library(gemini)
>
> test_check("gemini")
[ FAIL 0 | WARN 3 | SKIP 0 | PASS 7 ]
[ FAIL 0 | WARN 3 | SKIP 0 | PASS 7 ]
>
> proc.time()
user system elapsed
8.842 0.325 9.177
gemini.Rcheck/gemini-Ex.timings
| name | user | system | elapsed | |
| Sgene2Pguides_hash | 0 | 0 | 0 | |
| Sguide2Pguides_hash | 0.000 | 0.000 | 0.001 | |
| compound | 0 | 0 | 0 | |
| dot-median_normalize | 0 | 0 | 0 | |
| gemini_boxplot | 3.094 | 0.068 | 3.169 | |
| gemini_calculate_lfc | 0.473 | 0.012 | 0.487 | |
| gemini_create_input | 0.365 | 0.000 | 0.366 | |
| gemini_inference | 36.245 | 0.267 | 36.611 | |
| gemini_initialize | 6.450 | 0.084 | 6.548 | |
| gemini_plot_mae | 0.980 | 0.008 | 0.990 | |
| gemini_prepare_input | 0.417 | 0.008 | 0.425 | |
| gemini_score | 0.851 | 0.020 | 0.872 | |
| initialize_s | 1.699 | 0.032 | 1.734 | |
| initialize_tau | 2.133 | 0.020 | 2.157 | |
| initialize_x | 3.897 | 0.072 | 3.977 | |
| initialize_y | 0.734 | 0.000 | 0.736 | |
| pipe | 0 | 0 | 0 | |
| update_mae | 1.295 | 0.036 | 1.335 | |
| update_s_pb | 2.868 | 0.008 | 2.882 | |
| update_tau_pb | 15.815 | 0.131 | 15.984 | |
| update_x_pb | 14.081 | 0.108 | 14.221 | |
| update_y_pb | 3.896 | 0.012 | 3.916 | |