Back to Multiple platform build/check report for BioC 3.22:   simplified   long
ABCDEF[G]HIJKLMNOPQRSTUVWXYZ

This page was generated on 2025-10-31 12:03 -0400 (Fri, 31 Oct 2025).

HostnameOSArch (*)R versionInstalled pkgs
nebbiolo2Linux (Ubuntu 24.04.3 LTS)x86_644.5.1 Patched (2025-08-23 r88802) -- "Great Square Root" 4901
lconwaymacOS 12.7.6 Montereyx86_644.5.1 Patched (2025-09-10 r88807) -- "Great Square Root" 4691
kjohnson3macOS 13.7.7 Venturaarm644.5.1 Patched (2025-09-10 r88807) -- "Great Square Root" 4637
Click on any hostname to see more info about the system (e.g. compilers)      (*) as reported by 'uname -p', except on Windows and Mac OS X

Package 803/2361HostnameOS / ArchINSTALLBUILDCHECKBUILD BIN
gDRcore 1.8.0  (landing page)
Arkadiusz Gladki
Snapshot Date: 2025-10-30 13:45 -0400 (Thu, 30 Oct 2025)
git_url: https://git.bioconductor.org/packages/gDRcore
git_branch: RELEASE_3_22
git_last_commit: 632e500
git_last_commit_date: 2025-10-29 11:24:07 -0400 (Wed, 29 Oct 2025)
nebbiolo2Linux (Ubuntu 24.04.3 LTS) / x86_64  OK    OK    OK  UNNEEDED, same version is already published
lconwaymacOS 12.7.6 Monterey / x86_64  OK    OK    OK    OK  UNNEEDED, same version is already published
kjohnson3macOS 13.7.7 Ventura / arm64  OK    OK    OK    OK  UNNEEDED, same version is already published


CHECK results for gDRcore on nebbiolo2

To the developers/maintainers of the gDRcore package:
- Allow up to 24 hours (and sometimes 48 hours) for your latest push to git@git.bioconductor.org:packages/gDRcore.git to reflect on this report. See Troubleshooting Build Report for more information.
- Use the following Renviron settings to reproduce errors and warnings.
- If 'R CMD check' started to fail recently on the Linux builder(s) over a missing dependency, add the missing dependency to 'Suggests:' in your DESCRIPTION file. See Renviron.bioc for more information.

raw results


Summary

Package: gDRcore
Version: 1.8.0
Command: /home/biocbuild/bbs-3.22-bioc/R/bin/R CMD check --install=check:gDRcore.install-out.txt --library=/home/biocbuild/bbs-3.22-bioc/R/site-library --timings gDRcore_1.8.0.tar.gz
StartedAt: 2025-10-30 23:45:06 -0400 (Thu, 30 Oct 2025)
EndedAt: 2025-10-30 23:50:48 -0400 (Thu, 30 Oct 2025)
EllapsedTime: 341.3 seconds
RetCode: 0
Status:   OK  
CheckDir: gDRcore.Rcheck
Warnings: 0

Command output

##############################################################################
##############################################################################
###
### Running command:
###
###   /home/biocbuild/bbs-3.22-bioc/R/bin/R CMD check --install=check:gDRcore.install-out.txt --library=/home/biocbuild/bbs-3.22-bioc/R/site-library --timings gDRcore_1.8.0.tar.gz
###
##############################################################################
##############################################################################


* using log directory ‘/home/biocbuild/bbs-3.22-bioc/meat/gDRcore.Rcheck’
* using R version 4.5.1 Patched (2025-08-23 r88802)
* using platform: x86_64-pc-linux-gnu
* R was compiled by
    gcc (Ubuntu 13.3.0-6ubuntu2~24.04) 13.3.0
    GNU Fortran (Ubuntu 13.3.0-6ubuntu2~24.04) 13.3.0
* running under: Ubuntu 24.04.3 LTS
* using session charset: UTF-8
* checking for file ‘gDRcore/DESCRIPTION’ ... OK
* checking extension type ... Package
* this is package ‘gDRcore’ version ‘1.8.0’
* package encoding: UTF-8
* checking package namespace information ... OK
* checking package dependencies ... OK
* checking if this is a source package ... OK
* checking if there is a namespace ... OK
* checking for hidden files and directories ... OK
* checking for portable file names ... OK
* checking for sufficient/correct file permissions ... OK
* checking whether package ‘gDRcore’ can be installed ... OK
* used C++ compiler: ‘g++ (Ubuntu 13.3.0-6ubuntu2~24.04) 13.3.0’
* checking installed package size ... OK
* checking package directory ... OK
* checking ‘build’ directory ... OK
* checking DESCRIPTION meta-information ... OK
* checking top-level files ... OK
* checking for left-over files ... OK
* checking index information ... OK
* checking package subdirectories ... OK
* checking code files for non-ASCII characters ... OK
* checking R files for syntax errors ... OK
* checking whether the package can be loaded ... OK
* checking whether the package can be loaded with stated dependencies ... OK
* checking whether the package can be unloaded cleanly ... OK
* checking whether the namespace can be loaded with stated dependencies ... OK
* checking whether the namespace can be unloaded cleanly ... OK
* checking loading without being on the library search path ... OK
* checking whether startup messages can be suppressed ... OK
* checking dependencies in R code ... OK
* checking S3 generic/method consistency ... OK
* checking replacement functions ... OK
* checking foreign function calls ... OK
* checking R code for possible problems ... NOTE
fit_SE.combinations : <anonymous>: no visible binding for global
  variable ‘hsa_score’
fit_SE.combinations : <anonymous>: no visible binding for global
  variable ‘bliss_score’
Undefined global functions or variables:
  bliss_score hsa_score
* checking Rd files ... OK
* checking Rd metadata ... OK
* checking Rd cross-references ... NOTE
Found the following Rd file(s) with Rd \link{} targets missing package
anchors:
  fit_SE.combinations.Rd: SummarizedExperiment-class
  runDrugResponseProcessingPipelineFxns.Rd: SummarizedExperiment-class
Please provide package anchors for all Rd \link{} targets not in the
package itself and the base packages.
* checking for missing documentation entries ... OK
* checking for code/documentation mismatches ... OK
* checking Rd \usage sections ... OK
* checking Rd contents ... OK
* checking for unstated dependencies in examples ... OK
* checking line endings in C/C++/Fortran sources/headers ... OK
* checking compiled code ... NOTE
Note: information on .o files is not available
File ‘gDRcore/libs/gDRcore.so’:
  Found non-API call to R: ‘STRING_PTR’

Compiled code should not call non-API entry points in R.

See ‘Writing portable packages’ in the ‘Writing R Extensions’ manual,
and section ‘Moving into C API compliance’ for issues with the use of
non-API entry points.
* checking files in ‘vignettes’ ... OK
* checking examples ... OK
Examples with CPU (user + system) or elapsed time > 5s
                                        user system elapsed
runDrugResponseProcessingPipelineFxns 19.054  0.424  18.978
annotate_dt_with_cell_line             4.815  0.228   5.045
* checking for unstated dependencies in ‘tests’ ... OK
* checking tests ...
  Running ‘testthat.R’
 OK
* checking for unstated dependencies in vignettes ... OK
* checking package vignettes ... OK
* checking re-building of vignette outputs ... OK
* checking PDF version of manual ... OK
* DONE

Status: 3 NOTEs
See
  ‘/home/biocbuild/bbs-3.22-bioc/meat/gDRcore.Rcheck/00check.log’
for details.


Installation output

gDRcore.Rcheck/00install.out

##############################################################################
##############################################################################
###
### Running command:
###
###   /home/biocbuild/bbs-3.22-bioc/R/bin/R CMD INSTALL gDRcore
###
##############################################################################
##############################################################################


* installing to library ‘/home/biocbuild/bbs-3.22-bioc/R/site-library’
* installing *source* package ‘gDRcore’ ...
** this is package ‘gDRcore’ version ‘1.8.0’
** using staged installation
** libs
using C++ compiler: ‘g++ (Ubuntu 13.3.0-6ubuntu2~24.04) 13.3.0’
g++ -std=gnu++17 -I"/home/biocbuild/bbs-3.22-bioc/R/include" -DNDEBUG   -I/usr/local/include    -fpic  -g -O2  -Wall -Werror=format-security  -c gDRcore.cpp -o gDRcore.o
g++ -std=gnu++17 -shared -L/home/biocbuild/bbs-3.22-bioc/R/lib -L/usr/local/lib -o gDRcore.so gDRcore.o -L/home/biocbuild/bbs-3.22-bioc/R/lib -lR
installing to /home/biocbuild/bbs-3.22-bioc/R/site-library/00LOCK-gDRcore/00new/gDRcore/libs
** R
** inst
** byte-compile and prepare package for lazy loading
** help
*** installing help indices
** building package indices
** installing vignettes
** testing if installed package can be loaded from temporary location
** checking absolute paths in shared objects and dynamic libraries
** testing if installed package can be loaded from final location
** testing if installed package keeps a record of temporary installation path
* DONE (gDRcore)

Tests output

gDRcore.Rcheck/tests/testthat.Rout


R version 4.5.1 Patched (2025-08-23 r88802) -- "Great Square Root"
Copyright (C) 2025 The R Foundation for Statistical Computing
Platform: x86_64-pc-linux-gnu

R is free software and comes with ABSOLUTELY NO WARRANTY.
You are welcome to redistribute it under certain conditions.
Type 'license()' or 'licence()' for distribution details.

R is a collaborative project with many contributors.
Type 'contributors()' for more information and
'citation()' on how to cite R or R packages in publications.

Type 'demo()' for some demos, 'help()' for on-line help, or
'help.start()' for an HTML browser interface to help.
Type 'q()' to quit R.

> library("gDRcore")
> library("testthat")
> 
> test_check("gDRcore")
INFO [2025-10-30 23:47:55] 
INFO [2025-10-30 23:47:55] 
INFO [2025-10-30 23:47:55] 
INFO [2025-10-30 23:47:55] 
INFO [2025-10-30 23:50:02] 
INFO [2025-10-30 23:50:02] 
INFO [2025-10-30 23:50:02] 
INFO [2025-10-30 23:50:02] Manifest loaded successfully
INFO [2025-10-30 23:50:02] Reading Template_7daytreated.xlsx with load_templates_xlsx
INFO [2025-10-30 23:50:02] Loading Template_7daytreated.xlsx
INFO [2025-10-30 23:50:03] Loading Template_Untreated.xlsx
INFO [2025-10-30 23:50:03] Templates loaded successfully!
INFO [2025-10-30 23:50:03] Reading file /home/biocbuild/bbs-3.22-bioc/R/site-library/gDRimport/extdata/data1/RawData_day0.xlsx, sheet Readout_0077vs0068_day7
INFO [2025-10-30 23:50:03] Plate 201904190a read; 384 wells
INFO [2025-10-30 23:50:03] Plate 201904190b read; 384 wells
INFO [2025-10-30 23:50:03] Plate 201904190c read; 384 wells
INFO [2025-10-30 23:50:03] Plate 201904190d read; 384 wells
INFO [2025-10-30 23:50:03] Plate 201904190e read; 384 wells
INFO [2025-10-30 23:50:03] Plate 201904190f read; 384 wells
INFO [2025-10-30 23:50:03] File done
INFO [2025-10-30 23:50:03] Reading file /home/biocbuild/bbs-3.22-bioc/R/site-library/gDRimport/extdata/data1/RawData_day7.xlsx, sheet Readout_0077vs0068_day7
INFO [2025-10-30 23:50:03] Plate 201904197a read; 384 wells
INFO [2025-10-30 23:50:03] Plate 201904197b read; 384 wells
INFO [2025-10-30 23:50:03] Plate 201904197c read; 384 wells
INFO [2025-10-30 23:50:03] Plate 201904197d read; 384 wells
INFO [2025-10-30 23:50:03] Plate 201904197e read; 384 wells
INFO [2025-10-30 23:50:03] Plate 201904197f read; 384 wells
INFO [2025-10-30 23:50:03] File done
INFO [2025-10-30 23:50:04] Manifest loaded successfully
INFO [2025-10-30 23:50:04] Reading Template_7daytreated.xlsx with load_templates_xlsx
INFO [2025-10-30 23:50:04] Loading Template_7daytreated.xlsx
INFO [2025-10-30 23:50:04] Loading Template_Untreated.xlsx
INFO [2025-10-30 23:50:04] Templates loaded successfully!
INFO [2025-10-30 23:50:04] Reading file /home/biocbuild/bbs-3.22-bioc/R/site-library/gDRimport/extdata/data1/RawData_day0.xlsx, sheet Readout_0077vs0068_day7
INFO [2025-10-30 23:50:04] Plate 201904190a read; 384 wells
INFO [2025-10-30 23:50:04] Plate 201904190b read; 384 wells
INFO [2025-10-30 23:50:04] Plate 201904190c read; 384 wells
INFO [2025-10-30 23:50:04] Plate 201904190d read; 384 wells
INFO [2025-10-30 23:50:04] Plate 201904190e read; 384 wells
INFO [2025-10-30 23:50:04] Plate 201904190f read; 384 wells
INFO [2025-10-30 23:50:04] File done
INFO [2025-10-30 23:50:04] Reading file /home/biocbuild/bbs-3.22-bioc/R/site-library/gDRimport/extdata/data1/RawData_day7.xlsx, sheet Readout_0077vs0068_day7
INFO [2025-10-30 23:50:04] Plate 201904197a read; 384 wells
INFO [2025-10-30 23:50:04] Plate 201904197b read; 384 wells
INFO [2025-10-30 23:50:04] Plate 201904197c read; 384 wells
INFO [2025-10-30 23:50:04] Plate 201904197d read; 384 wells
INFO [2025-10-30 23:50:04] Plate 201904197e read; 384 wells
INFO [2025-10-30 23:50:04] Plate 201904197f read; 384 wells
INFO [2025-10-30 23:50:04] File done
[ FAIL 0 | WARN 0 | SKIP 0 | PASS 235 ]
> 
> proc.time()
   user  system elapsed 
210.663   2.559 211.760 

Example timings

gDRcore.Rcheck/gDRcore-Ex.timings

nameusersystemelapsed
annotate_dt_with_cell_line4.8150.2285.045
annotate_dt_with_drug0.0140.0000.015
annotate_mae_with_cell_line1.0860.0441.130
annotate_mae_with_drug0.1260.0260.152
annotate_se_with_cell_line0.0270.0030.030
annotate_se_with_drug0.0210.0020.024
calculate_GR_value0.0020.0000.003
calculate_excess0.0710.0000.071
calculate_matrix_metric0.0160.0000.016
calculate_score0.0310.0000.031
cleanup_metadata0.2480.0080.257
convert_mae_to_raw_data0.6060.0550.629
convert_se_to_raw_data0.1050.0000.085
data_model0.0020.0000.001
fit_SE.combinations3.1040.0353.136
get_cell_line_annotation0.0040.0020.006
get_cellline_annotation_from_dt0.0090.0020.011
get_default_nested_identifiers000
get_drug_annotation0.0030.0020.005
get_drug_annotation_from_dt0.0040.0000.004
grr_matches0.0120.0000.011
identify_data_type0.0360.0000.036
identify_keys0.1830.0070.191
map_df0.2060.0010.207
map_ids_to_fits0.0010.0000.001
merge_data1.4560.0591.477
prepare_input1.3350.0271.304
process_perturbations0.0070.0000.006
replace_conc_with_standardized_conc0.0000.0000.001
runDrugResponseProcessingPipelineFxns19.054 0.42418.978
split_raw_data0.3030.0010.276
test_synthetic_data0.8180.0290.789