Back to Multiple platform build/check report for BioC 3.22:   simplified   long
ABCDEF[G]HIJKLMNOPQRSTUVWXYZ

This page was generated on 2025-11-20 12:03 -0500 (Thu, 20 Nov 2025).

HostnameOSArch (*)R versionInstalled pkgs
nebbiolo2Linux (Ubuntu 24.04.3 LTS)x86_644.5.2 (2025-10-31) -- "[Not] Part in a Rumble" 4615
merida1macOS 12.7.6 Montereyx86_644.5.2 Patched (2025-11-05 r88990) -- "[Not] Part in a Rumble" 4610
kjohnson1macOS 13.7.5 Venturaarm644.5.2 Patched (2025-11-04 r88984) -- "[Not] Part in a Rumble" 4598
taishanLinux (openEuler 24.03 LTS)aarch644.5.0 (2025-04-11) -- "How About a Twenty-Six" 4668
Click on any hostname to see more info about the system (e.g. compilers)      (*) as reported by 'uname -p', except on Windows and Mac OS X

Package 798/2361HostnameOS / ArchINSTALLBUILDCHECKBUILD BIN
gCrisprTools 2.16.0  (landing page)
Russell Bainer
Snapshot Date: 2025-11-17 13:45 -0500 (Mon, 17 Nov 2025)
git_url: https://git.bioconductor.org/packages/gCrisprTools
git_branch: RELEASE_3_22
git_last_commit: 7b3b1fd
git_last_commit_date: 2025-10-29 10:34:14 -0500 (Wed, 29 Oct 2025)
nebbiolo2Linux (Ubuntu 24.04.3 LTS) / x86_64  OK    OK    OK  UNNEEDED, same version is already published
merida1macOS 12.7.6 Monterey / x86_64  OK    OK    OK    OK  UNNEEDED, same version is already published
kjohnson1macOS 13.7.5 Ventura / arm64  OK    OK    OK    OK  UNNEEDED, same version is already published
taishanLinux (openEuler 24.03 LTS) / aarch64  OK    OK    OK  


CHECK results for gCrisprTools on nebbiolo2

To the developers/maintainers of the gCrisprTools package:
- Allow up to 24 hours (and sometimes 48 hours) for your latest push to git@git.bioconductor.org:packages/gCrisprTools.git to reflect on this report. See Troubleshooting Build Report for more information.
- Use the following Renviron settings to reproduce errors and warnings.
- If 'R CMD check' started to fail recently on the Linux builder(s) over a missing dependency, add the missing dependency to 'Suggests:' in your DESCRIPTION file. See Renviron.bioc for more information.

raw results


Summary

Package: gCrisprTools
Version: 2.16.0
Command: /home/biocbuild/bbs-3.22-bioc/R/bin/R CMD check --install=check:gCrisprTools.install-out.txt --library=/home/biocbuild/bbs-3.22-bioc/R/site-library --timings gCrisprTools_2.16.0.tar.gz
StartedAt: 2025-11-18 04:13:58 -0500 (Tue, 18 Nov 2025)
EndedAt: 2025-11-18 04:26:07 -0500 (Tue, 18 Nov 2025)
EllapsedTime: 729.5 seconds
RetCode: 0
Status:   OK  
CheckDir: gCrisprTools.Rcheck
Warnings: 0

Command output

##############################################################################
##############################################################################
###
### Running command:
###
###   /home/biocbuild/bbs-3.22-bioc/R/bin/R CMD check --install=check:gCrisprTools.install-out.txt --library=/home/biocbuild/bbs-3.22-bioc/R/site-library --timings gCrisprTools_2.16.0.tar.gz
###
##############################################################################
##############################################################################


* using log directory ‘/home/biocbuild/bbs-3.22-bioc/meat/gCrisprTools.Rcheck’
* using R version 4.5.2 (2025-10-31)
* using platform: x86_64-pc-linux-gnu
* R was compiled by
    gcc (Ubuntu 13.3.0-6ubuntu2~24.04) 13.3.0
    GNU Fortran (Ubuntu 13.3.0-6ubuntu2~24.04) 13.3.0
* running under: Ubuntu 24.04.3 LTS
* using session charset: UTF-8
* checking for file ‘gCrisprTools/DESCRIPTION’ ... OK
* checking extension type ... Package
* this is package ‘gCrisprTools’ version ‘2.16.0’
* package encoding: UTF-8
* checking package namespace information ... OK
* checking package dependencies ... OK
* checking if this is a source package ... OK
* checking if there is a namespace ... OK
* checking for hidden files and directories ... OK
* checking for portable file names ... OK
* checking for sufficient/correct file permissions ... OK
* checking whether package ‘gCrisprTools’ can be installed ... OK
* checking installed package size ... OK
* checking package directory ... OK
* checking ‘build’ directory ... OK
* checking DESCRIPTION meta-information ... OK
* checking top-level files ... OK
* checking for left-over files ... OK
* checking index information ... OK
* checking package subdirectories ... OK
* checking code files for non-ASCII characters ... OK
* checking R files for syntax errors ... OK
* checking whether the package can be loaded ... OK
* checking whether the package can be loaded with stated dependencies ... OK
* checking whether the package can be unloaded cleanly ... OK
* checking whether the namespace can be loaded with stated dependencies ... OK
* checking whether the namespace can be unloaded cleanly ... OK
* checking loading without being on the library search path ... OK
* checking dependencies in R code ... NOTE
Namespace in Imports field not imported from: ‘RobustRankAggreg’
  All declared Imports should be used.
* checking S3 generic/method consistency ... OK
* checking replacement functions ... OK
* checking foreign function calls ... OK
* checking R code for possible problems ... OK
* checking Rd files ... OK
* checking Rd metadata ... OK
* checking Rd cross-references ... OK
* checking for missing documentation entries ... OK
* checking for code/documentation mismatches ... OK
* checking Rd \usage sections ... NOTE
Documented arguments not in \usage in Rd file 'ct.targetSetEnrichment.Rd':
  ‘pvalue.cutoff’ ‘organism’ ‘db.cut’ ‘species’

Functions with \usage entries need to have the appropriate \alias
entries, and all their arguments documented.
The \usage entries must correspond to syntactically valid R code.
See chapter ‘Writing R documentation files’ in the ‘Writing R
Extensions’ manual.
* checking Rd contents ... OK
* checking for unstated dependencies in examples ... OK
* checking contents of ‘data’ directory ... OK
* checking data for non-ASCII characters ... OK
* checking data for ASCII and uncompressed saves ... OK
* checking files in ‘vignettes’ ... OK
* checking examples ... OK
Examples with CPU (user + system) or elapsed time > 5s
                        user system elapsed
ct.GREATdb            61.914  2.458  63.983
ct.makeReport         17.410  0.201  17.626
ct.seas                9.455  1.846   9.750
ct.guideCDF            9.044  0.445   9.489
ct.makeContrastReport  8.499  0.098   8.586
ct.compareContrasts    7.440  0.197   7.637
ct.upSet               6.460  0.042   6.502
ct.contrastBarchart    5.861  0.028   5.889
ct.GCbias              5.339  0.120   5.459
ct.makeQCReport        5.275  0.051   5.323
* checking for unstated dependencies in ‘tests’ ... OK
* checking tests ...
  Running ‘unit.tests.R’
 OK
* checking for unstated dependencies in vignettes ... OK
* checking package vignettes ... OK
* checking re-building of vignette outputs ... OK
* checking PDF version of manual ... OK
* DONE

Status: 2 NOTEs
See
  ‘/home/biocbuild/bbs-3.22-bioc/meat/gCrisprTools.Rcheck/00check.log’
for details.


Installation output

gCrisprTools.Rcheck/00install.out

##############################################################################
##############################################################################
###
### Running command:
###
###   /home/biocbuild/bbs-3.22-bioc/R/bin/R CMD INSTALL gCrisprTools
###
##############################################################################
##############################################################################


* installing to library ‘/home/biocbuild/bbs-3.22-bioc/R/site-library’
* installing *source* package ‘gCrisprTools’ ...
** this is package ‘gCrisprTools’ version ‘2.16.0’
** using staged installation
** R
** data
** inst
** byte-compile and prepare package for lazy loading
** help
*** installing help indices
** building package indices
** installing vignettes
** testing if installed package can be loaded from temporary location
** testing if installed package can be loaded from final location
** testing if installed package keeps a record of temporary installation path
* DONE (gCrisprTools)

Tests output

gCrisprTools.Rcheck/tests/unit.tests.Rout


R version 4.5.2 (2025-10-31) -- "[Not] Part in a Rumble"
Copyright (C) 2025 The R Foundation for Statistical Computing
Platform: x86_64-pc-linux-gnu

R is free software and comes with ABSOLUTELY NO WARRANTY.
You are welcome to redistribute it under certain conditions.
Type 'license()' or 'licence()' for distribution details.

R is a collaborative project with many contributors.
Type 'contributors()' for more information and
'citation()' on how to cite R or R packages in publications.

Type 'demo()' for some demos, 'help()' for on-line help, or
'help.start()' for an HTML browser interface to help.
Type 'q()' to quit R.

> #require("BiocGenerics", quietly = TRUE)
> BiocGenerics:::testPackage("gCrisprTools")


RUNIT TEST PROTOCOL -- Tue Nov 18 04:21:11 2025 
*********************************************** 
Number of test functions: 0 
Number of errors: 0 
Number of failures: 0 

 
1 Test Suite : 
gCrisprTools RUnit Tests - 0 test functions, 0 errors, 0 failures
Number of test functions: 0 
Number of errors: 0 
Number of failures: 0 
> 
> proc.time()
   user  system elapsed 
  7.181   0.405   7.574 

Example timings

gCrisprTools.Rcheck/gCrisprTools-Ex.timings

nameusersystemelapsed
aln0.0000.0020.002
ann0.0490.0010.051
ct.CAT1.9070.1942.102
ct.DirectionalTests0.2270.0340.263
ct.GCbias5.3390.1205.459
ct.GREATdb61.914 2.45863.983
ct.PRC2.0780.0462.122
ct.ROC1.3190.0001.319
ct.RRAaPvals0.2960.0040.300
ct.RRAalpha0.2240.0040.229
ct.alignmentChart0.0040.0010.005
ct.alphaBeta0.0010.0000.000
ct.applyAlpha0.0010.0000.001
ct.buildSE0.3680.0030.372
ct.compareContrasts7.4400.1977.637
ct.contrastBarchart5.8610.0285.889
ct.expandAnnotation0.0530.0020.056
ct.filterReads0.2170.0110.227
ct.gRNARankByReplicate0.3740.0080.382
ct.generateResults0.4650.0090.475
ct.guideCDF9.0440.4459.489
ct.keyCheck0.0870.0000.088
ct.makeContrastReport8.4990.0988.586
ct.makeQCReport5.2750.0515.323
ct.makeReport17.410 0.20117.626
ct.makeRhoNull0.0010.0000.000
ct.normalizeBySlope1.2220.0091.231
ct.normalizeFQ0.7930.0080.801
ct.normalizeGuides3.0190.0253.045
ct.normalizeMedians0.6780.0130.691
ct.normalizeNTC0.7940.0060.800
ct.normalizeSpline0.9050.0090.914
ct.parseGeneSymbol0.0010.0000.001
ct.prepareAnnotation0.4680.0030.471
ct.preprocessFit1.4600.0041.464
ct.rankSimple3.4580.0013.459
ct.rawCountDensities0.1200.0020.122
ct.regularizeContrasts0.0840.0010.085
ct.resultCheck0.0490.0010.050
ct.scatter0.3440.0010.345
ct.seas9.4551.8469.750
ct.seasPrep1.9290.1042.034
ct.signalSummary1.4540.0051.460
ct.simpleResult1.2060.0091.215
ct.softLog000
ct.stackGuides4.530.264.79
ct.targetSetEnrichment1.1770.0041.181
ct.topTargets0.2970.0020.299
ct.upSet6.4600.0426.502
ct.viewControls0.1970.0110.207
ct.viewGuides0.2880.0020.289
es0.0480.0020.050
essential.genes0.0010.0000.001
fit0.1710.0010.172
resultsDF0.0520.0000.052