| Back to Multiple platform build/check report for BioC 3.21: simplified long |
|
This page was generated on 2025-04-22 13:16 -0400 (Tue, 22 Apr 2025).
| Hostname | OS | Arch (*) | R version | Installed pkgs |
|---|---|---|---|---|
| nebbiolo1 | Linux (Ubuntu 24.04.1 LTS) | x86_64 | 4.5.0 RC (2025-04-04 r88126) -- "How About a Twenty-Six" | 4831 |
| palomino7 | Windows Server 2022 Datacenter | x64 | 4.5.0 RC (2025-04-04 r88126 ucrt) -- "How About a Twenty-Six" | 4573 |
| lconway | macOS 12.7.1 Monterey | x86_64 | 4.5.0 RC (2025-04-04 r88126) -- "How About a Twenty-Six" | 4599 |
| kjohnson3 | macOS 13.7.1 Ventura | arm64 | 4.5.0 RC (2025-04-04 r88126) -- "How About a Twenty-Six" | 4553 |
| kunpeng2 | Linux (openEuler 24.03 LTS) | aarch64 | R Under development (unstable) (2025-02-19 r87757) -- "Unsuffered Consequences" | 4570 |
| Click on any hostname to see more info about the system (e.g. compilers) (*) as reported by 'uname -p', except on Windows and Mac OS X | ||||
| Package 766/2341 | Hostname | OS / Arch | INSTALL | BUILD | CHECK | BUILD BIN | ||||||||
| fobitools 1.16.0 (landing page) Pol Castellano-Escuder
| nebbiolo1 | Linux (Ubuntu 24.04.1 LTS) / x86_64 | OK | OK | OK | |||||||||
| palomino7 | Windows Server 2022 Datacenter / x64 | OK | OK | OK | OK | |||||||||
| lconway | macOS 12.7.1 Monterey / x86_64 | OK | OK | OK | OK | |||||||||
| kjohnson3 | macOS 13.7.1 Ventura / arm64 | OK | OK | OK | OK | |||||||||
| kunpeng2 | Linux (openEuler 24.03 LTS) / aarch64 | OK | OK | OK | ||||||||||
|
To the developers/maintainers of the fobitools package: - Allow up to 24 hours (and sometimes 48 hours) for your latest push to git@git.bioconductor.org:packages/fobitools.git to reflect on this report. See Troubleshooting Build Report for more information. - Use the following Renviron settings to reproduce errors and warnings. - If 'R CMD check' started to fail recently on the Linux builder(s) over a missing dependency, add the missing dependency to 'Suggests:' in your DESCRIPTION file. See Renviron.bioc for more information. |
| Package: fobitools |
| Version: 1.16.0 |
| Command: /Library/Frameworks/R.framework/Resources/bin/R CMD check --install=check:fobitools.install-out.txt --library=/Library/Frameworks/R.framework/Resources/library --no-vignettes --timings fobitools_1.16.0.tar.gz |
| StartedAt: 2025-04-21 20:47:41 -0400 (Mon, 21 Apr 2025) |
| EndedAt: 2025-04-21 20:51:48 -0400 (Mon, 21 Apr 2025) |
| EllapsedTime: 247.4 seconds |
| RetCode: 0 |
| Status: OK |
| CheckDir: fobitools.Rcheck |
| Warnings: 0 |
##############################################################################
##############################################################################
###
### Running command:
###
### /Library/Frameworks/R.framework/Resources/bin/R CMD check --install=check:fobitools.install-out.txt --library=/Library/Frameworks/R.framework/Resources/library --no-vignettes --timings fobitools_1.16.0.tar.gz
###
##############################################################################
##############################################################################
* using log directory ‘/Users/biocbuild/bbs-3.21-bioc/meat/fobitools.Rcheck’
* using R version 4.5.0 RC (2025-04-04 r88126)
* using platform: x86_64-apple-darwin20
* R was compiled by
Apple clang version 14.0.0 (clang-1400.0.29.202)
GNU Fortran (GCC) 14.2.0
* running under: macOS Monterey 12.7.6
* using session charset: UTF-8
* using option ‘--no-vignettes’
* checking for file ‘fobitools/DESCRIPTION’ ... OK
* this is package ‘fobitools’ version ‘1.16.0’
* package encoding: UTF-8
* checking package namespace information ... OK
* checking package dependencies ... OK
* checking if this is a source package ... OK
* checking if there is a namespace ... OK
* checking for hidden files and directories ... OK
* checking for portable file names ... OK
* checking for sufficient/correct file permissions ... OK
* checking whether package ‘fobitools’ can be installed ... OK
* checking installed package size ... OK
* checking package directory ... OK
* checking ‘build’ directory ... OK
* checking DESCRIPTION meta-information ... OK
* checking top-level files ... OK
* checking for left-over files ... OK
* checking index information ... OK
* checking package subdirectories ... OK
* checking code files for non-ASCII characters ... OK
* checking R files for syntax errors ... OK
* checking whether the package can be loaded ... OK
* checking whether the package can be loaded with stated dependencies ... OK
* checking whether the package can be unloaded cleanly ... OK
* checking whether the namespace can be loaded with stated dependencies ... OK
* checking whether the namespace can be unloaded cleanly ... OK
* checking dependencies in R code ... OK
* checking S3 generic/method consistency ... OK
* checking replacement functions ... OK
* checking foreign function calls ... OK
* checking R code for possible problems ... NOTE
annotate_foods: no visible binding for global variable ‘FOOD_NAME’
annotate_foods: no visible binding for global variable ‘FOOD_ID’
annotate_foods: no visible binding for global variable ‘words’
annotate_foods: no visible binding for global variable ‘words_joint’
annotate_foods: no visible binding for global variable ‘id_code’
annotate_foods: no visible binding for global variable ‘name’
annotate_foods: no visible binding for global variable ‘ref’
annotate_foods: no visible binding for global variable ‘detect’
annotate_foods: no visible binding for global variable ‘.’
annotate_foods: no visible binding for global variable ‘match_score’
fobi_graph: no visible binding for global variable ‘is_a_code’
fobi_graph: no visible binding for global variable ‘id_code’
fobi_graph: no visible binding for global variable ‘Contains’
fobi_graph: no visible binding for global variable ‘Property’
fobi_graph: no visible binding for global variable ‘name’
fobi_graph: no visible binding for global variable ‘BiomarkerOf’
fobi_graph: no visible binding for global variable ‘is_a_name’
fobi_graph: no visible binding for global variable ‘subOntology’
id_convert: no visible binding for global variable ‘BiomarkerOf’
id_convert: no visible binding for global variable ‘name’
id_convert: no visible binding for global variable ‘FOBI’
id_convert: no visible binding for global variable ‘HMDB’
id_convert: no visible binding for global variable ‘KEGG’
id_convert: no visible binding for global variable ‘PubChemCID’
id_convert: no visible binding for global variable ‘InChIKey’
id_convert: no visible binding for global variable ‘InChICode’
id_convert: no visible binding for global variable ‘ChemSpider’
id_convert: no visible binding for global variable ‘metaboliteNames’
id_convert: no visible binding for global variable ‘presence’
id_convert: no visible binding for global variable ‘.’
msea: no visible binding for global variable ‘BiomarkerOf’
msea: no visible binding for global variable ‘id_BiomarkerOf’
msea: no visible binding for global variable ‘name’
msea: no visible binding for global variable ‘FOBI’
msea: no visible binding for global variable ‘is_a_code’
msea: no visible binding for global variable ‘is_a_name’
msea: no visible binding for global variable ‘.’
msea: no visible global function definition for ‘unstack’
msea: no visible binding for global variable ‘pathway’
msea: no visible binding for global variable ‘size’
msea: no visible binding for global variable ‘className’
msea: no visible binding for global variable ‘classSize’
msea: no visible binding for global variable ‘log2err’
msea: no visible binding for global variable ‘ES’
msea: no visible binding for global variable ‘NES’
msea: no visible binding for global variable ‘pval’
msea: no visible binding for global variable ‘padj’
msea: no visible binding for global variable ‘leadingEdge’
ora: no visible binding for global variable ‘BiomarkerOf’
ora: no visible binding for global variable ‘id_BiomarkerOf’
ora: no visible binding for global variable ‘name’
ora: no visible binding for global variable ‘FOBI’
ora: no visible binding for global variable ‘is_a_code’
ora: no visible binding for global variable ‘is_a_name’
ora: no visible binding for global variable ‘.’
ora: no visible global function definition for ‘unstack’
ora: no visible binding for global variable ‘pathway’
ora: no visible binding for global variable ‘size’
ora: no visible binding for global variable ‘overlapGenes’
ora: no visible binding for global variable ‘className’
ora: no visible binding for global variable ‘classSize’
ora: no visible binding for global variable ‘overlap’
ora: no visible binding for global variable ‘pval’
ora: no visible binding for global variable ‘padj’
ora: no visible binding for global variable ‘overlapMetabolites’
parse_fobi: no visible binding for global variable ‘V2’
parse_fobi: no visible binding for global variable ‘V1’
parse_fobi: no visible binding for global variable ‘gf’
parse_fobi: no visible binding for global variable ‘name’
parse_fobi: no visible binding for global variable ‘id_code’
parse_fobi: no visible binding for global variable ‘Contains’
parse_fobi: no visible binding for global variable ‘disjoint_from’
parse_fobi: no visible binding for global variable ‘FOBI:050339’
parse_fobi: no visible binding for global variable ‘ChemSpider’
parse_fobi: no visible binding for global variable ‘KEGG’
parse_fobi: no visible binding for global variable ‘is_a_code’
parse_fobi: no visible binding for global variable ‘id_BiomarkerOf’
parse_fobi: no visible binding for global variable ‘id_Contains’
Undefined global functions or variables:
. BiomarkerOf ChemSpider Contains ES FOBI FOBI:050339 FOOD_ID
FOOD_NAME HMDB InChICode InChIKey KEGG NES Property PubChemCID V1 V2
className classSize detect disjoint_from gf id_BiomarkerOf
id_Contains id_code is_a_code is_a_name leadingEdge log2err
match_score metaboliteNames name overlap overlapGenes
overlapMetabolites padj pathway presence pval ref size subOntology
unstack words words_joint
Consider adding
importFrom("methods", "className")
importFrom("utils", "unstack")
to your NAMESPACE file (and ensure that your DESCRIPTION Imports field
contains 'methods').
* checking Rd files ... OK
* checking Rd metadata ... OK
* checking Rd cross-references ... NOTE
Non-topic package-anchored link(s) in Rd file 'reexports.Rd':
‘[magrittr:pipe]{%>%}’
See section 'Cross-references' in the 'Writing R Extensions' manual.
* checking for missing documentation entries ... OK
* checking for code/documentation mismatches ... OK
* checking Rd \usage sections ... OK
* checking Rd contents ... OK
* checking for unstated dependencies in examples ... OK
* checking contents of ‘data’ directory ... OK
* checking data for non-ASCII characters ... OK
* checking LazyData ... OK
* checking data for ASCII and uncompressed saves ... OK
* checking files in ‘vignettes’ ... NOTE
The following directory looks like a leftover from 'knitr':
‘figure’
Please remove from your package.
* checking examples ... OK
Examples with CPU (user + system) or elapsed time > 5s
user system elapsed
parse_fobi 22.768 2.267 32.964
* checking for unstated dependencies in ‘tests’ ... OK
* checking tests ...
Running ‘testthat.R’
OK
* checking for unstated dependencies in vignettes ... OK
* checking package vignettes ... OK
* checking running R code from vignettes ... SKIPPED
* checking re-building of vignette outputs ... SKIPPED
* checking PDF version of manual ... OK
* DONE
Status: 3 NOTEs
See
‘/Users/biocbuild/bbs-3.21-bioc/meat/fobitools.Rcheck/00check.log’
for details.
fobitools.Rcheck/00install.out
############################################################################## ############################################################################## ### ### Running command: ### ### /Library/Frameworks/R.framework/Resources/bin/R CMD INSTALL fobitools ### ############################################################################## ############################################################################## * installing to library ‘/Library/Frameworks/R.framework/Versions/4.5-x86_64/Resources/library’ * installing *source* package ‘fobitools’ ... ** this is package ‘fobitools’ version ‘1.16.0’ ** using staged installation ** R ** data *** moving datasets to lazyload DB ** inst ** byte-compile and prepare package for lazy loading ** help *** installing help indices *** copying figures ** building package indices ** installing vignettes ** testing if installed package can be loaded from temporary location ** testing if installed package can be loaded from final location ** testing if installed package keeps a record of temporary installation path * DONE (fobitools)
fobitools.Rcheck/tests/testthat.Rout
R version 4.5.0 RC (2025-04-04 r88126) -- "How About a Twenty-Six"
Copyright (C) 2025 The R Foundation for Statistical Computing
Platform: x86_64-apple-darwin20
R is free software and comes with ABSOLUTELY NO WARRANTY.
You are welcome to redistribute it under certain conditions.
Type 'license()' or 'licence()' for distribution details.
R is a collaborative project with many contributors.
Type 'contributors()' for more information and
'citation()' on how to cite R or R packages in publications.
Type 'demo()' for some demos, 'help()' for on-line help, or
'help.start()' for an HTML browser interface to help.
Type 'q()' to quit R.
> library(testthat)
> library(fobitools)
>
> test_check("fobitools")
100% annotated
0.411 sec elapsed
100% annotated
0.289 sec elapsed
100% annotated
7.686 sec elapsed
[ FAIL 0 | WARN 7 | SKIP 0 | PASS 73 ]
[ FAIL 0 | WARN 7 | SKIP 0 | PASS 73 ]
>
> proc.time()
user system elapsed
103.843 10.912 119.570
fobitools.Rcheck/fobitools-Ex.timings
| name | user | system | elapsed | |
| ORA | 0.323 | 0.029 | 0.354 | |
| annotate_foods | 0.447 | 0.033 | 0.487 | |
| fobi_graph | 0.596 | 0.020 | 0.622 | |
| id_convert | 0.110 | 0.002 | 0.113 | |
| msea | 1.710 | 0.236 | 1.886 | |
| parse_fobi | 22.768 | 2.267 | 32.964 | |