| Back to Multiple platform build/check report for BioC 3.21: simplified long |
|
This page was generated on 2025-10-16 11:41 -0400 (Thu, 16 Oct 2025).
| Hostname | OS | Arch (*) | R version | Installed pkgs |
|---|---|---|---|---|
| nebbiolo1 | Linux (Ubuntu 24.04.3 LTS) | x86_64 | 4.5.1 (2025-06-13) -- "Great Square Root" | 4833 |
| merida1 | macOS 12.7.6 Monterey | x86_64 | 4.5.1 RC (2025-06-05 r88288) -- "Great Square Root" | 4614 |
| kjohnson1 | macOS 13.7.5 Ventura | arm64 | 4.5.1 Patched (2025-06-14 r88325) -- "Great Square Root" | 4555 |
| kunpeng2 | Linux (openEuler 24.03 LTS) | aarch64 | R Under development (unstable) (2025-02-19 r87757) -- "Unsuffered Consequences" | 4586 |
| Click on any hostname to see more info about the system (e.g. compilers) (*) as reported by 'uname -p', except on Windows and Mac OS X | ||||
| Package 765/2341 | Hostname | OS / Arch | INSTALL | BUILD | CHECK | BUILD BIN | ||||||||
| fmrs 1.18.0 (landing page) Farhad Shokoohi
| nebbiolo1 | Linux (Ubuntu 24.04.3 LTS) / x86_64 | OK | OK | OK | |||||||||
| merida1 | macOS 12.7.6 Monterey / x86_64 | OK | OK | OK | OK | |||||||||
| kjohnson1 | macOS 13.7.5 Ventura / arm64 | OK | OK | OK | OK | |||||||||
| kunpeng2 | Linux (openEuler 24.03 LTS) / aarch64 | OK | OK | OK | ||||||||||
|
To the developers/maintainers of the fmrs package: - Allow up to 24 hours (and sometimes 48 hours) for your latest push to git@git.bioconductor.org:packages/fmrs.git to reflect on this report. See Troubleshooting Build Report for more information. - Use the following Renviron settings to reproduce errors and warnings. - If 'R CMD check' started to fail recently on the Linux builder(s) over a missing dependency, add the missing dependency to 'Suggests:' in your DESCRIPTION file. See Renviron.bioc for more information. - See Martin Grigorov's blog post for how to debug Linux ARM64 related issues on a x86_64 host. |
| Package: fmrs |
| Version: 1.18.0 |
| Command: /home/biocbuild/R/R/bin/R CMD INSTALL fmrs |
| StartedAt: 2025-10-13 20:15:55 -0000 (Mon, 13 Oct 2025) |
| EndedAt: 2025-10-13 20:16:19 -0000 (Mon, 13 Oct 2025) |
| EllapsedTime: 24.3 seconds |
| RetCode: 0 |
| Status: OK |
##############################################################################
##############################################################################
###
### Running command:
###
### /home/biocbuild/R/R/bin/R CMD INSTALL fmrs
###
##############################################################################
##############################################################################
* installing to library ‘/home/biocbuild/R/R-devel_2025-02-19/site-library’
* installing *source* package ‘fmrs’ ...
** this is package ‘fmrs’ version ‘1.18.0’
** using staged installation
** libs
using C compiler: ‘aarch64-unknown-linux-gnu-gcc (GCC) 14.2.0’
/opt/ohpc/pub/compiler/gcc/14.2.0/bin/aarch64-unknown-linux-gnu-gcc -std=gnu23 -I"/home/biocbuild/R/R/include" -DNDEBUG -I/usr/local/include -fPIC -g -O2 -Wall -Werror=format-security -c fmrs.c -o fmrs.o
fmrs.c: In function ‘FMR_Weibl_MLE’:
fmrs.c:1497:12: warning: variable ‘multX’ set but not used [-Wunused-but-set-variable]
1497 | double multX[N][D][K];
| ^~~~~
fmrs.c: In function ‘FMR_Weibl_CTun’:
fmrs.c:2566:12: warning: variable ‘pi_new’ set but not used [-Wunused-but-set-variable]
2566 | double pi_new[K];
| ^~~~~~
fmrs.c:2547:12: warning: variable ‘multX’ set but not used [-Wunused-but-set-variable]
2547 | double multX[N][D][k1];
| ^~~~~
fmrs.c: In function ‘Norm_MLE’:
fmrs.c:2981:10: warning: variable ‘sumwi’ set but not used [-Wunused-but-set-variable]
2981 | double sumwi[K];
| ^~~~~
fmrs.c: In function ‘Weibl_MLE’:
fmrs.c:4056:10: warning: variable ‘multX’ set but not used [-Wunused-but-set-variable]
4056 | double multX[N][D][K];
| ^~~~~
fmrs.c: In function ‘Weibl_CTun’:
fmrs.c:5031:10: warning: variable ‘select’ set but not used [-Wunused-but-set-variable]
5031 | double select[D][K];
| ^~~~~~
fmrs.c:5007:10: warning: variable ‘multX’ set but not used [-Wunused-but-set-variable]
5007 | double multX[N][D][k1];
| ^~~~~
fmrs.c: In function ‘backsub’:
fmrs.c:59:26: warning: ‘*atemp[<unknown>][n]’ may be used uninitialized [-Wmaybe-uninitialized]
59 | y[n-1] = atemp[n - 1][n] / atemp[n - 1][n - 1];
| ~~~~~~~~~~~~^~~
fmrs.c:59:44: warning: ‘*atemp[<unknown>][<unknown>]’ may be used uninitialized [-Wmaybe-uninitialized]
59 | y[n-1] = atemp[n - 1][n] / atemp[n - 1][n - 1];
| ~~~~~~~~~~~~^~~~~~~
/opt/ohpc/pub/compiler/gcc/14.2.0/bin/aarch64-unknown-linux-gnu-gcc -std=gnu23 -shared -L/home/biocbuild/R/R/lib -L/usr/local/lib -o fmrs.so fmrs.o -L/home/biocbuild/R/R/lib -lR
installing to /home/biocbuild/R/R-devel_2025-02-19/site-library/00LOCK-fmrs/00new/fmrs/libs
** R
** inst
** byte-compile and prepare package for lazy loading
** help
*** installing help indices
** building package indices
** installing vignettes
** testing if installed package can be loaded from temporary location
** checking absolute paths in shared objects and dynamic libraries
** testing if installed package can be loaded from final location
** testing if installed package keeps a record of temporary installation path
* DONE (fmrs)