| Back to Multiple platform build/check report for BioC 3.21: simplified long | 
 | 
This page was generated on 2025-10-16 11:40 -0400 (Thu, 16 Oct 2025).
| Hostname | OS | Arch (*) | R version | Installed pkgs | 
|---|---|---|---|---|
| nebbiolo1 | Linux (Ubuntu 24.04.3 LTS) | x86_64 | 4.5.1 (2025-06-13) -- "Great Square Root" | 4833 | 
| merida1 | macOS 12.7.6 Monterey | x86_64 | 4.5.1 RC (2025-06-05 r88288) -- "Great Square Root" | 4614 | 
| kjohnson1 | macOS 13.7.5 Ventura | arm64 | 4.5.1 Patched (2025-06-14 r88325) -- "Great Square Root" | 4555 | 
| kunpeng2 | Linux (openEuler 24.03 LTS) | aarch64 | R Under development (unstable) (2025-02-19 r87757) -- "Unsuffered Consequences" | 4586 | 
| Click on any hostname to see more info about the system (e.g. compilers) (*) as reported by 'uname -p', except on Windows and Mac OS X | ||||
| Package 729/2341 | Hostname | OS / Arch | INSTALL | BUILD | CHECK | BUILD BIN | ||||||||
| findIPs 1.4.0  (landing page) Shuo Wang 
 | nebbiolo1 | Linux (Ubuntu 24.04.3 LTS) / x86_64 | OK | OK | OK |  | ||||||||
| merida1 | macOS 12.7.6 Monterey / x86_64 | OK | OK | OK | OK |  | ||||||||
| kjohnson1 | macOS 13.7.5 Ventura / arm64 | OK | OK | OK | OK |  | ||||||||
| kunpeng2 | Linux (openEuler 24.03 LTS) / aarch64 | OK | OK | OK | ||||||||||
| To the developers/maintainers of the findIPs package: - Allow up to 24 hours (and sometimes 48 hours) for your latest push to git@git.bioconductor.org:packages/findIPs.git to reflect on this report. See Troubleshooting Build Report for more information. - Use the following Renviron settings to reproduce errors and warnings. - If 'R CMD check' started to fail recently on the Linux builder(s) over a missing dependency, add the missing dependency to 'Suggests:' in your DESCRIPTION file. See Renviron.bioc for more information. | 
| Package: findIPs | 
| Version: 1.4.0 | 
| Command: /Library/Frameworks/R.framework/Resources/bin/R CMD check --install=check:findIPs.install-out.txt --library=/Library/Frameworks/R.framework/Resources/library --no-vignettes --timings findIPs_1.4.0.tar.gz | 
| StartedAt: 2025-10-14 21:38:21 -0400 (Tue, 14 Oct 2025) | 
| EndedAt: 2025-10-14 21:45:07 -0400 (Tue, 14 Oct 2025) | 
| EllapsedTime: 405.6 seconds | 
| RetCode: 0 | 
| Status: OK | 
| CheckDir: findIPs.Rcheck | 
| Warnings: 0 | 
##############################################################################
##############################################################################
###
### Running command:
###
###   /Library/Frameworks/R.framework/Resources/bin/R CMD check --install=check:findIPs.install-out.txt --library=/Library/Frameworks/R.framework/Resources/library --no-vignettes --timings findIPs_1.4.0.tar.gz
###
##############################################################################
##############################################################################
* using log directory ‘/Users/biocbuild/bbs-3.21-bioc/meat/findIPs.Rcheck’
* using R version 4.5.1 Patched (2025-06-14 r88325)
* using platform: aarch64-apple-darwin20
* R was compiled by
    Apple clang version 16.0.0 (clang-1600.0.26.6)
    GNU Fortran (GCC) 14.2.0
* running under: macOS Ventura 13.7.5
* using session charset: UTF-8
* using option ‘--no-vignettes’
* checking for file ‘findIPs/DESCRIPTION’ ... OK
* checking extension type ... Package
* this is package ‘findIPs’ version ‘1.4.0’
* package encoding: UTF-8
* checking package namespace information ... OK
* checking package dependencies ... OK
* checking if this is a source package ... OK
* checking if there is a namespace ... OK
* checking for hidden files and directories ... OK
* checking for portable file names ... OK
* checking for sufficient/correct file permissions ... OK
* checking whether package ‘findIPs’ can be installed ... OK
* checking installed package size ... OK
* checking package directory ... OK
* checking ‘build’ directory ... OK
* checking DESCRIPTION meta-information ... OK
* checking top-level files ... OK
* checking for left-over files ... OK
* checking index information ... OK
* checking package subdirectories ... OK
* checking code files for non-ASCII characters ... OK
* checking R files for syntax errors ... OK
* checking whether the package can be loaded ... OK
* checking whether the package can be loaded with stated dependencies ... OK
* checking whether the package can be unloaded cleanly ... OK
* checking whether the namespace can be loaded with stated dependencies ... OK
* checking whether the namespace can be unloaded cleanly ... OK
* checking dependencies in R code ... OK
* checking S3 generic/method consistency ... OK
* checking replacement functions ... OK
* checking foreign function calls ... OK
* checking R code for possible problems ... OK
* checking Rd files ... OK
* checking Rd metadata ... OK
* checking Rd cross-references ... OK
* checking for missing documentation entries ... OK
* checking for code/documentation mismatches ... OK
* checking Rd \usage sections ... OK
* checking Rd contents ... OK
* checking for unstated dependencies in examples ... OK
* checking contents of ‘data’ directory ... OK
* checking data for non-ASCII characters ... OK
* checking data for ASCII and uncompressed saves ... OK
* checking files in ‘vignettes’ ... OK
* checking examples ... OK
Examples with CPU (user + system) or elapsed time > 5s
                   user system elapsed
findIPs          26.766  0.615  27.885
plotRankScatters 19.938  0.477  20.485
getdrop1ranks    19.500  0.459  20.125
sumRanks         19.293  0.459  19.796
plotIPs          18.816  0.388  19.333
* checking for unstated dependencies in ‘tests’ ... OK
* checking tests ...
  Running ‘testthat.R’
 OK
* checking for unstated dependencies in vignettes ... OK
* checking package vignettes ... OK
* checking running R code from vignettes ... SKIPPED
* checking re-building of vignette outputs ... SKIPPED
* checking PDF version of manual ... OK
* DONE
Status: OK
findIPs.Rcheck/00install.out
############################################################################## ############################################################################## ### ### Running command: ### ### /Library/Frameworks/R.framework/Resources/bin/R CMD INSTALL findIPs ### ############################################################################## ############################################################################## * installing to library ‘/Library/Frameworks/R.framework/Versions/4.5-arm64/Resources/library’ * installing *source* package ‘findIPs’ ... ** this is package ‘findIPs’ version ‘1.4.0’ ** using staged installation ** R ** data ** inst ** byte-compile and prepare package for lazy loading ** help *** installing help indices ** building package indices ** installing vignettes ** testing if installed package can be loaded from temporary location ** testing if installed package can be loaded from final location ** testing if installed package keeps a record of temporary installation path * DONE (findIPs)
findIPs.Rcheck/tests/testthat.Rout
R version 4.5.1 Patched (2025-06-14 r88325) -- "Great Square Root"
Copyright (C) 2025 The R Foundation for Statistical Computing
Platform: aarch64-apple-darwin20
R is free software and comes with ABSOLUTELY NO WARRANTY.
You are welcome to redistribute it under certain conditions.
Type 'license()' or 'licence()' for distribution details.
R is a collaborative project with many contributors.
Type 'contributors()' for more information and
'citation()' on how to cite R or R packages in publications.
Type 'demo()' for some demos, 'help()' for on-line help, or
'help.start()' for an HTML browser interface to help.
Type 'q()' to quit R.
> library(testthat)
> library(findIPs)
> 
> # get data
> data(miller05)
> X <- miller05$X
> y <- miller05$y
> surv <- miller05$surv
> 
> # save expected results
> 
> # obj <- getdrop1ranks(X, y,
> #                      fun = "t.test",
> #                      decreasing = FALSE,
> #                      topN = 100)
> #
> # expected.t.adaptive <- sumRanks(origRank = obj$origRank,
> #                                 drop1Rank = obj$drop1Rank,
> #                                 topN = 100,
> #                                 method = "adaptive")
> #
> # expected.t.unweighted <- sumRanks(origRank = obj$origRank,
> #                                   drop1Rank = obj$drop1Rank,
> #                                   topN = 100,
> #                                   method = "unweighted")
> #
> # expected.t.weighted <- sumRanks(origRank = obj$origRank,
> #                                 drop1Rank = obj$drop1Rank,
> #                                 topN = 100,
> #                                 method = "weightedSpearman")
> #
> # expected.t.adaptive.ipsr <- findIPs(X, y,
> #                                     fun = "t.test",
> #                                     decreasing = FALSE,
> #                                     topN = 100,
> #                                     method = "adaptive")
> #
> # expected.cox.adaptive.ipsr <- findIPs(X, surv,
> #                                       fun = "cox",
> #                                       decreasing = FALSE,
> #                                       topN = 100,
> #                                       method = "adaptive")
> #
> # save(list = c("expected.t.adaptive", "expected.t.unweighted",
> #               "expected.t.weighted", "expected.t.adaptive.ipsr",
> #               "expected.cox.adaptive.ipsr"),
> #      file = "./expectedResults/expectedResults.RData")
> 
> # get observed results
> 
> load("./expectedResults/expectedResults.RData")
> 
> obj <- getdrop1ranks(X, y,
+                      fun = "t.test",
+                      decreasing = FALSE,
+                      topN = 100)
> 
> observed.t.adaptive <- sumRanks(origRank = obj$origRank,
+                                 drop1Rank = obj$drop1Rank,
+                                 topN = 100,
+                                 method = "adaptive")
> 
> observed.t.unweighted <- sumRanks(origRank = obj$origRank,
+                                   drop1Rank = obj$drop1Rank,
+                                   topN = 100,
+                                   method = "unweighted")
> 
> observed.t.weighted <- sumRanks(origRank = obj$origRank,
+                                 drop1Rank = obj$drop1Rank,
+                                 topN = 100,
+                                 method = "weightedSpearman")
> 
> observed.t.adaptive.ipsr <- findIPs(X, y,
+                                     fun = "t.test",
+                                     decreasing = FALSE,
+                                     topN = 100,
+                                     method = "adaptive")
> 
> observed.cox.adaptive.ipsr <- findIPs(X, surv,
+                                       fun = "cox",
+                                       decreasing = FALSE,
+                                       topN = 100,
+                                       method = "adaptive")
> 
> test_that("test getdrop1ranks and sumRanks",{
+     expect_equal(expected.t.adaptive, observed.t.adaptive)
+     expect_equal(expected.t.unweighted, observed.t.unweighted)
+     expect_equal(expected.t.weighted, expected.t.weighted)
+ })
Test passed 🌈
> 
> test_that("stepwise(getdrop1ranks and sumRanks) and one-step procedure",{
+     expect_equal(observed.t.adaptive.ipsr, observed.t.adaptive)
+ })
Test passed 🥳
> 
> test_that("test ipsr",{
+     expect_equal(expected.t.adaptive.ipsr, observed.t.adaptive.ipsr)
+ })
Test passed 🥳
> 
> test_that("test ipsr for survival outcomes (ranked by univariate cox)",{
+     expect_equal(expected.cox.adaptive.ipsr, observed.cox.adaptive.ipsr)
+ })
Test passed 🎊
> 
> 
> 
> 
> 
> proc.time()
   user  system elapsed 
126.857   3.379 130.724 
findIPs.Rcheck/findIPs-Ex.timings
| name | user | system | elapsed | |
| findIPs | 26.766 | 0.615 | 27.885 | |
| getdrop1ranks | 19.500 | 0.459 | 20.125 | |
| miller05 | 0.027 | 0.003 | 0.029 | |
| plotAdaptiveWeights | 0.011 | 0.002 | 0.012 | |
| plotIPs | 18.816 | 0.388 | 19.333 | |
| plotRankScatters | 19.938 | 0.477 | 20.485 | |
| sumRanks | 19.293 | 0.459 | 19.796 | |