| Back to Multiple platform build/check report for BioC 3.21: simplified long |
|
This page was generated on 2025-10-16 11:37 -0400 (Thu, 16 Oct 2025).
| Hostname | OS | Arch (*) | R version | Installed pkgs |
|---|---|---|---|---|
| nebbiolo1 | Linux (Ubuntu 24.04.3 LTS) | x86_64 | 4.5.1 (2025-06-13) -- "Great Square Root" | 4833 |
| merida1 | macOS 12.7.6 Monterey | x86_64 | 4.5.1 RC (2025-06-05 r88288) -- "Great Square Root" | 4614 |
| kjohnson1 | macOS 13.7.5 Ventura | arm64 | 4.5.1 Patched (2025-06-14 r88325) -- "Great Square Root" | 4555 |
| kunpeng2 | Linux (openEuler 24.03 LTS) | aarch64 | R Under development (unstable) (2025-02-19 r87757) -- "Unsuffered Consequences" | 4586 |
| Click on any hostname to see more info about the system (e.g. compilers) (*) as reported by 'uname -p', except on Windows and Mac OS X | ||||
| Package 617/2341 | Hostname | OS / Arch | INSTALL | BUILD | CHECK | BUILD BIN | ||||||||
| drawProteins 1.28.0 (landing page) Paul Brennan
| nebbiolo1 | Linux (Ubuntu 24.04.3 LTS) / x86_64 | OK | OK | ERROR | |||||||||
| merida1 | macOS 12.7.6 Monterey / x86_64 | OK | OK | ERROR | OK | |||||||||
| kjohnson1 | macOS 13.7.5 Ventura / arm64 | OK | OK | ERROR | OK | |||||||||
| kunpeng2 | Linux (openEuler 24.03 LTS) / aarch64 | OK | OK | ERROR | ||||||||||
|
To the developers/maintainers of the drawProteins package: - Allow up to 24 hours (and sometimes 48 hours) for your latest push to git@git.bioconductor.org:packages/drawProteins.git to reflect on this report. See Troubleshooting Build Report for more information. - Use the following Renviron settings to reproduce errors and warnings. - If 'R CMD check' started to fail recently on the Linux builder(s) over a missing dependency, add the missing dependency to 'Suggests:' in your DESCRIPTION file. See Renviron.bioc for more information. |
| Package: drawProteins |
| Version: 1.28.0 |
| Command: /home/biocbuild/bbs-3.21-bioc/R/bin/R CMD check --install=check:drawProteins.install-out.txt --library=/home/biocbuild/bbs-3.21-bioc/R/site-library --timings drawProteins_1.28.0.tar.gz |
| StartedAt: 2025-10-15 22:48:59 -0400 (Wed, 15 Oct 2025) |
| EndedAt: 2025-10-15 22:50:05 -0400 (Wed, 15 Oct 2025) |
| EllapsedTime: 66.1 seconds |
| RetCode: 1 |
| Status: ERROR |
| CheckDir: drawProteins.Rcheck |
| Warnings: NA |
##############################################################################
##############################################################################
###
### Running command:
###
### /home/biocbuild/bbs-3.21-bioc/R/bin/R CMD check --install=check:drawProteins.install-out.txt --library=/home/biocbuild/bbs-3.21-bioc/R/site-library --timings drawProteins_1.28.0.tar.gz
###
##############################################################################
##############################################################################
* using log directory ‘/home/biocbuild/bbs-3.21-bioc/meat/drawProteins.Rcheck’
* using R version 4.5.1 (2025-06-13)
* using platform: x86_64-pc-linux-gnu
* R was compiled by
gcc (Ubuntu 13.3.0-6ubuntu2~24.04) 13.3.0
GNU Fortran (Ubuntu 13.3.0-6ubuntu2~24.04) 13.3.0
* running under: Ubuntu 24.04.3 LTS
* using session charset: UTF-8
* checking for file ‘drawProteins/DESCRIPTION’ ... OK
* this is package ‘drawProteins’ version ‘1.28.0’
* package encoding: UTF-8
* checking package namespace information ... OK
* checking package dependencies ... OK
* checking if this is a source package ... OK
* checking if there is a namespace ... OK
* checking for hidden files and directories ... OK
* checking for portable file names ... OK
* checking for sufficient/correct file permissions ... OK
* checking whether package ‘drawProteins’ can be installed ... OK
* checking installed package size ... OK
* checking package directory ... OK
* checking ‘build’ directory ... OK
* checking DESCRIPTION meta-information ... NOTE
License stub is invalid DCF.
* checking top-level files ... OK
* checking for left-over files ... OK
* checking index information ... OK
* checking package subdirectories ... NOTE
Problems with news in ‘NEWS’:
Cannot process chunk/lines:
CHANGES VERSION 0.98.1
* checking code files for non-ASCII characters ... OK
* checking R files for syntax errors ... OK
* checking whether the package can be loaded ... OK
* checking whether the package can be loaded with stated dependencies ... OK
* checking whether the package can be unloaded cleanly ... OK
* checking whether the namespace can be loaded with stated dependencies ... OK
* checking whether the namespace can be unloaded cleanly ... OK
* checking loading without being on the library search path ... OK
* checking dependencies in R code ... OK
* checking S3 generic/method consistency ... OK
* checking replacement functions ... OK
* checking foreign function calls ... OK
* checking R code for possible problems ... OK
* checking Rd files ... OK
* checking Rd metadata ... OK
* checking Rd cross-references ... OK
* checking for missing documentation entries ... OK
* checking for code/documentation mismatches ... OK
* checking Rd \usage sections ... OK
* checking Rd contents ... OK
* checking for unstated dependencies in examples ... OK
* checking contents of ‘data’ directory ... OK
* checking data for non-ASCII characters ... OK
* checking LazyData ... OK
* checking data for ASCII and uncompressed saves ... OK
* checking files in ‘vignettes’ ... OK
* checking examples ... OK
* checking for unstated dependencies in ‘tests’ ... OK
* checking tests ...
Running ‘testthat.R’
ERROR
Running the tests in ‘tests/testthat.R’ failed.
Last 13 lines of output:
1/1 mismatches
[1] 1 - 11 == -10
── Failure ('test-parsers.R:78:3'): parse_gff ──────────────────────────────────
mode(p) not equal to "list".
1/1 mismatches
x[1]: "object"
y[1]: "list"
── Failure ('test-parsers.R:79:3'): parse_gff ──────────────────────────────────
length(p) not equal to 11.
1/1 mismatches
[1] 1 - 11 == -10
[ FAIL 24 | WARN 1 | SKIP 0 | PASS 159 ]
Error: Test failures
Execution halted
* checking for unstated dependencies in vignettes ... OK
* checking package vignettes ... OK
* checking re-building of vignette outputs ... OK
* checking PDF version of manual ... OK
* DONE
Status: 1 ERROR, 2 NOTEs
See
‘/home/biocbuild/bbs-3.21-bioc/meat/drawProteins.Rcheck/00check.log’
for details.
drawProteins.Rcheck/00install.out
############################################################################## ############################################################################## ### ### Running command: ### ### /home/biocbuild/bbs-3.21-bioc/R/bin/R CMD INSTALL drawProteins ### ############################################################################## ############################################################################## * installing to library ‘/home/biocbuild/bbs-3.21-bioc/R/site-library’ * installing *source* package ‘drawProteins’ ... ** this is package ‘drawProteins’ version ‘1.28.0’ ** using staged installation ** R ** data *** moving datasets to lazyload DB ** inst ** byte-compile and prepare package for lazy loading ** help *** installing help indices ** building package indices ** installing vignettes ** testing if installed package can be loaded from temporary location ** testing if installed package can be loaded from final location ** testing if installed package keeps a record of temporary installation path * DONE (drawProteins)
drawProteins.Rcheck/tests/testthat.Rout.fail
R version 4.5.1 (2025-06-13) -- "Great Square Root"
Copyright (C) 2025 The R Foundation for Statistical Computing
Platform: x86_64-pc-linux-gnu
R is free software and comes with ABSOLUTELY NO WARRANTY.
You are welcome to redistribute it under certain conditions.
Type 'license()' or 'licence()' for distribution details.
R is a collaborative project with many contributors.
Type 'contributors()' for more information and
'citation()' on how to cite R or R packages in publications.
Type 'demo()' for some demos, 'help()' for on-line help, or
'help.start()' for an HTML browser interface to help.
Type 'q()' to quit R.
> library(testthat)
> library(drawProteins)
>
> test_check("drawProteins")
[1] "Download has worked"
[1] "An error has occured. Code: 400"
[ FAIL 24 | WARN 1 | SKIP 0 | PASS 159 ]
══ Failed tests ════════════════════════════════════════════════════════════════
── Failure ('test-geoms.R:18:3'): draw_canvas ──────────────────────────────────
mode(p) not equal to "list".
1/1 mismatches
x[1]: "object"
y[1]: "list"
── Failure ('test-geoms.R:19:3'): draw_canvas ──────────────────────────────────
length(p) not equal to 11.
1/1 mismatches
[1] 1 - 11 == -10
── Failure ('test-geoms.R:47:3'): draw_chains ──────────────────────────────────
mode(p) not equal to "list".
1/1 mismatches
x[1]: "object"
y[1]: "list"
── Failure ('test-geoms.R:48:3'): draw_chains ──────────────────────────────────
length(p) not equal to 11.
1/1 mismatches
[1] 1 - 11 == -10
── Failure ('test-geoms.R:81:3'): draw_domains ─────────────────────────────────
mode(p) not equal to "list".
1/1 mismatches
x[1]: "object"
y[1]: "list"
── Failure ('test-geoms.R:82:3'): draw_domains ─────────────────────────────────
length(p) not equal to 11.
1/1 mismatches
[1] 1 - 11 == -10
── Failure ('test-geoms.R:119:3'): draw_phospho ────────────────────────────────
mode(p) not equal to "list".
1/1 mismatches
x[1]: "object"
y[1]: "list"
── Failure ('test-geoms.R:120:3'): draw_phospho ────────────────────────────────
length(p) not equal to 11.
1/1 mismatches
[1] 1 - 11 == -10
── Failure ('test-geoms.R:153:3'): draw_motif ──────────────────────────────────
mode(p) not equal to "list".
1/1 mismatches
x[1]: "object"
y[1]: "list"
── Failure ('test-geoms.R:154:3'): draw_motif ──────────────────────────────────
length(p) not equal to 11.
1/1 mismatches
[1] 1 - 11 == -10
── Failure ('test-geoms.R:198:3'): draw_regions ────────────────────────────────
mode(p) not equal to "list".
1/1 mismatches
x[1]: "object"
y[1]: "list"
── Failure ('test-geoms.R:199:3'): draw_regions ────────────────────────────────
length(p) not equal to 11.
1/1 mismatches
[1] 1 - 11 == -10
── Failure ('test-geoms.R:244:3'): draw_repeat ─────────────────────────────────
mode(p) not equal to "list".
1/1 mismatches
x[1]: "object"
y[1]: "list"
── Failure ('test-geoms.R:245:3'): draw_repeat ─────────────────────────────────
length(p) not equal to 11.
1/1 mismatches
[1] 1 - 11 == -10
── Failure ('test-geoms.R:288:3'): draw_recept_dom ─────────────────────────────
mode(p) not equal to "list".
1/1 mismatches
x[1]: "object"
y[1]: "list"
── Failure ('test-geoms.R:289:3'): draw_recept_dom ─────────────────────────────
length(p) not equal to 11.
1/1 mismatches
[1] 1 - 11 == -10
── Failure ('test-geoms.R:315:3'): draw_recept_dom ─────────────────────────────
mode(p) not equal to "list".
1/1 mismatches
x[1]: "object"
y[1]: "list"
── Failure ('test-geoms.R:316:3'): draw_recept_dom ─────────────────────────────
length(p) not equal to 11.
1/1 mismatches
[1] 1 - 11 == -10
── Failure ('test-geoms.R:373:3'): draw_folding ────────────────────────────────
mode(p) not equal to "list".
1/1 mismatches
x[1]: "object"
y[1]: "list"
── Failure ('test-geoms.R:374:3'): draw_folding ────────────────────────────────
length(p) not equal to 11.
1/1 mismatches
[1] 1 - 11 == -10
── Failure ('test-parsers.R:30:3'): parse_gff ──────────────────────────────────
mode(p) not equal to "list".
1/1 mismatches
x[1]: "object"
y[1]: "list"
── Failure ('test-parsers.R:31:3'): parse_gff ──────────────────────────────────
length(p) not equal to 11.
1/1 mismatches
[1] 1 - 11 == -10
── Failure ('test-parsers.R:78:3'): parse_gff ──────────────────────────────────
mode(p) not equal to "list".
1/1 mismatches
x[1]: "object"
y[1]: "list"
── Failure ('test-parsers.R:79:3'): parse_gff ──────────────────────────────────
length(p) not equal to 11.
1/1 mismatches
[1] 1 - 11 == -10
[ FAIL 24 | WARN 1 | SKIP 0 | PASS 159 ]
Error: Test failures
Execution halted
drawProteins.Rcheck/drawProteins-Ex.timings
| name | user | system | elapsed | |
| draw_canvas | 0.221 | 0.011 | 0.232 | |
| draw_chains | 0.549 | 0.006 | 0.556 | |
| draw_domains | 0.396 | 0.003 | 0.398 | |
| draw_folding | 0.573 | 0.001 | 0.574 | |
| draw_motif | 0.280 | 0.001 | 0.281 | |
| draw_phospho | 0.233 | 0.001 | 0.234 | |
| draw_recept_dom | 0.370 | 0.000 | 0.369 | |
| draw_regions | 0.306 | 0.001 | 0.307 | |
| draw_repeat | 0.264 | 0.001 | 0.266 | |
| extract_feat_acc | 0.007 | 0.000 | 0.008 | |
| extract_names | 0.002 | 0.002 | 0.004 | |
| extract_transcripts | 0.025 | 0.000 | 0.026 | |
| feature_to_dataframe | 0.018 | 0.000 | 0.019 | |
| get_features | 0.116 | 0.006 | 1.509 | |
| parse_gff | 0.540 | 0.054 | 1.785 | |
| phospho_site_info | 0.003 | 0.001 | 0.004 | |