| Back to Multiple platform build/check report for BioC 3.21: simplified long |
|
This page was generated on 2025-04-22 13:16 -0400 (Tue, 22 Apr 2025).
| Hostname | OS | Arch (*) | R version | Installed pkgs |
|---|---|---|---|---|
| nebbiolo1 | Linux (Ubuntu 24.04.1 LTS) | x86_64 | 4.5.0 RC (2025-04-04 r88126) -- "How About a Twenty-Six" | 4831 |
| palomino7 | Windows Server 2022 Datacenter | x64 | 4.5.0 RC (2025-04-04 r88126 ucrt) -- "How About a Twenty-Six" | 4573 |
| lconway | macOS 12.7.1 Monterey | x86_64 | 4.5.0 RC (2025-04-04 r88126) -- "How About a Twenty-Six" | 4599 |
| kjohnson3 | macOS 13.7.1 Ventura | arm64 | 4.5.0 RC (2025-04-04 r88126) -- "How About a Twenty-Six" | 4553 |
| kunpeng2 | Linux (openEuler 24.03 LTS) | aarch64 | R Under development (unstable) (2025-02-19 r87757) -- "Unsuffered Consequences" | 4570 |
| Click on any hostname to see more info about the system (e.g. compilers) (*) as reported by 'uname -p', except on Windows and Mac OS X | ||||
| Package 556/2341 | Hostname | OS / Arch | INSTALL | BUILD | CHECK | BUILD BIN | ||||||||
| densvis 1.18.0 (landing page) Alan O'Callaghan
| nebbiolo1 | Linux (Ubuntu 24.04.1 LTS) / x86_64 | OK | OK | OK | |||||||||
| palomino7 | Windows Server 2022 Datacenter / x64 | OK | OK | OK | OK | |||||||||
| lconway | macOS 12.7.1 Monterey / x86_64 | OK | OK | OK | OK | |||||||||
| kjohnson3 | macOS 13.7.1 Ventura / arm64 | OK | OK | OK | OK | |||||||||
| kunpeng2 | Linux (openEuler 24.03 LTS) / aarch64 | OK | OK | OK | ||||||||||
|
To the developers/maintainers of the densvis package: - Allow up to 24 hours (and sometimes 48 hours) for your latest push to git@git.bioconductor.org:packages/densvis.git to reflect on this report. See Troubleshooting Build Report for more information. - Use the following Renviron settings to reproduce errors and warnings. - If 'R CMD check' started to fail recently on the Linux builder(s) over a missing dependency, add the missing dependency to 'Suggests:' in your DESCRIPTION file. See Renviron.bioc for more information. |
| Package: densvis |
| Version: 1.18.0 |
| Command: /Library/Frameworks/R.framework/Resources/bin/R CMD INSTALL densvis |
| StartedAt: 2025-04-21 15:11:47 -0400 (Mon, 21 Apr 2025) |
| EndedAt: 2025-04-21 15:12:11 -0400 (Mon, 21 Apr 2025) |
| EllapsedTime: 23.5 seconds |
| RetCode: 0 |
| Status: OK |
##############################################################################
##############################################################################
###
### Running command:
###
### /Library/Frameworks/R.framework/Resources/bin/R CMD INSTALL densvis
###
##############################################################################
##############################################################################
* installing to library ‘/Library/Frameworks/R.framework/Versions/4.5-x86_64/Resources/library’
* installing *source* package ‘densvis’ ...
** this is package ‘densvis’ version ‘1.18.0’
** using non-staged installation via StagedInstall field
** libs
using C++ compiler: ‘Apple clang version 14.0.0 (clang-1400.0.29.202)’
using SDK: ‘MacOSX11.3.sdk’
clang++ -arch x86_64 -std=gnu++17 -I"/Library/Frameworks/R.framework/Resources/include" -DNDEBUG -I'/Library/Frameworks/R.framework/Versions/4.5-x86_64/Resources/library/Rcpp/include' -I/opt/R/x86_64/include -fPIC -falign-functions=64 -Wall -g -O2 -c RcppExports.cpp -o RcppExports.o
clang++ -arch x86_64 -std=gnu++17 -I"/Library/Frameworks/R.framework/Resources/include" -DNDEBUG -I'/Library/Frameworks/R.framework/Versions/4.5-x86_64/Resources/library/Rcpp/include' -I/opt/R/x86_64/include -fPIC -falign-functions=64 -Wall -g -O2 -c densne.cpp -o densne.o
densne.cpp:181:24: warning: variable 'row_P' is used uninitialized whenever 'for' loop exits because its condition is false [-Wsometimes-uninitialized]
for(int i = 0; i < N * N; i++) P[i] /= sum_P;
^~~~~~~~~
densne.cpp:201:33: note: uninitialized use occurs here
computeExpectedLogDist(&ro, row_P, col_P, val_P, val_D, N, logdist_shift);
^~~~~
densne.cpp:181:24: note: remove the condition if it is always true
for(int i = 0; i < N * N; i++) P[i] /= sum_P;
^~~~~~~~~
densne.cpp:154:35: note: initialize the variable 'row_P' to silence this warning
double* P; unsigned int* row_P; unsigned int* col_P; double* val_P; double* val_D;
^
= nullptr
densne.cpp:181:24: warning: variable 'col_P' is used uninitialized whenever 'for' loop exits because its condition is false [-Wsometimes-uninitialized]
for(int i = 0; i < N * N; i++) P[i] /= sum_P;
^~~~~~~~~
densne.cpp:201:40: note: uninitialized use occurs here
computeExpectedLogDist(&ro, row_P, col_P, val_P, val_D, N, logdist_shift);
^~~~~
densne.cpp:181:24: note: remove the condition if it is always true
for(int i = 0; i < N * N; i++) P[i] /= sum_P;
^~~~~~~~~
densne.cpp:154:56: note: initialize the variable 'col_P' to silence this warning
double* P; unsigned int* row_P; unsigned int* col_P; double* val_P; double* val_D;
^
= nullptr
densne.cpp:181:24: warning: variable 'val_P' is used uninitialized whenever 'for' loop exits because its condition is false [-Wsometimes-uninitialized]
for(int i = 0; i < N * N; i++) P[i] /= sum_P;
^~~~~~~~~
densne.cpp:201:47: note: uninitialized use occurs here
computeExpectedLogDist(&ro, row_P, col_P, val_P, val_D, N, logdist_shift);
^~~~~
densne.cpp:181:24: note: remove the condition if it is always true
for(int i = 0; i < N * N; i++) P[i] /= sum_P;
^~~~~~~~~
densne.cpp:154:71: note: initialize the variable 'val_P' to silence this warning
double* P; unsigned int* row_P; unsigned int* col_P; double* val_P; double* val_D;
^
= nullptr
densne.cpp:181:24: warning: variable 'val_D' is used uninitialized whenever 'for' loop exits because its condition is false [-Wsometimes-uninitialized]
for(int i = 0; i < N * N; i++) P[i] /= sum_P;
^~~~~~~~~
densne.cpp:201:54: note: uninitialized use occurs here
computeExpectedLogDist(&ro, row_P, col_P, val_P, val_D, N, logdist_shift);
^~~~~
densne.cpp:181:24: note: remove the condition if it is always true
for(int i = 0; i < N * N; i++) P[i] /= sum_P;
^~~~~~~~~
densne.cpp:154:86: note: initialize the variable 'val_D' to silence this warning
double* P; unsigned int* row_P; unsigned int* col_P; double* val_P; double* val_D;
^
= nullptr
4 warnings generated.
clang++ -arch x86_64 -std=gnu++17 -I"/Library/Frameworks/R.framework/Resources/include" -DNDEBUG -I'/Library/Frameworks/R.framework/Versions/4.5-x86_64/Resources/library/Rcpp/include' -I/opt/R/x86_64/include -fPIC -falign-functions=64 -Wall -g -O2 -c densvis.cpp -o densvis.o
clang++ -arch x86_64 -std=gnu++17 -I"/Library/Frameworks/R.framework/Resources/include" -DNDEBUG -I'/Library/Frameworks/R.framework/Versions/4.5-x86_64/Resources/library/Rcpp/include' -I/opt/R/x86_64/include -fPIC -falign-functions=64 -Wall -g -O2 -c sptree.cpp -o sptree.o
clang++ -arch x86_64 -std=gnu++17 -dynamiclib -Wl,-headerpad_max_install_names -undefined dynamic_lookup -L/Library/Frameworks/R.framework/Resources/lib -L/opt/R/x86_64/lib -o densvis.so RcppExports.o densne.o densvis.o sptree.o -L/Library/Frameworks/R.framework/Resources/lib -lRlapack -L/Library/Frameworks/R.framework/Resources/lib -lRblas -L/opt/gfortran/lib/gcc/x86_64-apple-darwin20.0/14.2.0 -L/opt/gfortran/lib -lemutls_w -lheapt_w -lgfortran -lquadmath -F/Library/Frameworks/R.framework/.. -framework R
installing to /Library/Frameworks/R.framework/Versions/4.5-x86_64/Resources/library/densvis/libs
** R
** inst
** byte-compile and prepare package for lazy loading
** help
*** installing help indices
** building package indices
** installing vignettes
** testing if installed package can be loaded
* DONE (densvis)