Back to Multiple platform build/check report for BioC 3.20: simplified long |
|
This page was generated on 2025-02-03 12:11 -0500 (Mon, 03 Feb 2025).
Hostname | OS | Arch (*) | R version | Installed pkgs |
---|---|---|---|---|
nebbiolo2 | Linux (Ubuntu 24.04.1 LTS) | x86_64 | 4.4.2 (2024-10-31) -- "Pile of Leaves" | 4746 |
palomino8 | Windows Server 2022 Datacenter | x64 | 4.4.2 (2024-10-31 ucrt) -- "Pile of Leaves" | 4494 |
merida1 | macOS 12.7.5 Monterey | x86_64 | 4.4.2 (2024-10-31) -- "Pile of Leaves" | 4517 |
kjohnson1 | macOS 13.6.6 Ventura | arm64 | 4.4.2 (2024-10-31) -- "Pile of Leaves" | 4469 |
taishan | Linux (openEuler 24.03 LTS) | aarch64 | 4.4.2 (2024-10-31) -- "Pile of Leaves" | 4400 |
Click on any hostname to see more info about the system (e.g. compilers) (*) as reported by 'uname -p', except on Windows and Mac OS X |
Package 538/2289 | Hostname | OS / Arch | INSTALL | BUILD | CHECK | BUILD BIN | ||||||||
deltaCaptureC 1.20.0 (landing page) Michael Shapiro
| nebbiolo2 | Linux (Ubuntu 24.04.1 LTS) / x86_64 | OK | OK | OK | |||||||||
palomino8 | Windows Server 2022 Datacenter / x64 | OK | OK | OK | OK | |||||||||
merida1 | macOS 12.7.5 Monterey / x86_64 | OK | OK | OK | OK | |||||||||
kjohnson1 | macOS 13.6.6 Ventura / arm64 | OK | OK | OK | OK | |||||||||
taishan | Linux (openEuler 24.03 LTS) / aarch64 | OK | OK | OK | ||||||||||
To the developers/maintainers of the deltaCaptureC package: - Allow up to 24 hours (and sometimes 48 hours) for your latest push to git@git.bioconductor.org:packages/deltaCaptureC.git to reflect on this report. See Troubleshooting Build Report for more information. - Use the following Renviron settings to reproduce errors and warnings. - If 'R CMD check' started to fail recently on the Linux builder(s) over a missing dependency, add the missing dependency to 'Suggests:' in your DESCRIPTION file. See Renviron.bioc for more information. - See Martin Grigorov's blog post for how to debug Linux ARM64 related issues on a x86_64 host. |
Package: deltaCaptureC |
Version: 1.20.0 |
Command: /home/biocbuild/R/R/bin/R CMD check --install=check:deltaCaptureC.install-out.txt --library=/home/biocbuild/R/R/site-library --no-vignettes --timings deltaCaptureC_1.20.0.tar.gz |
StartedAt: 2025-01-31 05:34:21 -0000 (Fri, 31 Jan 2025) |
EndedAt: 2025-01-31 05:40:04 -0000 (Fri, 31 Jan 2025) |
EllapsedTime: 342.4 seconds |
RetCode: 0 |
Status: OK |
CheckDir: deltaCaptureC.Rcheck |
Warnings: 0 |
############################################################################## ############################################################################## ### ### Running command: ### ### /home/biocbuild/R/R/bin/R CMD check --install=check:deltaCaptureC.install-out.txt --library=/home/biocbuild/R/R/site-library --no-vignettes --timings deltaCaptureC_1.20.0.tar.gz ### ############################################################################## ############################################################################## * using log directory ‘/home/biocbuild/bbs-3.20-bioc/meat/deltaCaptureC.Rcheck’ * using R version 4.4.2 (2024-10-31) * using platform: aarch64-unknown-linux-gnu * R was compiled by aarch64-unknown-linux-gnu-gcc (GCC) 14.2.0 GNU Fortran (GCC) 12.3.1 (openEuler 12.3.1-36.oe2403) * running under: openEuler 24.03 (LTS) * using session charset: UTF-8 * using option ‘--no-vignettes’ * checking for file ‘deltaCaptureC/DESCRIPTION’ ... OK * this is package ‘deltaCaptureC’ version ‘1.20.0’ * package encoding: UTF-8 * checking package namespace information ... OK * checking package dependencies ... OK * checking if this is a source package ... OK * checking if there is a namespace ... OK * checking for hidden files and directories ... OK * checking for portable file names ... OK * checking for sufficient/correct file permissions ... OK * checking whether package ‘deltaCaptureC’ can be installed ... OK * checking installed package size ... OK * checking package directory ... OK * checking ‘build’ directory ... OK * checking DESCRIPTION meta-information ... OK * checking top-level files ... OK * checking for left-over files ... OK * checking index information ... OK * checking package subdirectories ... OK * checking code files for non-ASCII characters ... OK * checking R files for syntax errors ... OK * checking whether the package can be loaded ... OK * checking whether the package can be loaded with stated dependencies ... OK * checking whether the package can be unloaded cleanly ... OK * checking whether the namespace can be loaded with stated dependencies ... OK * checking whether the namespace can be unloaded cleanly ... OK * checking loading without being on the library search path ... OK * checking dependencies in R code ... NOTE Namespace in Imports field not imported from: ‘tictoc’ All declared Imports should be used. * checking S3 generic/method consistency ... OK * checking replacement functions ... OK * checking foreign function calls ... OK * checking R code for possible problems ... NOTE getDeltaSE: warning in SummarizedExperiment(assay = list(delta = delta), colData = colData): partial argument match of 'assay' to 'assays' plotSignificantRegions: no visible binding for global variable ‘ctr’ plotSignificantRegions: no visible binding for global variable ‘delta’ plotSignificantRegions: no visible binding for global variable ‘significance’ Undefined global functions or variables: ctr delta significance * checking Rd files ... OK * checking Rd metadata ... OK * checking Rd cross-references ... OK * checking for missing documentation entries ... OK * checking for code/documentation mismatches ... OK * checking Rd \usage sections ... OK * checking Rd contents ... OK * checking for unstated dependencies in examples ... OK * checking contents of ‘data’ directory ... OK * checking data for non-ASCII characters ... OK * checking LazyData ... OK * checking data for ASCII and uncompressed saves ... OK * checking files in ‘vignettes’ ... OK * checking examples ... OK Examples with CPU (user + system) or elapsed time > 5s user system elapsed binSummarizedExperiment 117.404 1.583 123.252 getOverlapWeights 13.736 0.142 13.933 * checking for unstated dependencies in vignettes ... OK * checking package vignettes ... OK * checking running R code from vignettes ... SKIPPED * checking re-building of vignette outputs ... SKIPPED * checking PDF version of manual ... OK * DONE Status: 2 NOTEs See ‘/home/biocbuild/bbs-3.20-bioc/meat/deltaCaptureC.Rcheck/00check.log’ for details.
deltaCaptureC.Rcheck/00install.out
############################################################################## ############################################################################## ### ### Running command: ### ### /home/biocbuild/R/R/bin/R CMD INSTALL deltaCaptureC ### ############################################################################## ############################################################################## * installing to library ‘/home/biocbuild/R/R-4.4.2/site-library’ * installing *source* package ‘deltaCaptureC’ ... ** using staged installation ** R ** data *** moving datasets to lazyload DB ** inst ** byte-compile and prepare package for lazy loading ** help *** installing help indices ** building package indices ** installing vignettes ** testing if installed package can be loaded from temporary location ** testing if installed package can be loaded from final location ** testing if installed package keeps a record of temporary installation path * DONE (deltaCaptureC)
deltaCaptureC.Rcheck/deltaCaptureC-Ex.timings
name | user | system | elapsed | |
binSummarizedExperiment | 117.404 | 1.583 | 123.252 | |
downshiftDFtoMatrix | 0.002 | 0.000 | 0.003 | |
generatePermutation | 0.026 | 0.000 | 0.026 | |
getDeltaSE | 0.384 | 0.012 | 0.397 | |
getLopsidedness | 0.088 | 0.000 | 0.088 | |
getMeanNormalizedCountsSE | 0.213 | 0.000 | 0.214 | |
getNormalizedCountsSE | 0.164 | 0.004 | 0.169 | |
getOverlapWeights | 13.736 | 0.142 | 13.933 | |
getPValueCutoff | 0.000 | 0.000 | 0.001 | |
getRunTotals | 0.152 | 0.000 | 0.154 | |
getSizeFactorsDF | 0.002 | 0.000 | 0.003 | |
getSizeFactorsSE | 0.021 | 0.000 | 0.021 | |
plotSignificantRegions | 0.079 | 0.000 | 0.078 | |
rebinToMultiple | 0.653 | 0.035 | 0.694 | |