Back to Multiple platform build/check report for BioC 3.22:   simplified   long
ABC[D]EFGHIJKLMNOPQRSTUVWXYZ

This page was generated on 2025-10-31 12:04 -0400 (Fri, 31 Oct 2025).

HostnameOSArch (*)R versionInstalled pkgs
nebbiolo2Linux (Ubuntu 24.04.3 LTS)x86_644.5.1 Patched (2025-08-23 r88802) -- "Great Square Root" 4901
lconwaymacOS 12.7.6 Montereyx86_644.5.1 Patched (2025-09-10 r88807) -- "Great Square Root" 4691
kjohnson3macOS 13.7.7 Venturaarm644.5.1 Patched (2025-09-10 r88807) -- "Great Square Root" 4637
Click on any hostname to see more info about the system (e.g. compilers)      (*) as reported by 'uname -p', except on Windows and Mac OS X

Package 535/2361HostnameOS / ArchINSTALLBUILDCHECKBUILD BIN
decompTumor2Sig 2.26.0  (landing page)
Rosario M. Piro
Snapshot Date: 2025-10-30 13:45 -0400 (Thu, 30 Oct 2025)
git_url: https://git.bioconductor.org/packages/decompTumor2Sig
git_branch: RELEASE_3_22
git_last_commit: 1228e7c
git_last_commit_date: 2025-10-29 10:49:06 -0400 (Wed, 29 Oct 2025)
nebbiolo2Linux (Ubuntu 24.04.3 LTS) / x86_64  OK    OK    OK  UNNEEDED, same version is already published
lconwaymacOS 12.7.6 Monterey / x86_64  OK    OK    OK    OK  UNNEEDED, same version is already published
kjohnson3macOS 13.7.7 Ventura / arm64  OK    TIMEOUT  skippedskipped


CHECK results for decompTumor2Sig on lconway

To the developers/maintainers of the decompTumor2Sig package:
- Allow up to 24 hours (and sometimes 48 hours) for your latest push to git@git.bioconductor.org:packages/decompTumor2Sig.git to reflect on this report. See Troubleshooting Build Report for more information.
- Use the following Renviron settings to reproduce errors and warnings.
- If 'R CMD check' started to fail recently on the Linux builder(s) over a missing dependency, add the missing dependency to 'Suggests:' in your DESCRIPTION file. See Renviron.bioc for more information.

raw results


Summary

Package: decompTumor2Sig
Version: 2.26.0
Command: /Library/Frameworks/R.framework/Resources/bin/R CMD check --install=check:decompTumor2Sig.install-out.txt --library=/Library/Frameworks/R.framework/Resources/library --no-vignettes --timings decompTumor2Sig_2.26.0.tar.gz
StartedAt: 2025-10-30 20:28:15 -0400 (Thu, 30 Oct 2025)
EndedAt: 2025-10-30 20:35:48 -0400 (Thu, 30 Oct 2025)
EllapsedTime: 452.3 seconds
RetCode: 0
Status:   OK  
CheckDir: decompTumor2Sig.Rcheck
Warnings: 0

Command output

##############################################################################
##############################################################################
###
### Running command:
###
###   /Library/Frameworks/R.framework/Resources/bin/R CMD check --install=check:decompTumor2Sig.install-out.txt --library=/Library/Frameworks/R.framework/Resources/library --no-vignettes --timings decompTumor2Sig_2.26.0.tar.gz
###
##############################################################################
##############################################################################


* using log directory ‘/Users/biocbuild/bbs-3.22-bioc/meat/decompTumor2Sig.Rcheck’
* using R version 4.5.1 Patched (2025-09-10 r88807)
* using platform: x86_64-apple-darwin20
* R was compiled by
    Apple clang version 14.0.0 (clang-1400.0.29.202)
    GNU Fortran (GCC) 14.2.0
* running under: macOS Monterey 12.7.6
* using session charset: UTF-8
* using option ‘--no-vignettes’
* checking for file ‘decompTumor2Sig/DESCRIPTION’ ... OK
* checking extension type ... Package
* this is package ‘decompTumor2Sig’ version ‘2.26.0’
* package encoding: UTF-8
* checking package namespace information ... OK
* checking package dependencies ... OK
* checking if this is a source package ... OK
* checking if there is a namespace ... OK
* checking for hidden files and directories ... OK
* checking for portable file names ... OK
* checking for sufficient/correct file permissions ... OK
* checking whether package ‘decompTumor2Sig’ can be installed ... OK
* checking installed package size ... OK
* checking package directory ... OK
* checking ‘build’ directory ... OK
* checking DESCRIPTION meta-information ... OK
* checking top-level files ... NOTE
File
  inst/LICENSE
will install at top-level and is not mentioned in the DESCRIPTION file.
* checking for left-over files ... OK
* checking index information ... OK
* checking package subdirectories ... OK
* checking code files for non-ASCII characters ... OK
* checking R files for syntax errors ... OK
* checking whether the package can be loaded ... OK
* checking whether the package can be loaded with stated dependencies ... OK
* checking whether the package can be unloaded cleanly ... OK
* checking whether the namespace can be loaded with stated dependencies ... OK
* checking whether the namespace can be unloaded cleanly ... OK
* checking whether startup messages can be suppressed ... OK
* checking dependencies in R code ... OK
* checking S3 generic/method consistency ... OK
* checking replacement functions ... OK
* checking foreign function calls ... OK
* checking R code for possible problems ... OK
* checking Rd files ... OK
* checking Rd metadata ... OK
* checking Rd cross-references ... OK
* checking for missing documentation entries ... OK
* checking for code/documentation mismatches ... OK
* checking Rd \usage sections ... OK
* checking Rd contents ... OK
* checking for unstated dependencies in examples ... OK
* checking files in ‘vignettes’ ... OK
* checking examples ... OK
Examples with CPU (user + system) or elapsed time > 5s
                               user system elapsed
plotExplainedVariance        66.473  0.434  67.202
convertGenomesFromVRanges     7.065  0.620   7.802
readGenomesFromVCF            5.951  1.170   9.230
adjustSignaturesForRegionSet  4.777  0.427   6.622
decomposeTumorGenomes         4.224  0.431   5.334
readGenomesFromMPF            3.997  0.534   6.085
* checking for unstated dependencies in vignettes ... OK
* checking package vignettes ... OK
* checking running R code from vignettes ... SKIPPED
* checking re-building of vignette outputs ... SKIPPED
* checking PDF version of manual ... OK
* DONE

Status: 1 NOTE
See
  ‘/Users/biocbuild/bbs-3.22-bioc/meat/decompTumor2Sig.Rcheck/00check.log’
for details.


Installation output

decompTumor2Sig.Rcheck/00install.out

##############################################################################
##############################################################################
###
### Running command:
###
###   /Library/Frameworks/R.framework/Resources/bin/R CMD INSTALL decompTumor2Sig
###
##############################################################################
##############################################################################


* installing to library ‘/Library/Frameworks/R.framework/Versions/4.5-x86_64/Resources/library’
* installing *source* package ‘decompTumor2Sig’ ...
** this is package ‘decompTumor2Sig’ version ‘2.26.0’
** using staged installation
** R
** inst
** byte-compile and prepare package for lazy loading
** help
*** installing help indices
** building package indices
** installing vignettes
** testing if installed package can be loaded from temporary location
** testing if installed package can be loaded from final location
** testing if installed package keeps a record of temporary installation path
* DONE (decompTumor2Sig)

Tests output


Example timings

decompTumor2Sig.Rcheck/decompTumor2Sig-Ex.timings

nameusersystemelapsed
adjustSignaturesForRegionSet4.7770.4276.622
composeGenomesFromExposures0.2720.0331.386
computeExplainedVariance0.2270.0120.877
convertAlexandrov2Shiraishi0.0770.0060.717
convertGenomesFromVRanges7.0650.6207.802
decomposeTumorGenomes4.2240.4315.334
determineSignatureDistances0.0890.0050.728
downgradeShiraishiSignatures0.0070.0030.011
evaluateDecompositionQuality0.1950.0060.835
getGenomesFromMutFeatData0.3830.0070.391
getSignaturesFromEstParam0.1510.0030.155
isAlexandrovSet0.0880.0160.740
isExposureSet3.2410.4224.418
isShiraishiSet0.0800.0041.017
isSignatureSet0.0560.0030.693
mapSignatureSets0.1560.0310.832
plotDecomposedContribution0.6150.0141.270
plotExplainedVariance66.473 0.43467.202
plotMutationDistribution3.6640.0364.351
readAlexandrovSignatures0.0500.0030.692
readGenomesFromMPF3.9970.5346.085
readGenomesFromVCF5.9511.1709.230
readShiraishiSignatures0.0050.0030.008
sameSignatureFormat0.0690.0040.820