Back to Multiple platform build/check report for BioC 3.22:   simplified   long
ABC[D]EFGHIJKLMNOPQRSTUVWXYZ

This page was generated on 2025-11-20 12:03 -0500 (Thu, 20 Nov 2025).

HostnameOSArch (*)R versionInstalled pkgs
nebbiolo2Linux (Ubuntu 24.04.3 LTS)x86_644.5.2 (2025-10-31) -- "[Not] Part in a Rumble" 4615
merida1macOS 12.7.6 Montereyx86_644.5.2 Patched (2025-11-05 r88990) -- "[Not] Part in a Rumble" 4610
kjohnson1macOS 13.7.5 Venturaarm644.5.2 Patched (2025-11-04 r88984) -- "[Not] Part in a Rumble" 4598
taishanLinux (openEuler 24.03 LTS)aarch644.5.0 (2025-04-11) -- "How About a Twenty-Six" 4668
Click on any hostname to see more info about the system (e.g. compilers)      (*) as reported by 'uname -p', except on Windows and Mac OS X

Package 533/2361HostnameOS / ArchINSTALLBUILDCHECKBUILD BIN
debrowser 1.38.0  (landing page)
Alper Kucukural
Snapshot Date: 2025-11-17 13:45 -0500 (Mon, 17 Nov 2025)
git_url: https://git.bioconductor.org/packages/debrowser
git_branch: RELEASE_3_22
git_last_commit: 5dcc10b
git_last_commit_date: 2025-10-29 10:30:54 -0500 (Wed, 29 Oct 2025)
nebbiolo2Linux (Ubuntu 24.04.3 LTS) / x86_64  OK    OK    OK  UNNEEDED, same version is already published
merida1macOS 12.7.6 Monterey / x86_64  OK    OK    OK    OK  UNNEEDED, same version is already published
kjohnson1macOS 13.7.5 Ventura / arm64  OK    OK    OK    OK  UNNEEDED, same version is already published
taishanLinux (openEuler 24.03 LTS) / aarch64  OK    OK    OK  


CHECK results for debrowser on nebbiolo2

To the developers/maintainers of the debrowser package:
- Allow up to 24 hours (and sometimes 48 hours) for your latest push to git@git.bioconductor.org:packages/debrowser.git to reflect on this report. See Troubleshooting Build Report for more information.
- Use the following Renviron settings to reproduce errors and warnings.
- If 'R CMD check' started to fail recently on the Linux builder(s) over a missing dependency, add the missing dependency to 'Suggests:' in your DESCRIPTION file. See Renviron.bioc for more information.

raw results


Summary

Package: debrowser
Version: 1.38.0
Command: /home/biocbuild/bbs-3.22-bioc/R/bin/R CMD check --install=check:debrowser.install-out.txt --library=/home/biocbuild/bbs-3.22-bioc/R/site-library --timings debrowser_1.38.0.tar.gz
StartedAt: 2025-11-18 02:47:11 -0500 (Tue, 18 Nov 2025)
EndedAt: 2025-11-18 02:56:00 -0500 (Tue, 18 Nov 2025)
EllapsedTime: 528.4 seconds
RetCode: 0
Status:   OK  
CheckDir: debrowser.Rcheck
Warnings: 0

Command output

##############################################################################
##############################################################################
###
### Running command:
###
###   /home/biocbuild/bbs-3.22-bioc/R/bin/R CMD check --install=check:debrowser.install-out.txt --library=/home/biocbuild/bbs-3.22-bioc/R/site-library --timings debrowser_1.38.0.tar.gz
###
##############################################################################
##############################################################################


* using log directory ‘/home/biocbuild/bbs-3.22-bioc/meat/debrowser.Rcheck’
* using R version 4.5.2 (2025-10-31)
* using platform: x86_64-pc-linux-gnu
* R was compiled by
    gcc (Ubuntu 13.3.0-6ubuntu2~24.04) 13.3.0
    GNU Fortran (Ubuntu 13.3.0-6ubuntu2~24.04) 13.3.0
* running under: Ubuntu 24.04.3 LTS
* using session charset: UTF-8
* checking for file ‘debrowser/DESCRIPTION’ ... OK
* checking extension type ... Package
* this is package ‘debrowser’ version ‘1.38.0’
* package encoding: UTF-8
* checking package namespace information ... OK
* checking package dependencies ... INFO
Imports includes 35 non-default packages.
Importing from so many packages makes the package vulnerable to any of
them becoming unavailable.  Move as many as possible to Suggests and
use conditionally.
* checking if this is a source package ... OK
* checking if there is a namespace ... OK
* checking for hidden files and directories ... OK
* checking for portable file names ... OK
* checking for sufficient/correct file permissions ... OK
* checking whether package ‘debrowser’ can be installed ... OK
* checking installed package size ... OK
* checking package directory ... OK
* checking ‘build’ directory ... OK
* checking DESCRIPTION meta-information ... OK
* checking top-level files ... OK
* checking for left-over files ... OK
* checking index information ... OK
* checking package subdirectories ... OK
* checking code files for non-ASCII characters ... OK
* checking R files for syntax errors ... OK
* checking whether the package can be loaded ... OK
* checking whether the package can be loaded with stated dependencies ... OK
* checking whether the package can be unloaded cleanly ... OK
* checking whether the namespace can be loaded with stated dependencies ... OK
* checking whether the namespace can be unloaded cleanly ... OK
* checking loading without being on the library search path ... OK
* checking whether startup messages can be suppressed ... OK
* checking dependencies in R code ... OK
* checking S3 generic/method consistency ... OK
* checking replacement functions ... OK
* checking foreign function calls ... OK
* checking R code for possible problems ... NOTE
checkCountData : <anonymous>: no visible binding for global variable
  ‘err’
debrowserdataload: no visible binding for global variable ‘demodata’
debrowserhistogram: no visible global function definition for ‘config’
generateTestData: no visible binding for global variable ‘metadata’
getBarMainPlot: no visible global function definition for ‘config’
getBoxMainPlot: no visible global function definition for ‘config’
getDensityPlot: no visible binding for global variable ‘samples’
getDensityPlot: no visible global function definition for ‘config’
getGOPlots: no visible global function definition for ‘facet_grid’
getGSEA: no visible global function definition for ‘is’
getIQRPlot: no visible global function definition for ‘config’
mainScatterNew: no visible global function definition for ‘config’
plot_pca: no visible binding for global variable ‘x’
plot_pca: no visible binding for global variable ‘y’
plot_pca: no visible binding for global variable ‘textName’
plot_pca: no visible global function definition for ‘config’
runHeatmap: no visible global function definition for ‘config’
Undefined global functions or variables:
  config demodata err facet_grid is metadata samples textName x y
Consider adding
  importFrom("methods", "is")
to your NAMESPACE file (and ensure that your DESCRIPTION Imports field
contains 'methods').
* checking Rd files ... OK
* checking Rd metadata ... OK
* checking Rd cross-references ... OK
* checking for missing documentation entries ... OK
* checking for code/documentation mismatches ... OK
* checking Rd \usage sections ... OK
* checking Rd contents ... OK
* checking for unstated dependencies in examples ... OK
* checking files in ‘vignettes’ ... OK
* checking examples ... OK
* checking for unstated dependencies in ‘tests’ ... OK
* checking tests ...
  Running ‘test-demo.R’
  Running ‘test-deseq.R’
  Running ‘test-null.R’
  Running ‘test-ui.R’
 OK
* checking for unstated dependencies in vignettes ... OK
* checking package vignettes ... OK
* checking re-building of vignette outputs ... OK
* checking PDF version of manual ... OK
* DONE

Status: 1 NOTE
See
  ‘/home/biocbuild/bbs-3.22-bioc/meat/debrowser.Rcheck/00check.log’
for details.


Installation output

debrowser.Rcheck/00install.out

##############################################################################
##############################################################################
###
### Running command:
###
###   /home/biocbuild/bbs-3.22-bioc/R/bin/R CMD INSTALL debrowser
###
##############################################################################
##############################################################################


* installing to library ‘/home/biocbuild/bbs-3.22-bioc/R/site-library’
* installing *source* package ‘debrowser’ ...
** this is package ‘debrowser’ version ‘1.38.0’
** using staged installation
** R
** inst
** byte-compile and prepare package for lazy loading
** help
*** installing help indices
** building package indices
** installing vignettes
** testing if installed package can be loaded from temporary location
** testing if installed package can be loaded from final location
** testing if installed package keeps a record of temporary installation path
* DONE (debrowser)

Tests output

debrowser.Rcheck/tests/test-demo.Rout


R version 4.5.2 (2025-10-31) -- "[Not] Part in a Rumble"
Copyright (C) 2025 The R Foundation for Statistical Computing
Platform: x86_64-pc-linux-gnu

R is free software and comes with ABSOLUTELY NO WARRANTY.
You are welcome to redistribute it under certain conditions.
Type 'license()' or 'licence()' for distribution details.

R is a collaborative project with many contributors.
Type 'contributors()' for more information and
'citation()' on how to cite R or R packages in publications.

Type 'demo()' for some demos, 'help()' for on-line help, or
'help.start()' for an HTML browser interface to help.
Type 'q()' to quit R.

> require(shiny)
Loading required package: shiny
> library(debrowser)



##############################################################################
Pathview is an open source software package distributed under GNU General
Public License version 3 (GPLv3). Details of GPLv3 is available at
http://www.gnu.org/licenses/gpl-3.0.html. Particullary, users are required to
formally cite the original Pathview paper (not just mention it) in publications
or products. For details, do citation("pathview") within R.

The pathview downloads and uses KEGG data. Non-academic uses may require a KEGG
license agreement (details at http://www.kegg.jp/kegg/legal.html).
##############################################################################
DEBrowser v1.38.0  For help: https://debrowser.readthedocs.org/

If you use DEBrowser in published research, please cite:

Alper Kucukural, Onur Yukselen, Deniz M. Ozata, Melissa J. Moore, Manuel Garber
DEBrowser: Interactive Differential Expression Analysis and Visualization Tool for Count Data
BMC Genomics 2019 20:6

doi:0.1186/s12864-018-5362-x

> library(testthat)
> 
> test_that("demo data can be loaded", {
+     load(system.file("extdata", "demo", "demodata.Rda",
+         package = "debrowser"))
+     expect_true(is.data.frame(demodata))
+     expect_equal(demodata[29311, 2], 2)
+     expect_equal(demodata[29311, 5], 7.1)
+     expect_equal(demodata[29311, 6], 6)
+     expect_null(demodata[1, 7])
+ })
Test passed with 5 successes 🥇.
> 
> proc.time()
   user  system elapsed 
 13.134   0.822  13.944 

debrowser.Rcheck/tests/test-deseq.Rout


R version 4.5.2 (2025-10-31) -- "[Not] Part in a Rumble"
Copyright (C) 2025 The R Foundation for Statistical Computing
Platform: x86_64-pc-linux-gnu

R is free software and comes with ABSOLUTELY NO WARRANTY.
You are welcome to redistribute it under certain conditions.
Type 'license()' or 'licence()' for distribution details.

R is a collaborative project with many contributors.
Type 'contributors()' for more information and
'citation()' on how to cite R or R packages in publications.

Type 'demo()' for some demos, 'help()' for on-line help, or
'help.start()' for an HTML browser interface to help.
Type 'q()' to quit R.

> library(debrowser)



##############################################################################
Pathview is an open source software package distributed under GNU General
Public License version 3 (GPLv3). Details of GPLv3 is available at
http://www.gnu.org/licenses/gpl-3.0.html. Particullary, users are required to
formally cite the original Pathview paper (not just mention it) in publications
or products. For details, do citation("pathview") within R.

The pathview downloads and uses KEGG data. Non-academic uses may require a KEGG
license agreement (details at http://www.kegg.jp/kegg/legal.html).
##############################################################################
DEBrowser v1.38.0  For help: https://debrowser.readthedocs.org/

If you use DEBrowser in published research, please cite:

Alper Kucukural, Onur Yukselen, Deniz M. Ozata, Melissa J. Moore, Manuel Garber
DEBrowser: Interactive Differential Expression Analysis and Visualization Tool for Count Data
BMC Genomics 2019 20:6

doi:0.1186/s12864-018-5362-x

> library(testthat)
> 
> load(system.file("extdata", "demo", "demodata.Rda",
+     package = "debrowser"))
> metadata <- metadatatable 
> columns <- c("exper_rep1", "exper_rep2", "exper_rep3",
+     "control_rep1", "control_rep2", "control_rep3")
> conds <- factor( c("Control", "Control", "Control",
+     "Treat", "Treat", "Treat") )
> data <- data.frame(demodata[, columns])
> 
> #Run DESeq2 with the following parameters
> params <- c("DESeq2", "NoCovariate", "parametric", F, "Wald", "None") 
> non_expressed_cutoff <- 10
> data <- subset(data, rowSums(data) > 10)
> test_that("Able to run DESeq2", {
+     deseqrun <- runDE(data, metadata, columns, conds, params)
+     expect_true(exists("deseqrun"))
+ })
Test passed with 1 success 🎉.
> 
> ##################################################
> deseqrun <- runDE(data, metadata, columns, conds, params)
estimating size factors
estimating dispersions
gene-wise dispersion estimates
mean-dispersion relationship
final dispersion estimates
fitting model and testing
> 
> de_res <- data.frame(deseqrun)
> norm_data <- getNormalizedMatrix(data[, columns])
> rdata <- cbind(rownames(de_res), norm_data[rownames(de_res), columns],
+                 log10(rowMeans(norm_data[rownames(de_res),
+                 paste(c("exper_rep1", "exper_rep2", "exper_rep3"))])
+                 + 0.1), log10( rowMeans( norm_data[ rownames( de_res ),
+                 paste(c("control_rep1", "control_rep2", "control_rep3"))])
+                 + 0.1), de_res[rownames(de_res),
+                 c("padj", "log2FoldChange")], 2 ^ de_res[rownames(de_res),
+                 "log2FoldChange"], -1 *
+                 log10(de_res[rownames(de_res), "padj"]))
> colnames(rdata) <- c("ID", columns, "Cond1", "Cond2", "padj",
+                 "log2FoldChange", "foldChange", "log10padj")
> rdata <- as.data.frame(rdata)
> rdata$padj[is.na(rdata$padj)] <- 1
> 
> padj_cutoff <- 0.01
> foldChange_cutoff <- 2
> 
> rdata$Legend <- character(nrow(rdata))
> rdata$Legend[rdata$log2FoldChange > log2(foldChange_cutoff) &
+         rdata$padj < padj_cutoff] <- "Up"
> rdata$Legend[rdata$log2FoldChange < log2(1 / foldChange_cutoff) &
+         rdata$padj < padj_cutoff] <- "Down"
> rdata$Legend[abs(rdata$log2FoldChange) <= 
+         log2(foldChange_cutoff)] <- "NS"
> rdata$Legend[is.null(rdata$log10padj)] <- "NA"
> rdata$Size <- character(nrow(rdata))
> rdata[, "Size"] <- "40"
> 
> dat <- rdata
> dat$M <- rdata$Cond1 - rdata$Cond2
> dat$A <- (rdata$Cond1 + rdata$Cond2) / 2
> 
> updown <- rdata[rdata$Legend=="Up" | rdata$Legend=="Down",columns]
> ##################################################
> 
> 
> 
> proc.time()
   user  system elapsed 
 28.590   0.807  29.382 

debrowser.Rcheck/tests/test-null.Rout


R version 4.5.2 (2025-10-31) -- "[Not] Part in a Rumble"
Copyright (C) 2025 The R Foundation for Statistical Computing
Platform: x86_64-pc-linux-gnu

R is free software and comes with ABSOLUTELY NO WARRANTY.
You are welcome to redistribute it under certain conditions.
Type 'license()' or 'licence()' for distribution details.

R is a collaborative project with many contributors.
Type 'contributors()' for more information and
'citation()' on how to cite R or R packages in publications.

Type 'demo()' for some demos, 'help()' for on-line help, or
'help.start()' for an HTML browser interface to help.
Type 'q()' to quit R.

> require(shiny)
Loading required package: shiny
> library(debrowser)



##############################################################################
Pathview is an open source software package distributed under GNU General
Public License version 3 (GPLv3). Details of GPLv3 is available at
http://www.gnu.org/licenses/gpl-3.0.html. Particullary, users are required to
formally cite the original Pathview paper (not just mention it) in publications
or products. For details, do citation("pathview") within R.

The pathview downloads and uses KEGG data. Non-academic uses may require a KEGG
license agreement (details at http://www.kegg.jp/kegg/legal.html).
##############################################################################
DEBrowser v1.38.0  For help: https://debrowser.readthedocs.org/

If you use DEBrowser in published research, please cite:

Alper Kucukural, Onur Yukselen, Deniz M. Ozata, Melissa J. Moore, Manuel Garber
DEBrowser: Interactive Differential Expression Analysis and Visualization Tool for Count Data
BMC Genomics 2019 20:6

doi:0.1186/s12864-018-5362-x

> library(testthat)
> 
> test_that("passing no data returns NULL", {
+     expect_null(compareClust() )
+     expect_null(getGOPlots(NULL, NULL))
+     null_deseq <- runDE(NULL)
+     expect_null(null_deseq)
+     expect_null(plot_pca(NULL))
+ })
Test passed with 4 successes 😸.
> 
> proc.time()
   user  system elapsed 
 13.121   0.916  14.023 

debrowser.Rcheck/tests/test-ui.Rout


R version 4.5.2 (2025-10-31) -- "[Not] Part in a Rumble"
Copyright (C) 2025 The R Foundation for Statistical Computing
Platform: x86_64-pc-linux-gnu

R is free software and comes with ABSOLUTELY NO WARRANTY.
You are welcome to redistribute it under certain conditions.
Type 'license()' or 'licence()' for distribution details.

R is a collaborative project with many contributors.
Type 'contributors()' for more information and
'citation()' on how to cite R or R packages in publications.

Type 'demo()' for some demos, 'help()' for on-line help, or
'help.start()' for an HTML browser interface to help.
Type 'q()' to quit R.

> require(shiny)
Loading required package: shiny
> library(debrowser)



##############################################################################
Pathview is an open source software package distributed under GNU General
Public License version 3 (GPLv3). Details of GPLv3 is available at
http://www.gnu.org/licenses/gpl-3.0.html. Particullary, users are required to
formally cite the original Pathview paper (not just mention it) in publications
or products. For details, do citation("pathview") within R.

The pathview downloads and uses KEGG data. Non-academic uses may require a KEGG
license agreement (details at http://www.kegg.jp/kegg/legal.html).
##############################################################################
DEBrowser v1.38.0  For help: https://debrowser.readthedocs.org/

If you use DEBrowser in published research, please cite:

Alper Kucukural, Onur Yukselen, Deniz M. Ozata, Melissa J. Moore, Manuel Garber
DEBrowser: Interactive Differential Expression Analysis and Visualization Tool for Count Data
BMC Genomics 2019 20:6

doi:0.1186/s12864-018-5362-x

> library(testthat)
> 
> test_that("able to create panel UI", {
+     expect_silent( QCPanel <- getQCPanel() )
+     expect_true(exists("QCPanel"))
+     expect_equal(QCPanel[[1]][[1]], "div")
+ 
+     expect_silent( downloads <- getDownloadSection() )
+     expect_true(exists("downloads"))
+     expect_equal(downloads[[1]][[1]], "div")
+ 
+     expect_silent( getMain <- getMainPanel() )
+     expect_true(exists("getMain"))
+     expect_equal(getMain[[1]][[1]], "div")
+ 
+     expect_silent( getStart <- getStartupMsg() )
+     expect_true(exists("getStart"))
+     expect_equal(getStart[[1]][[1]], "div")
+ 
+     expect_silent( getAfter <- getAfterLoadMsg() )
+     expect_true(exists("getAfter"))
+     expect_equal(getAfter[[1]][[1]], "div")
+ 
+     expect_silent(getGO <- getGoPanel() )
+     expect_true(exists("getGO"))
+     expect_equal(getGO[[1]][[1]], "div")
+ })
Test passed with 18 successes 🎊.
> 
> proc.time()
   user  system elapsed 
 12.866   0.886  13.742 

Example timings

debrowser.Rcheck/debrowser-Ex.timings

nameusersystemelapsed
BoxMainPlotControlsUI0.0200.0030.021
IQRPlotControlsUI0.0010.0000.002
actionButtonDE0.0030.0000.003
addDataCols000
addID000
all2all0.1230.0030.125
all2allControlsUI0.0260.0000.026
applyFilters0.0000.0000.001
applyFiltersNew000
applyFiltersToMergedComparison0.0000.0000.001
barMainPlotControlsUI0.0010.0000.001
batchEffectUI0.0340.0010.036
batchMethod0.0010.0000.001
changeClusterOrder000
checkCountData0.0000.0000.001
checkMetaData000
clustFunParamsUI0.0000.0000.001
clusterData000
compareClust000
condSelectUI0.0040.0000.004
correctCombat0.0000.0000.001
correctHarman000
customColorsUI0.0040.0000.004
cutOffSelectionUI0.0040.0000.003
dataLCFUI0.010.000.01
dataLoadUI0.0090.0000.008
deServer0.0040.0000.004
deUI0.0850.0000.085
debrowserIQRplot000
debrowserall2all000
debrowserbarmainplot000
debrowserbatcheffect0.0010.0000.000
debrowserboxmainplot000
debrowsercondselect0.0010.0000.000
debrowserdataload0.0000.0000.001
debrowserdeanalysis000
debrowserdensityplot0.0010.0000.000
debrowserheatmap0.0000.0000.001
debrowserhistogram000
debrowserlowcountfilter0.0010.0000.000
debrowsermainplot0.0000.0000.001
debrowserpcaplot0.0000.0010.000
dendControlsUI0.0050.0000.005
densityPlotControlsUI0.0010.0000.001
distFunParamsUI0.0010.0000.000
drawKEGG000
drawPCAExplained0.0010.0000.000
fileTypes000
fileUploadBox0.0030.0000.002
generateTestData0.0000.0000.001
getAfterLoadMsg000
getAll2AllPlotUI0.0010.0000.000
getBSTableUI000
getBarMainPlot0.0010.0000.000
getBarMainPlotUI0.0000.0000.001
getBoxMainPlot000
getBoxMainPlotUI000
getColorShapeSelection000
getColors000
getCompSelection0.0010.0000.002
getCondMsg000
getConditionSelector000
getConditionSelectorFromMeta000
getCovariateDetails000
getCutOffSelection0.0020.0000.002
getDEAnalysisText0.0010.0000.002
getDEResultsUI0.0010.0000.001
getDataAssesmentText0.0010.0000.001
getDataForTables000
getDataPreparationText0.0010.0000.000
getDensityPlot0.0010.0000.000
getDensityPlotUI0.0000.0000.001
getDomains000
getDown0.0000.0000.001
getDownloadSection0.0060.0000.006
getEnrichDO0.0010.0000.000
getEnrichGO0.0000.0000.001
getEnrichKEGG0.0010.0000.000
getEntrezIds0.0000.0000.001
getEntrezTable000
getGOLeftMenu0.0090.0000.009
getGOPlots0.0000.0000.001
getGSEA000
getGeneList0.5830.0500.634
getGeneSetData000
getGoPanel0.0090.0000.009
getGroupSelector000
getHeatmapUI0.0000.0000.001
getHelpButton000
getHideLegendOnOff0.0010.0000.002
getHistogramUI000
getIQRPlot0.0010.0000.000
getIQRPlotUI0.0000.0000.001
getIntroText0.0010.0000.001
getJSLine0.0010.0000.002
getKEGGModal0.0020.0000.002
getLeftMenu000
getLegendColors000
getLegendRadio0.0020.0000.002
getLegendSelect0.0020.0000.001
getLevelOrder000
getLoadingMsg0.0010.0000.002
getLogo0.0010.0000.001
getMainPanel0.0010.0000.001
getMainPlotUI000
getMainPlotsLeftMenu0.0540.0000.056
getMean000
getMergedComparison0.0010.0000.000
getMetaSelector0.0000.0000.001
getMethodDetails0.0010.0000.000
getMostVariedList000
getNormalizedMatrix0.0100.0010.012
getOrganism000
getOrganismBox0.0010.0000.002
getOrganismPathway000
getPCAPlotUI000
getPCAcontolUpdatesJS0.0000.0000.001
getPCAexplained1.7610.0921.853
getPCselection0.0010.0000.001
getPlotArea000
getProgramTitle000
getQAText0.0010.0010.001
getQCLeftMenu000
getQCPanel0.0030.0000.004
getSampleDetails000
getSampleNames000
getSearchData000
getSelHeat000
getSelectInputBox000
getSelectedCols000
getSelectedDatasetInput0.0000.0010.000
getShapeColor000
getStartPlotsMsg0.0020.0000.002
getStartupMsg0.0020.0000.002
getTabUpdateJS000
getTableDetails0.0000.0000.001
getTableModal0.0030.0000.003
getTableStyle000
getUp000
getUpDown000
getVariationData0.0010.0000.000
get_conditions_given_selection000
heatmapControlsUI0.0300.0040.035
heatmapJScode000
heatmapServer0.0010.0000.001
heatmapUI0.0530.0080.061
hideObj0.0000.0000.001
histogramControlsUI0.0010.0000.001
installpack000
kmeansControlsUI0.0050.0000.006
lcfMetRadio0.0020.0000.002
loadpack0.0000.0020.001
mainPlotControlsUI0.0040.0010.005
mainScatterNew0.0000.0010.001
niceKmeans000
normalizationMethods0.0020.0000.001
palUI0.0020.0000.002
panel.cor0.0010.0000.001
panel.hist0.0010.0000.001
pcaPlotControlsUI0.0040.0010.005
plotData0.0000.0000.001
plotMarginsUI0.0040.0010.005
plotSizeMarginsUI0.0070.0010.008
plotSizeUI0.0020.0000.002
plotTypeUI0.0000.0000.001
plot_pca0.920.040.96
prepDataContainer0.0010.0000.001
prepGroup000
prepHeatData000
prepPCADat000
push0.0010.0000.000
removeCols000
removeExtraCols0.0020.0000.001
round_vals000
runDE000
runDESeq2000
runEdgeR0.0010.0000.001
runHeatmap0.0010.0000.001
runHeatmap2000
runLimma000
run_pca0.6140.0130.626
selectConditions0.0000.0010.001
selectGroupInfo0.0000.0000.001
selectedInput000
sepRadio0.0030.0000.003
setBatch0.0000.0010.000
showObj000
startDEBrowser0.0000.0010.000
startHeatmap000
textareaInput0.0000.0010.001
togglePanels000