Back to Multiple platform build/check report for BioC 3.20:   simplified   long
ABC[D]EFGHIJKLMNOPQRSTUVWXYZ

This page was generated on 2024-11-19 12:45 -0500 (Tue, 19 Nov 2024).

HostnameOSArch (*)R versionInstalled pkgs
teran2Linux (Ubuntu 24.04.1 LTS)x86_644.4.1 (2024-06-14) -- "Race for Your Life" 4505
nebbiolo2Linux (Ubuntu 24.04.1 LTS)x86_644.4.1 (2024-06-14) -- "Race for Your Life" 4765
palomino8Windows Server 2022 Datacenterx644.4.1 (2024-06-14 ucrt) -- "Race for Your Life" 4506
lconwaymacOS 12.7.1 Montereyx86_644.4.1 (2024-06-14) -- "Race for Your Life" 4539
kunpeng2Linux (openEuler 22.03 LTS-SP1)aarch644.4.1 (2024-06-14) -- "Race for Your Life" 4493
Click on any hostname to see more info about the system (e.g. compilers)      (*) as reported by 'uname -p', except on Windows and Mac OS X

Package 515/2289HostnameOS / ArchINSTALLBUILDCHECKBUILD BIN
debrowser 1.34.0  (landing page)
Alper Kucukural
Snapshot Date: 2024-11-18 13:40 -0500 (Mon, 18 Nov 2024)
git_url: https://git.bioconductor.org/packages/debrowser
git_branch: RELEASE_3_20
git_last_commit: e323fef
git_last_commit_date: 2024-10-29 10:08:44 -0500 (Tue, 29 Oct 2024)
teran2Linux (Ubuntu 24.04.1 LTS) / x86_64  OK    OK    OK  UNNEEDED, same version is already published
nebbiolo2Linux (Ubuntu 24.04.1 LTS) / x86_64  OK    OK    OK  
palomino8Windows Server 2022 Datacenter / x64  OK    OK    OK    OK  UNNEEDED, same version is already published
lconwaymacOS 12.7.1 Monterey / x86_64  OK    OK    OK    OK  UNNEEDED, same version is already published
kunpeng2Linux (openEuler 22.03 LTS-SP1) / aarch64  OK    OK    OK  


CHECK results for debrowser on kunpeng2

To the developers/maintainers of the debrowser package:
- Allow up to 24 hours (and sometimes 48 hours) for your latest push to git@git.bioconductor.org:packages/debrowser.git to reflect on this report. See Troubleshooting Build Report for more information.
- Use the following Renviron settings to reproduce errors and warnings.
- If 'R CMD check' started to fail recently on the Linux builder(s) over a missing dependency, add the missing dependency to 'Suggests:' in your DESCRIPTION file. See Renviron.bioc for more information.
- See Martin Grigorov's blog post for how to debug Linux ARM64 related issues on a x86_64 host.

raw results


Summary

Package: debrowser
Version: 1.34.0
Command: /home/biocbuild/R/R/bin/R CMD check --install=check:debrowser.install-out.txt --library=/home/biocbuild/R/R/site-library --no-vignettes --timings debrowser_1.34.0.tar.gz
StartedAt: 2024-11-19 07:00:36 -0000 (Tue, 19 Nov 2024)
EndedAt: 2024-11-19 07:09:03 -0000 (Tue, 19 Nov 2024)
EllapsedTime: 506.8 seconds
RetCode: 0
Status:   OK  
CheckDir: debrowser.Rcheck
Warnings: 0

Command output

##############################################################################
##############################################################################
###
### Running command:
###
###   /home/biocbuild/R/R/bin/R CMD check --install=check:debrowser.install-out.txt --library=/home/biocbuild/R/R/site-library --no-vignettes --timings debrowser_1.34.0.tar.gz
###
##############################################################################
##############################################################################


* using log directory ‘/home/biocbuild/bbs-3.20-bioc/meat/debrowser.Rcheck’
* using R version 4.4.1 (2024-06-14)
* using platform: aarch64-unknown-linux-gnu
* R was compiled by
    gcc (GCC) 12.2.1 20220819 (openEuler 12.2.1-14)
    GNU Fortran (GCC) 10.3.1
* running under: openEuler 22.03 (LTS-SP1)
* using session charset: UTF-8
* using option ‘--no-vignettes’
* checking for file ‘debrowser/DESCRIPTION’ ... OK
* checking extension type ... Package
* this is package ‘debrowser’ version ‘1.34.0’
* package encoding: UTF-8
* checking package namespace information ... OK
* checking package dependencies ... OK
* checking if this is a source package ... OK
* checking if there is a namespace ... OK
* checking for hidden files and directories ... OK
* checking for portable file names ... OK
* checking for sufficient/correct file permissions ... OK
* checking whether package ‘debrowser’ can be installed ... OK
* checking installed package size ... OK
* checking package directory ... OK
* checking ‘build’ directory ... OK
* checking DESCRIPTION meta-information ... OK
* checking top-level files ... OK
* checking for left-over files ... OK
* checking index information ... OK
* checking package subdirectories ... OK
* checking code files for non-ASCII characters ... OK
* checking R files for syntax errors ... OK
* checking whether the package can be loaded ... OK
* checking whether the package can be loaded with stated dependencies ... OK
* checking whether the package can be unloaded cleanly ... OK
* checking whether the namespace can be loaded with stated dependencies ... OK
* checking whether the namespace can be unloaded cleanly ... OK
* checking loading without being on the library search path ... OK
* checking whether startup messages can be suppressed ... OK
* checking dependencies in R code ... OK
* checking S3 generic/method consistency ... OK
* checking replacement functions ... OK
* checking foreign function calls ... OK
* checking R code for possible problems ... NOTE
checkCountData : <anonymous>: no visible binding for global variable
  ‘err’
debrowserdataload: no visible binding for global variable ‘demodata’
debrowserhistogram: no visible global function definition for ‘config’
generateTestData: no visible binding for global variable ‘metadata’
getBarMainPlot: no visible global function definition for ‘config’
getBoxMainPlot: no visible global function definition for ‘config’
getDensityPlot: no visible binding for global variable ‘samples’
getDensityPlot: no visible global function definition for ‘config’
getGOPlots: no visible global function definition for ‘facet_grid’
getGSEA: no visible global function definition for ‘is’
getIQRPlot: no visible global function definition for ‘config’
mainScatterNew: no visible global function definition for ‘config’
plot_pca: no visible binding for global variable ‘x’
plot_pca: no visible binding for global variable ‘y’
plot_pca: no visible binding for global variable ‘textName’
plot_pca: no visible global function definition for ‘config’
runHeatmap: no visible global function definition for ‘config’
Undefined global functions or variables:
  config demodata err facet_grid is metadata samples textName x y
Consider adding
  importFrom("methods", "is")
to your NAMESPACE file (and ensure that your DESCRIPTION Imports field
contains 'methods').
* checking Rd files ... OK
* checking Rd metadata ... OK
* checking Rd cross-references ... OK
* checking for missing documentation entries ... OK
* checking for code/documentation mismatches ... OK
* checking Rd \usage sections ... OK
* checking Rd contents ... OK
* checking for unstated dependencies in examples ... OK
* checking files in ‘vignettes’ ... OK
* checking examples ... OK
* checking for unstated dependencies in ‘tests’ ... OK
* checking tests ...
  Running ‘test-demo.R’
  Running ‘test-deseq.R’
  Running ‘test-null.R’
  Running ‘test-ui.R’
 OK
* checking for unstated dependencies in vignettes ... OK
* checking package vignettes ... OK
* checking running R code from vignettes ... SKIPPED
* checking re-building of vignette outputs ... SKIPPED
* checking PDF version of manual ... OK
* DONE

Status: 1 NOTE
See
  ‘/home/biocbuild/bbs-3.20-bioc/meat/debrowser.Rcheck/00check.log’
for details.


Installation output

debrowser.Rcheck/00install.out

##############################################################################
##############################################################################
###
### Running command:
###
###   /home/biocbuild/R/R/bin/R CMD INSTALL debrowser
###
##############################################################################
##############################################################################


* installing to library ‘/home/biocbuild/R/R-4.4.1/site-library’
* installing *source* package ‘debrowser’ ...
** using staged installation
** R
** inst
** byte-compile and prepare package for lazy loading
** help
*** installing help indices
** building package indices
** installing vignettes
** testing if installed package can be loaded from temporary location
** testing if installed package can be loaded from final location
** testing if installed package keeps a record of temporary installation path
* DONE (debrowser)

Tests output

debrowser.Rcheck/tests/test-demo.Rout


R version 4.4.1 (2024-06-14) -- "Race for Your Life"
Copyright (C) 2024 The R Foundation for Statistical Computing
Platform: aarch64-unknown-linux-gnu

R is free software and comes with ABSOLUTELY NO WARRANTY.
You are welcome to redistribute it under certain conditions.
Type 'license()' or 'licence()' for distribution details.

R is a collaborative project with many contributors.
Type 'contributors()' for more information and
'citation()' on how to cite R or R packages in publications.

Type 'demo()' for some demos, 'help()' for on-line help, or
'help.start()' for an HTML browser interface to help.
Type 'q()' to quit R.

> require(shiny)
Loading required package: shiny
> library(debrowser)



##############################################################################
Pathview is an open source software package distributed under GNU General
Public License version 3 (GPLv3). Details of GPLv3 is available at
http://www.gnu.org/licenses/gpl-3.0.html. Particullary, users are required to
formally cite the original Pathview paper (not just mention it) in publications
or products. For details, do citation("pathview") within R.

The pathview downloads and uses KEGG data. Non-academic uses may require a KEGG
license agreement (details at http://www.kegg.jp/kegg/legal.html).
##############################################################################
DEBrowser v1.34.0  For help: https://debrowser.readthedocs.org/

If you use DEBrowser in published research, please cite:

Alper Kucukural, Onur Yukselen, Deniz M. Ozata, Melissa J. Moore, Manuel Garber
DEBrowser: Interactive Differential Expression Analysis and Visualization Tool for Count Data
BMC Genomics 2019 20:6

doi:0.1186/s12864-018-5362-x

> library(testthat)
> 
> test_that("demo data can be loaded", {
+     load(system.file("extdata", "demo", "demodata.Rda",
+         package = "debrowser"))
+     expect_true(is.data.frame(demodata))
+     expect_equal(demodata[29311, 2], 2)
+     expect_equal(demodata[29311, 5], 7.1)
+     expect_equal(demodata[29311, 6], 6)
+     expect_null(demodata[1, 7])
+ })
Test passed 😀
> 
> proc.time()
   user  system elapsed 
 18.341   0.981  19.261 

debrowser.Rcheck/tests/test-deseq.Rout


R version 4.4.1 (2024-06-14) -- "Race for Your Life"
Copyright (C) 2024 The R Foundation for Statistical Computing
Platform: aarch64-unknown-linux-gnu

R is free software and comes with ABSOLUTELY NO WARRANTY.
You are welcome to redistribute it under certain conditions.
Type 'license()' or 'licence()' for distribution details.

R is a collaborative project with many contributors.
Type 'contributors()' for more information and
'citation()' on how to cite R or R packages in publications.

Type 'demo()' for some demos, 'help()' for on-line help, or
'help.start()' for an HTML browser interface to help.
Type 'q()' to quit R.

> library(debrowser)



##############################################################################
Pathview is an open source software package distributed under GNU General
Public License version 3 (GPLv3). Details of GPLv3 is available at
http://www.gnu.org/licenses/gpl-3.0.html. Particullary, users are required to
formally cite the original Pathview paper (not just mention it) in publications
or products. For details, do citation("pathview") within R.

The pathview downloads and uses KEGG data. Non-academic uses may require a KEGG
license agreement (details at http://www.kegg.jp/kegg/legal.html).
##############################################################################
DEBrowser v1.34.0  For help: https://debrowser.readthedocs.org/

If you use DEBrowser in published research, please cite:

Alper Kucukural, Onur Yukselen, Deniz M. Ozata, Melissa J. Moore, Manuel Garber
DEBrowser: Interactive Differential Expression Analysis and Visualization Tool for Count Data
BMC Genomics 2019 20:6

doi:0.1186/s12864-018-5362-x

> library(testthat)
> 
> load(system.file("extdata", "demo", "demodata.Rda",
+     package = "debrowser"))
> metadata <- metadatatable 
> columns <- c("exper_rep1", "exper_rep2", "exper_rep3",
+     "control_rep1", "control_rep2", "control_rep3")
> conds <- factor( c("Control", "Control", "Control",
+     "Treat", "Treat", "Treat") )
> data <- data.frame(demodata[, columns])
> 
> #Run DESeq2 with the following parameters
> params <- c("DESeq2", "NoCovariate", "parametric", F, "Wald", "None") 
> non_expressed_cutoff <- 10
> data <- subset(data, rowSums(data) > 10)
> test_that("Able to run DESeq2", {
+     deseqrun <- runDE(data, metadata, columns, conds, params)
+     expect_true(exists("deseqrun"))
+ })
Test passed 🎉
> 
> ##################################################
> deseqrun <- runDE(data, metadata, columns, conds, params)
estimating size factors
estimating dispersions
gene-wise dispersion estimates
mean-dispersion relationship
final dispersion estimates
fitting model and testing
> 
> de_res <- data.frame(deseqrun)
> norm_data <- getNormalizedMatrix(data[, columns])
> rdata <- cbind(rownames(de_res), norm_data[rownames(de_res), columns],
+                 log10(rowMeans(norm_data[rownames(de_res),
+                 paste(c("exper_rep1", "exper_rep2", "exper_rep3"))])
+                 + 0.1), log10( rowMeans( norm_data[ rownames( de_res ),
+                 paste(c("control_rep1", "control_rep2", "control_rep3"))])
+                 + 0.1), de_res[rownames(de_res),
+                 c("padj", "log2FoldChange")], 2 ^ de_res[rownames(de_res),
+                 "log2FoldChange"], -1 *
+                 log10(de_res[rownames(de_res), "padj"]))
> colnames(rdata) <- c("ID", columns, "Cond1", "Cond2", "padj",
+                 "log2FoldChange", "foldChange", "log10padj")
> rdata <- as.data.frame(rdata)
> rdata$padj[is.na(rdata$padj)] <- 1
> 
> padj_cutoff <- 0.01
> foldChange_cutoff <- 2
> 
> rdata$Legend <- character(nrow(rdata))
> rdata$Legend[rdata$log2FoldChange > log2(foldChange_cutoff) &
+         rdata$padj < padj_cutoff] <- "Up"
> rdata$Legend[rdata$log2FoldChange < log2(1 / foldChange_cutoff) &
+         rdata$padj < padj_cutoff] <- "Down"
> rdata$Legend[abs(rdata$log2FoldChange) <= 
+         log2(foldChange_cutoff)] <- "NS"
> rdata$Legend[is.null(rdata$log10padj)] <- "NA"
> rdata$Size <- character(nrow(rdata))
> rdata[, "Size"] <- "40"
> 
> dat <- rdata
> dat$M <- rdata$Cond1 - rdata$Cond2
> dat$A <- (rdata$Cond1 + rdata$Cond2) / 2
> 
> updown <- rdata[rdata$Legend=="Up" | rdata$Legend=="Down",columns]
> ##################################################
> 
> 
> 
> proc.time()
   user  system elapsed 
 44.412   1.038  44.206 

debrowser.Rcheck/tests/test-null.Rout


R version 4.4.1 (2024-06-14) -- "Race for Your Life"
Copyright (C) 2024 The R Foundation for Statistical Computing
Platform: aarch64-unknown-linux-gnu

R is free software and comes with ABSOLUTELY NO WARRANTY.
You are welcome to redistribute it under certain conditions.
Type 'license()' or 'licence()' for distribution details.

R is a collaborative project with many contributors.
Type 'contributors()' for more information and
'citation()' on how to cite R or R packages in publications.

Type 'demo()' for some demos, 'help()' for on-line help, or
'help.start()' for an HTML browser interface to help.
Type 'q()' to quit R.

> require(shiny)
Loading required package: shiny
> library(debrowser)



##############################################################################
Pathview is an open source software package distributed under GNU General
Public License version 3 (GPLv3). Details of GPLv3 is available at
http://www.gnu.org/licenses/gpl-3.0.html. Particullary, users are required to
formally cite the original Pathview paper (not just mention it) in publications
or products. For details, do citation("pathview") within R.

The pathview downloads and uses KEGG data. Non-academic uses may require a KEGG
license agreement (details at http://www.kegg.jp/kegg/legal.html).
##############################################################################
DEBrowser v1.34.0  For help: https://debrowser.readthedocs.org/

If you use DEBrowser in published research, please cite:

Alper Kucukural, Onur Yukselen, Deniz M. Ozata, Melissa J. Moore, Manuel Garber
DEBrowser: Interactive Differential Expression Analysis and Visualization Tool for Count Data
BMC Genomics 2019 20:6

doi:0.1186/s12864-018-5362-x

> library(testthat)
> 
> test_that("passing no data returns NULL", {
+     expect_null(compareClust() )
+     expect_null(getGOPlots(NULL, NULL))
+     null_deseq <- runDE(NULL)
+     expect_null(null_deseq)
+     expect_null(plot_pca(NULL))
+ })
Test passed 🥳
> 
> proc.time()
   user  system elapsed 
 18.139   1.348  19.451 

debrowser.Rcheck/tests/test-ui.Rout


R version 4.4.1 (2024-06-14) -- "Race for Your Life"
Copyright (C) 2024 The R Foundation for Statistical Computing
Platform: aarch64-unknown-linux-gnu

R is free software and comes with ABSOLUTELY NO WARRANTY.
You are welcome to redistribute it under certain conditions.
Type 'license()' or 'licence()' for distribution details.

R is a collaborative project with many contributors.
Type 'contributors()' for more information and
'citation()' on how to cite R or R packages in publications.

Type 'demo()' for some demos, 'help()' for on-line help, or
'help.start()' for an HTML browser interface to help.
Type 'q()' to quit R.

> require(shiny)
Loading required package: shiny
> library(debrowser)



##############################################################################
Pathview is an open source software package distributed under GNU General
Public License version 3 (GPLv3). Details of GPLv3 is available at
http://www.gnu.org/licenses/gpl-3.0.html. Particullary, users are required to
formally cite the original Pathview paper (not just mention it) in publications
or products. For details, do citation("pathview") within R.

The pathview downloads and uses KEGG data. Non-academic uses may require a KEGG
license agreement (details at http://www.kegg.jp/kegg/legal.html).
##############################################################################
DEBrowser v1.34.0  For help: https://debrowser.readthedocs.org/

If you use DEBrowser in published research, please cite:

Alper Kucukural, Onur Yukselen, Deniz M. Ozata, Melissa J. Moore, Manuel Garber
DEBrowser: Interactive Differential Expression Analysis and Visualization Tool for Count Data
BMC Genomics 2019 20:6

doi:0.1186/s12864-018-5362-x

> library(testthat)
> 
> test_that("able to create panel UI", {
+     expect_silent( QCPanel <- getQCPanel() )
+     expect_true(exists("QCPanel"))
+     expect_equal(QCPanel[[1]][[1]], "div")
+ 
+     expect_silent( downloads <- getDownloadSection() )
+     expect_true(exists("downloads"))
+     expect_equal(downloads[[1]][[1]], "div")
+ 
+     expect_silent( getMain <- getMainPanel() )
+     expect_true(exists("getMain"))
+     expect_equal(getMain[[1]][[1]], "div")
+ 
+     expect_silent( getStart <- getStartupMsg() )
+     expect_true(exists("getStart"))
+     expect_equal(getStart[[1]][[1]], "div")
+ 
+     expect_silent( getAfter <- getAfterLoadMsg() )
+     expect_true(exists("getAfter"))
+     expect_equal(getAfter[[1]][[1]], "div")
+ 
+     expect_silent(getGO <- getGoPanel() )
+     expect_true(exists("getGO"))
+     expect_equal(getGO[[1]][[1]], "div")
+ })
Test passed 🥳
> 
> proc.time()
   user  system elapsed 
 18.015   0.718  18.691 

Example timings

debrowser.Rcheck/debrowser-Ex.timings

nameusersystemelapsed
BoxMainPlotControlsUI0.0270.0000.026
IQRPlotControlsUI0.0020.0000.001
actionButtonDE0.0040.0000.004
addDataCols000
addID000
all2all0.1700.0040.175
all2allControlsUI0.0360.0000.036
applyFilters000
applyFiltersNew000
applyFiltersToMergedComparison0.0010.0000.000
barMainPlotControlsUI0.0020.0000.002
batchEffectUI0.0450.0040.050
batchMethod0.0020.0000.002
changeClusterOrder000
checkCountData0.0010.0000.001
checkMetaData000
clustFunParamsUI000
clusterData0.0000.0000.001
compareClust0.0010.0000.001
condSelectUI0.0060.0000.006
correctCombat0.0010.0000.001
correctHarman0.0010.0000.001
customColorsUI0.0050.0000.005
cutOffSelectionUI0.0040.0000.004
dataLCFUI0.0140.0000.014
dataLoadUI0.0130.0000.013
deServer0.0020.0040.006
deUI0.1270.0000.128
debrowserIQRplot000
debrowserall2all000
debrowserbarmainplot0.0010.0000.000
debrowserbatcheffect0.0010.0000.000
debrowserboxmainplot000
debrowsercondselect000
debrowserdataload0.0000.0000.001
debrowserdeanalysis0.0000.0000.001
debrowserdensityplot000
debrowserheatmap0.0010.0000.000
debrowserhistogram000
debrowserlowcountfilter0.0010.0000.000
debrowsermainplot0.0010.0000.000
debrowserpcaplot0.0010.0000.000
dendControlsUI0.0080.0000.007
densityPlotControlsUI0.0020.0000.001
distFunParamsUI000
drawKEGG0.0010.0000.000
drawPCAExplained0.0000.0000.001
fileTypes000
fileUploadBox0.0040.0000.004
generateTestData0.0000.0000.001
getAfterLoadMsg0.0000.0000.001
getAll2AllPlotUI0.0000.0000.001
getBSTableUI000
getBarMainPlot000
getBarMainPlotUI0.0010.0000.000
getBoxMainPlot0.0010.0000.000
getBoxMainPlotUI0.0010.0000.000
getColorShapeSelection000
getColors000
getCompSelection0.0020.0000.002
getCondMsg0.0010.0000.000
getConditionSelector0.0010.0000.000
getConditionSelectorFromMeta0.0000.0000.001
getCovariateDetails0.0000.0000.001
getCutOffSelection0.0020.0000.002
getDEAnalysisText0.0020.0000.002
getDEResultsUI0.0020.0000.002
getDataAssesmentText0.0020.0000.002
getDataForTables0.0010.0000.000
getDataPreparationText0.0020.0000.001
getDensityPlot0.0000.0000.001
getDensityPlotUI0.0000.0000.001
getDomains0.0000.0000.001
getDown000
getDownloadSection0.0090.0000.009
getEnrichDO0.0000.0000.001
getEnrichGO000
getEnrichKEGG000
getEntrezIds0.0010.0000.000
getEntrezTable0.0000.0000.001
getGOLeftMenu0.0080.0040.013
getGOPlots0.0000.0000.001
getGSEA0.0000.0000.001
getGeneList0.7990.0560.865
getGeneSetData0.0010.0000.000
getGoPanel0.0140.0000.014
getGroupSelector000
getHeatmapUI000
getHelpButton0.0010.0000.000
getHideLegendOnOff0.0020.0000.002
getHistogramUI000
getIQRPlot0.0010.0000.001
getIQRPlotUI0.0010.0000.000
getIntroText0.0020.0000.002
getJSLine0.0030.0000.003
getKEGGModal0.0040.0000.003
getLeftMenu000
getLegendColors000
getLegendRadio0.0030.0000.003
getLegendSelect0.0020.0000.002
getLevelOrder000
getLoadingMsg0.0020.0000.002
getLogo0.0020.0000.002
getMainPanel0.0010.0000.002
getMainPlotUI000
getMainPlotsLeftMenu0.0880.0000.088
getMean000
getMergedComparison000
getMetaSelector000
getMethodDetails0.0010.0000.001
getMostVariedList0.0000.0000.001
getNormalizedMatrix0.0170.0000.017
getOrganism0.0010.0000.000
getOrganismBox0.0000.0020.003
getOrganismPathway0.0000.0010.001
getPCAPlotUI0.0000.0000.001
getPCAcontolUpdatesJS000
getPCAexplained2.6010.1242.720
getPCselection0.0000.0000.001
getPlotArea0.0000.0000.001
getProgramTitle000
getQAText0.0010.0000.002
getQCLeftMenu0.0040.0000.000
getQCPanel0.0080.0000.004
getSampleDetails000
getSampleNames0.0010.0000.000
getSearchData000
getSelHeat0.0000.0000.001
getSelectInputBox000
getSelectedCols0.0010.0000.000
getSelectedDatasetInput000
getShapeColor0.0000.0000.001
getStartPlotsMsg0.0070.0000.003
getStartupMsg0.0060.0000.003
getTabUpdateJS0.0000.0000.001
getTableDetails0.0040.0000.001
getTableModal0.0080.0000.005
getTableStyle0.0000.0000.001
getUp0.0000.0000.001
getUpDown0.0050.0000.000
getVariationData0.0010.0000.000
get_conditions_given_selection000
heatmapControlsUI0.0900.0040.049
heatmapJScode0.0000.0000.001
heatmapServer0.0000.0010.001
heatmapUI0.0770.0100.088
hideObj0.0000.0000.001
histogramControlsUI0.0010.0000.001
installpack000
kmeansControlsUI0.0070.0000.007
lcfMetRadio0.0030.0000.002
loadpack0.0000.0020.002
mainPlotControlsUI0.0060.0020.007
mainScatterNew000
niceKmeans000
normalizationMethods0.0020.0000.002
palUI0.0020.0000.002
panel.cor0.0010.0000.001
panel.hist0.0010.0000.001
pcaPlotControlsUI0.0020.0040.006
plotData000
plotMarginsUI0.0060.0000.006
plotSizeMarginsUI0.0070.0040.011
plotSizeUI0.0040.0000.004
plotTypeUI0.0000.0000.001
plot_pca1.3190.0191.252
prepDataContainer0.0010.0000.000
prepGroup000
prepHeatData000
prepPCADat000
push0.0010.0000.000
removeCols0.0000.0000.001
removeExtraCols0.0010.0000.002
round_vals000
runDE0.0010.0000.000
runDESeq20.0010.0000.001
runEdgeR0.0010.0000.001
runHeatmap0.0010.0000.000
runHeatmap20.0010.0000.000
runLimma0.0000.0000.001
run_pca1.0020.0041.004
selectConditions0.0010.0000.001
selectGroupInfo0.0000.0000.001
selectedInput000
sepRadio0.0060.0000.002
setBatch000
showObj0.0010.0000.001
startDEBrowser0.0040.0000.000
startHeatmap000
textareaInput000
togglePanels0.0010.0000.000