| Back to Multiple platform build/check report for BioC 3.22: simplified long |
|
This page was generated on 2025-11-15 11:58 -0500 (Sat, 15 Nov 2025).
| Hostname | OS | Arch (*) | R version | Installed pkgs |
|---|---|---|---|---|
| nebbiolo2 | Linux (Ubuntu 24.04.3 LTS) | x86_64 | 4.5.1 Patched (2025-08-23 r88802) -- "Great Square Root" | 4903 |
| taishan | Linux (openEuler 24.03 LTS) | aarch64 | 4.5.0 (2025-04-11) -- "How About a Twenty-Six" | 4668 |
| Click on any hostname to see more info about the system (e.g. compilers) (*) as reported by 'uname -p', except on Windows and Mac OS X | ||||
| Package 524/2361 | Hostname | OS / Arch | INSTALL | BUILD | CHECK | BUILD BIN | ||||||||
| dar 1.6.0 (landing page) Francesc Catala-Moll
| nebbiolo2 | Linux (Ubuntu 24.04.3 LTS) / x86_64 | OK | OK | OK | |||||||||
| taishan | Linux (openEuler 24.03 LTS) / aarch64 | OK | OK | OK | ||||||||||
|
To the developers/maintainers of the dar package: - Allow up to 24 hours (and sometimes 48 hours) for your latest push to git@git.bioconductor.org:packages/dar.git to reflect on this report. See Troubleshooting Build Report for more information. - Use the following Renviron settings to reproduce errors and warnings. - If 'R CMD check' started to fail recently on the Linux builder(s) over a missing dependency, add the missing dependency to 'Suggests:' in your DESCRIPTION file. See Renviron.bioc for more information. - See Martin Grigorov's blog post for how to debug Linux ARM64 related issues on a x86_64 host. |
| Package: dar |
| Version: 1.6.0 |
| Command: /home/biocbuild/R/R/bin/R CMD check --install=check:dar.install-out.txt --library=/home/biocbuild/R/R/site-library --no-vignettes --timings dar_1.6.0.tar.gz |
| StartedAt: 2025-11-14 08:33:40 -0000 (Fri, 14 Nov 2025) |
| EndedAt: 2025-11-14 08:45:57 -0000 (Fri, 14 Nov 2025) |
| EllapsedTime: 737.6 seconds |
| RetCode: 0 |
| Status: OK |
| CheckDir: dar.Rcheck |
| Warnings: 0 |
##############################################################################
##############################################################################
###
### Running command:
###
### /home/biocbuild/R/R/bin/R CMD check --install=check:dar.install-out.txt --library=/home/biocbuild/R/R/site-library --no-vignettes --timings dar_1.6.0.tar.gz
###
##############################################################################
##############################################################################
* using log directory ‘/home/biocbuild/bbs-3.22-bioc/meat/dar.Rcheck’
* using R version 4.5.0 (2025-04-11)
* using platform: aarch64-unknown-linux-gnu
* R was compiled by
aarch64-unknown-linux-gnu-gcc (GCC) 14.2.0
GNU Fortran (GCC) 14.2.0
* running under: openEuler 24.03 (LTS)
* using session charset: UTF-8
* using option ‘--no-vignettes’
* checking for file ‘dar/DESCRIPTION’ ... OK
* this is package ‘dar’ version ‘1.6.0’
* package encoding: UTF-8
* checking package namespace information ... OK
* checking package dependencies ... INFO
Imports includes 21 non-default packages.
Importing from so many packages makes the package vulnerable to any of
them becoming unavailable. Move as many as possible to Suggests and
use conditionally.
* checking if this is a source package ... OK
* checking if there is a namespace ... OK
* checking for hidden files and directories ... OK
* checking for portable file names ... OK
* checking for sufficient/correct file permissions ... OK
* checking whether package ‘dar’ can be installed ... OK
* checking installed package size ... OK
* checking package directory ... OK
* checking ‘build’ directory ... OK
* checking DESCRIPTION meta-information ... OK
* checking top-level files ... OK
* checking for left-over files ... OK
* checking index information ... OK
* checking package subdirectories ... OK
* checking code files for non-ASCII characters ... OK
* checking R files for syntax errors ... OK
* checking whether the package can be loaded ... OK
* checking whether the package can be loaded with stated dependencies ... OK
* checking whether the package can be unloaded cleanly ... OK
* checking whether the namespace can be loaded with stated dependencies ... OK
* checking whether the namespace can be unloaded cleanly ... OK
* checking loading without being on the library search path ... OK
* checking dependencies in R code ... OK
* checking S3 generic/method consistency ... OK
* checking replacement functions ... OK
* checking foreign function calls ... OK
* checking R code for possible problems ... OK
* checking Rd files ... OK
* checking Rd metadata ... OK
* checking Rd cross-references ... OK
* checking for missing documentation entries ... OK
* checking for code/documentation mismatches ... OK
* checking Rd \usage sections ... OK
* checking Rd contents ... OK
* checking for unstated dependencies in examples ... OK
* checking contents of ‘data’ directory ... OK
* checking data for non-ASCII characters ... OK
* checking data for ASCII and uncompressed saves ... OK
* checking R/sysdata.rda ... OK
* checking files in ‘vignettes’ ... OK
* checking examples ... OK
Examples with CPU (user + system) or elapsed time > 5s
user system elapsed
step_aldex 20.363 0.463 20.886
step_deseq 9.135 0.208 9.369
prep 6.686 0.631 52.603
corr_heatmap 5.198 0.152 5.361
import_steps 4.881 0.413 48.019
step_metagenomeseq 4.866 0.064 12.582
export_steps 3.036 0.328 17.171
recipe 2.822 0.336 22.106
* checking for unstated dependencies in ‘tests’ ... OK
* checking tests ...
Running ‘testthat.R’
OK
* checking for unstated dependencies in vignettes ... OK
* checking package vignettes ... OK
* checking running R code from vignettes ... SKIPPED
* checking re-building of vignette outputs ... SKIPPED
* checking PDF version of manual ... OK
* DONE
Status: OK
dar.Rcheck/00install.out
############################################################################## ############################################################################## ### ### Running command: ### ### /home/biocbuild/R/R/bin/R CMD INSTALL dar ### ############################################################################## ############################################################################## * installing to library ‘/home/biocbuild/R/R-4.5.0/site-library’ * installing *source* package ‘dar’ ... ** this is package ‘dar’ version ‘1.6.0’ ** using staged installation ** R ** data ** inst ** byte-compile and prepare package for lazy loading ** help *** installing help indices *** copying figures ** building package indices ** installing vignettes ** testing if installed package can be loaded from temporary location ** testing if installed package can be loaded from final location ** testing if installed package keeps a record of temporary installation path * DONE (dar)
dar.Rcheck/tests/testthat.Rout
R version 4.5.0 (2025-04-11) -- "How About a Twenty-Six"
Copyright (C) 2025 The R Foundation for Statistical Computing
Platform: aarch64-unknown-linux-gnu
R is free software and comes with ABSOLUTELY NO WARRANTY.
You are welcome to redistribute it under certain conditions.
Type 'license()' or 'licence()' for distribution details.
R is a collaborative project with many contributors.
Type 'contributors()' for more information and
'citation()' on how to cite R or R packages in publications.
Type 'demo()' for some demos, 'help()' for on-line help, or
'help.start()' for an HTML browser interface to help.
Type 'q()' to quit R.
> library(testthat)
> library(dar)
>
> test_check("dar")
Starting 2 test processes
[ FAIL 0 | WARN 3 | SKIP 10 | PASS 81 ]
══ Skipped tests (10) ══════════════════════════════════════════════════════════
• On CRAN (9): 'test-roxytest-tests-bake.R:18:3',
'test-roxytest-tests-lefse.R:15:3', 'test-roxytest-tests-misc.R:73:3',
'test-roxytest-tests-misc.R:101:3', 'test-roxytest-tests-misc.R:108:3',
'test-roxytest-tests-pkg_check.R:6:3', 'test-roxytest-tests-maaslin2.R:16:3',
'test-roxytest-tests-read_data.R:24:3',
'test-roxytest-tests-steps_and_checks.R:7:3'
• Temporary disabling due to problems with the ANCOM package (1):
'test-roxytest-tests-ancom.R:6:3'
[ FAIL 0 | WARN 3 | SKIP 10 | PASS 81 ]
>
> proc.time()
user system elapsed
268.418 10.373 307.473
dar.Rcheck/dar-Ex.timings
| name | user | system | elapsed | |
| abundance_plt | 3.986 | 0.144 | 4.143 | |
| add_tax | 0.210 | 0.000 | 0.212 | |
| add_var | 0.214 | 0.000 | 0.214 | |
| bake | 0.588 | 0.008 | 0.596 | |
| contains_rarefaction | 0.764 | 0.051 | 0.819 | |
| cool | 0.362 | 0.004 | 0.367 | |
| corr_heatmap | 5.198 | 0.152 | 5.361 | |
| exclusion_plt | 1.547 | 0.008 | 1.559 | |
| export_steps | 3.036 | 0.328 | 17.171 | |
| find_intersections | 0.228 | 0.004 | 0.233 | |
| get_comparisons | 0.023 | 0.000 | 0.023 | |
| get_phy | 0.026 | 0.000 | 0.026 | |
| get_tax | 0.031 | 0.000 | 0.031 | |
| get_var | 0.031 | 0.000 | 0.032 | |
| import_steps | 4.881 | 0.413 | 48.019 | |
| intersection_df | 0.211 | 0.000 | 0.212 | |
| intersection_plt | 3.397 | 0.163 | 3.571 | |
| mutual_plt | 3.602 | 0.148 | 3.760 | |
| otu_table | 0.609 | 0.024 | 0.635 | |
| overlap_df | 0.335 | 0.008 | 0.344 | |
| phy_qc | 1.712 | 0.047 | 1.765 | |
| prep | 6.686 | 0.631 | 52.603 | |
| rand_id | 0 | 0 | 0 | |
| read_data | 1.764 | 0.422 | 2.245 | |
| recipe | 2.822 | 0.336 | 22.106 | |
| required_deps | 0.042 | 0.008 | 0.050 | |
| sample_data | 0.041 | 0.000 | 0.041 | |
| step_aldex | 20.363 | 0.463 | 20.886 | |
| step_ancom | 0 | 0 | 0 | |
| step_corncob | 2.772 | 0.060 | 2.882 | |
| step_deseq | 9.135 | 0.208 | 9.369 | |
| step_filter_by_abundance | 0.056 | 0.000 | 0.056 | |
| step_filter_by_prevalence | 0.049 | 0.004 | 0.053 | |
| step_filter_by_rarity | 0.046 | 0.004 | 0.050 | |
| step_filter_by_variance | 0.05 | 0.00 | 0.05 | |
| step_filter_taxa | 0.051 | 0.000 | 0.050 | |
| step_lefse | 0.080 | 0.008 | 0.088 | |
| step_maaslin | 4.427 | 0.148 | 4.587 | |
| step_metagenomeseq | 4.866 | 0.064 | 12.582 | |
| step_rarefaction | 0.060 | 0.004 | 0.065 | |
| step_subset_taxa | 0.052 | 0.000 | 0.052 | |
| step_wilcox | 2.591 | 0.040 | 2.638 | |
| steps_ids | 0.01 | 0.00 | 0.01 | |
| tax_table | 0.071 | 0.003 | 0.075 | |
| tidyeval | 0.026 | 0.000 | 0.025 | |
| to_tibble | 0.738 | 0.023 | 0.764 | |
| use_rarefy | 0.018 | 0.000 | 0.018 | |
| zero_otu | 0.634 | 0.003 | 0.639 | |