| Back to Multiple platform build/check report for BioC 3.21: simplified long |
|
This page was generated on 2025-04-22 13:16 -0400 (Tue, 22 Apr 2025).
| Hostname | OS | Arch (*) | R version | Installed pkgs |
|---|---|---|---|---|
| nebbiolo1 | Linux (Ubuntu 24.04.1 LTS) | x86_64 | 4.5.0 RC (2025-04-04 r88126) -- "How About a Twenty-Six" | 4831 |
| palomino7 | Windows Server 2022 Datacenter | x64 | 4.5.0 RC (2025-04-04 r88126 ucrt) -- "How About a Twenty-Six" | 4573 |
| lconway | macOS 12.7.1 Monterey | x86_64 | 4.5.0 RC (2025-04-04 r88126) -- "How About a Twenty-Six" | 4599 |
| kjohnson3 | macOS 13.7.1 Ventura | arm64 | 4.5.0 RC (2025-04-04 r88126) -- "How About a Twenty-Six" | 4553 |
| kunpeng2 | Linux (openEuler 24.03 LTS) | aarch64 | R Under development (unstable) (2025-02-19 r87757) -- "Unsuffered Consequences" | 4570 |
| Click on any hostname to see more info about the system (e.g. compilers) (*) as reported by 'uname -p', except on Windows and Mac OS X | ||||
| Package 516/2341 | Hostname | OS / Arch | INSTALL | BUILD | CHECK | BUILD BIN | ||||||||
| dar 1.4.0 (landing page) Francesc Catala-Moll
| nebbiolo1 | Linux (Ubuntu 24.04.1 LTS) / x86_64 | OK | OK | OK | |||||||||
| palomino7 | Windows Server 2022 Datacenter / x64 | OK | OK | OK | OK | |||||||||
| lconway | macOS 12.7.1 Monterey / x86_64 | OK | OK | OK | OK | |||||||||
| kjohnson3 | macOS 13.7.1 Ventura / arm64 | OK | OK | OK | OK | |||||||||
| kunpeng2 | Linux (openEuler 24.03 LTS) / aarch64 | OK | OK | OK | ||||||||||
|
To the developers/maintainers of the dar package: - Allow up to 24 hours (and sometimes 48 hours) for your latest push to git@git.bioconductor.org:packages/dar.git to reflect on this report. See Troubleshooting Build Report for more information. - Use the following Renviron settings to reproduce errors and warnings. - If 'R CMD check' started to fail recently on the Linux builder(s) over a missing dependency, add the missing dependency to 'Suggests:' in your DESCRIPTION file. See Renviron.bioc for more information. |
| Package: dar |
| Version: 1.4.0 |
| Command: /Library/Frameworks/R.framework/Resources/bin/R CMD check --install=check:dar.install-out.txt --library=/Library/Frameworks/R.framework/Resources/library --no-vignettes --timings dar_1.4.0.tar.gz |
| StartedAt: 2025-04-21 20:08:11 -0400 (Mon, 21 Apr 2025) |
| EndedAt: 2025-04-21 20:19:29 -0400 (Mon, 21 Apr 2025) |
| EllapsedTime: 678.1 seconds |
| RetCode: 0 |
| Status: OK |
| CheckDir: dar.Rcheck |
| Warnings: 0 |
##############################################################################
##############################################################################
###
### Running command:
###
### /Library/Frameworks/R.framework/Resources/bin/R CMD check --install=check:dar.install-out.txt --library=/Library/Frameworks/R.framework/Resources/library --no-vignettes --timings dar_1.4.0.tar.gz
###
##############################################################################
##############################################################################
* using log directory ‘/Users/biocbuild/bbs-3.21-bioc/meat/dar.Rcheck’
* using R version 4.5.0 RC (2025-04-04 r88126)
* using platform: x86_64-apple-darwin20
* R was compiled by
Apple clang version 14.0.0 (clang-1400.0.29.202)
GNU Fortran (GCC) 14.2.0
* running under: macOS Monterey 12.7.6
* using session charset: UTF-8
* using option ‘--no-vignettes’
* checking for file ‘dar/DESCRIPTION’ ... OK
* this is package ‘dar’ version ‘1.4.0’
* package encoding: UTF-8
* checking package namespace information ... OK
* checking package dependencies ... INFO
Imports includes 21 non-default packages.
Importing from so many packages makes the package vulnerable to any of
them becoming unavailable. Move as many as possible to Suggests and
use conditionally.
* checking if this is a source package ... OK
* checking if there is a namespace ... OK
* checking for hidden files and directories ... OK
* checking for portable file names ... OK
* checking for sufficient/correct file permissions ... OK
* checking whether package ‘dar’ can be installed ... OK
* checking installed package size ... OK
* checking package directory ... OK
* checking ‘build’ directory ... OK
* checking DESCRIPTION meta-information ... OK
* checking top-level files ... OK
* checking for left-over files ... OK
* checking index information ... OK
* checking package subdirectories ... OK
* checking code files for non-ASCII characters ... OK
* checking R files for syntax errors ... OK
* checking whether the package can be loaded ... OK
* checking whether the package can be loaded with stated dependencies ... OK
* checking whether the package can be unloaded cleanly ... OK
* checking whether the namespace can be loaded with stated dependencies ... OK
* checking whether the namespace can be unloaded cleanly ... OK
* checking dependencies in R code ... OK
* checking S3 generic/method consistency ... OK
* checking replacement functions ... OK
* checking foreign function calls ... OK
* checking R code for possible problems ... OK
* checking Rd files ... OK
* checking Rd metadata ... OK
* checking Rd cross-references ... OK
* checking for missing documentation entries ... OK
* checking for code/documentation mismatches ... OK
* checking Rd \usage sections ... OK
* checking Rd contents ... OK
* checking for unstated dependencies in examples ... OK
* checking contents of ‘data’ directory ... OK
* checking data for non-ASCII characters ... OK
* checking data for ASCII and uncompressed saves ... OK
* checking R/sysdata.rda ... OK
* checking files in ‘vignettes’ ... OK
* checking examples ... OK
Examples with CPU (user + system) or elapsed time > 5s
user system elapsed
step_aldex 18.426 3.080 22.771
step_deseq 6.620 0.096 6.742
step_metagenomeseq 3.659 0.079 11.050
prep 2.279 0.065 40.323
export_steps 1.684 0.208 14.377
import_steps 1.508 0.081 44.960
recipe 0.853 0.026 19.138
* checking for unstated dependencies in ‘tests’ ... OK
* checking tests ...
Running ‘testthat.R’
OK
* checking for unstated dependencies in vignettes ... OK
* checking package vignettes ... OK
* checking running R code from vignettes ... SKIPPED
* checking re-building of vignette outputs ... SKIPPED
* checking PDF version of manual ... OK
* DONE
Status: OK
dar.Rcheck/00install.out
############################################################################## ############################################################################## ### ### Running command: ### ### /Library/Frameworks/R.framework/Resources/bin/R CMD INSTALL dar ### ############################################################################## ############################################################################## * installing to library ‘/Library/Frameworks/R.framework/Versions/4.5-x86_64/Resources/library’ * installing *source* package ‘dar’ ... ** this is package ‘dar’ version ‘1.4.0’ ** using staged installation ** R ** data ** inst ** byte-compile and prepare package for lazy loading ** help *** installing help indices *** copying figures ** building package indices ** installing vignettes ** testing if installed package can be loaded from temporary location ** testing if installed package can be loaded from final location ** testing if installed package keeps a record of temporary installation path * DONE (dar)
dar.Rcheck/tests/testthat.Rout
R version 4.5.0 RC (2025-04-04 r88126) -- "How About a Twenty-Six"
Copyright (C) 2025 The R Foundation for Statistical Computing
Platform: x86_64-apple-darwin20
R is free software and comes with ABSOLUTELY NO WARRANTY.
You are welcome to redistribute it under certain conditions.
Type 'license()' or 'licence()' for distribution details.
R is a collaborative project with many contributors.
Type 'contributors()' for more information and
'citation()' on how to cite R or R packages in publications.
Type 'demo()' for some demos, 'help()' for on-line help, or
'help.start()' for an HTML browser interface to help.
Type 'q()' to quit R.
> library(testthat)
> library(dar)
>
> test_check("dar")
Starting 2 test processes
[ FAIL 0 | WARN 0 | SKIP 10 | PASS 81 ]
══ Skipped tests (10) ══════════════════════════════════════════════════════════
• On CRAN (9): 'test-roxytest-tests-bake.R:18:3',
'test-roxytest-tests-lefse.R:15:3', 'test-roxytest-tests-misc.R:73:3',
'test-roxytest-tests-misc.R:101:3', 'test-roxytest-tests-misc.R:108:3',
'test-roxytest-tests-pkg_check.R:6:3', 'test-roxytest-tests-maaslin2.R:16:3',
'test-roxytest-tests-read_data.R:24:3',
'test-roxytest-tests-steps_and_checks.R:7:3'
• Temporary disabling due to problems with the ANCOM package (1):
'test-roxytest-tests-ancom.R:6:3'
[ FAIL 0 | WARN 0 | SKIP 10 | PASS 81 ]
>
> proc.time()
user system elapsed
218.396 14.006 313.904
dar.Rcheck/dar-Ex.timings
| name | user | system | elapsed | |
| abundance_plt | 3.007 | 0.117 | 3.149 | |
| add_tax | 0.183 | 0.007 | 0.190 | |
| add_var | 0.173 | 0.008 | 0.181 | |
| bake | 0.543 | 0.014 | 0.560 | |
| contains_rarefaction | 0.277 | 0.016 | 0.295 | |
| cool | 0.342 | 0.007 | 0.350 | |
| corr_heatmap | 3.586 | 0.127 | 3.743 | |
| exclusion_plt | 1.018 | 0.010 | 1.034 | |
| export_steps | 1.684 | 0.208 | 14.377 | |
| find_intersections | 0.197 | 0.003 | 0.201 | |
| get_comparisons | 0.032 | 0.002 | 0.034 | |
| get_phy | 0.023 | 0.003 | 0.027 | |
| get_tax | 0.029 | 0.003 | 0.032 | |
| get_var | 0.027 | 0.002 | 0.030 | |
| import_steps | 1.508 | 0.081 | 44.960 | |
| intersection_df | 0.185 | 0.005 | 0.192 | |
| intersection_plt | 1.720 | 0.025 | 1.756 | |
| mutual_plt | 2.156 | 0.021 | 2.194 | |
| otu_table | 0.437 | 0.005 | 0.446 | |
| overlap_df | 0.321 | 0.008 | 0.332 | |
| phy_qc | 1.271 | 0.019 | 1.295 | |
| prep | 2.279 | 0.065 | 40.323 | |
| rand_id | 0 | 0 | 0 | |
| read_data | 1.687 | 0.384 | 1.844 | |
| recipe | 0.853 | 0.026 | 19.138 | |
| required_deps | 0.054 | 0.008 | 0.063 | |
| sample_data | 0.030 | 0.002 | 0.032 | |
| step_aldex | 18.426 | 3.080 | 22.771 | |
| step_ancom | 0.000 | 0.001 | 0.000 | |
| step_corncob | 2.105 | 0.133 | 2.272 | |
| step_deseq | 6.620 | 0.096 | 6.742 | |
| step_filter_by_abundance | 0.041 | 0.004 | 0.045 | |
| step_filter_by_prevalence | 0.048 | 0.004 | 0.053 | |
| step_filter_by_rarity | 0.048 | 0.004 | 0.052 | |
| step_filter_by_variance | 0.039 | 0.004 | 0.044 | |
| step_filter_taxa | 0.045 | 0.003 | 0.049 | |
| step_lefse | 0.065 | 0.005 | 0.070 | |
| step_maaslin | 3.444 | 0.182 | 3.644 | |
| step_metagenomeseq | 3.659 | 0.079 | 11.050 | |
| step_rarefaction | 0.056 | 0.005 | 0.061 | |
| step_subset_taxa | 0.042 | 0.006 | 0.049 | |
| step_wilcox | 1.933 | 0.027 | 1.966 | |
| steps_ids | 0.019 | 0.009 | 0.027 | |
| tax_table | 0.062 | 0.005 | 0.067 | |
| tidyeval | 0.018 | 0.002 | 0.020 | |
| to_tibble | 0.449 | 0.007 | 0.459 | |
| use_rarefy | 0.020 | 0.003 | 0.024 | |
| zero_otu | 0.508 | 0.009 | 0.519 | |