Back to Multiple platform build/check report for BioC 3.21: simplified long |
|
This page was generated on 2025-04-22 13:19 -0400 (Tue, 22 Apr 2025).
Hostname | OS | Arch (*) | R version | Installed pkgs |
---|---|---|---|---|
nebbiolo1 | Linux (Ubuntu 24.04.1 LTS) | x86_64 | 4.5.0 RC (2025-04-04 r88126) -- "How About a Twenty-Six" | 4831 |
palomino7 | Windows Server 2022 Datacenter | x64 | 4.5.0 RC (2025-04-04 r88126 ucrt) -- "How About a Twenty-Six" | 4573 |
lconway | macOS 12.7.1 Monterey | x86_64 | 4.5.0 RC (2025-04-04 r88126) -- "How About a Twenty-Six" | 4599 |
kjohnson3 | macOS 13.7.1 Ventura | arm64 | 4.5.0 RC (2025-04-04 r88126) -- "How About a Twenty-Six" | 4553 |
kunpeng2 | Linux (openEuler 24.03 LTS) | aarch64 | R Under development (unstable) (2025-02-19 r87757) -- "Unsuffered Consequences" | 4570 |
Click on any hostname to see more info about the system (e.g. compilers) (*) as reported by 'uname -p', except on Windows and Mac OS X |
Package 516/2341 | Hostname | OS / Arch | INSTALL | BUILD | CHECK | BUILD BIN | ||||||||
dar 1.4.0 (landing page) Francesc Catala-Moll
| nebbiolo1 | Linux (Ubuntu 24.04.1 LTS) / x86_64 | OK | OK | OK | ![]() | ||||||||
palomino7 | Windows Server 2022 Datacenter / x64 | OK | OK | OK | OK | ![]() | ||||||||
lconway | macOS 12.7.1 Monterey / x86_64 | OK | OK | OK | OK | ![]() | ||||||||
kjohnson3 | macOS 13.7.1 Ventura / arm64 | OK | OK | OK | OK | ![]() | ||||||||
kunpeng2 | Linux (openEuler 24.03 LTS) / aarch64 | OK | OK | OK | ||||||||||
To the developers/maintainers of the dar package: - Allow up to 24 hours (and sometimes 48 hours) for your latest push to git@git.bioconductor.org:packages/dar.git to reflect on this report. See Troubleshooting Build Report for more information. - Use the following Renviron settings to reproduce errors and warnings. - If 'R CMD check' started to fail recently on the Linux builder(s) over a missing dependency, add the missing dependency to 'Suggests:' in your DESCRIPTION file. See Renviron.bioc for more information. - See Martin Grigorov's blog post for how to debug Linux ARM64 related issues on a x86_64 host. |
Package: dar |
Version: 1.4.0 |
Command: /home/biocbuild/R/R/bin/R CMD check --install=check:dar.install-out.txt --library=/home/biocbuild/R/R/site-library --no-vignettes --timings dar_1.4.0.tar.gz |
StartedAt: 2025-04-22 08:00:48 -0000 (Tue, 22 Apr 2025) |
EndedAt: 2025-04-22 08:14:35 -0000 (Tue, 22 Apr 2025) |
EllapsedTime: 826.6 seconds |
RetCode: 0 |
Status: OK |
CheckDir: dar.Rcheck |
Warnings: 0 |
############################################################################## ############################################################################## ### ### Running command: ### ### /home/biocbuild/R/R/bin/R CMD check --install=check:dar.install-out.txt --library=/home/biocbuild/R/R/site-library --no-vignettes --timings dar_1.4.0.tar.gz ### ############################################################################## ############################################################################## * using log directory ‘/home/biocbuild/bbs-3.21-bioc/meat/dar.Rcheck’ * using R Under development (unstable) (2025-02-19 r87757) * using platform: aarch64-unknown-linux-gnu * R was compiled by aarch64-unknown-linux-gnu-gcc (GCC) 14.2.0 GNU Fortran (GCC) 14.2.0 * running under: openEuler 24.03 (LTS-SP1) * using session charset: UTF-8 * using option ‘--no-vignettes’ * checking for file ‘dar/DESCRIPTION’ ... OK * this is package ‘dar’ version ‘1.4.0’ * package encoding: UTF-8 * checking package namespace information ... OK * checking package dependencies ... INFO Imports includes 21 non-default packages. Importing from so many packages makes the package vulnerable to any of them becoming unavailable. Move as many as possible to Suggests and use conditionally. * checking if this is a source package ... OK * checking if there is a namespace ... OK * checking for hidden files and directories ... OK * checking for portable file names ... OK * checking for sufficient/correct file permissions ... OK * checking whether package ‘dar’ can be installed ... OK * checking installed package size ... OK * checking package directory ... OK * checking ‘build’ directory ... OK * checking DESCRIPTION meta-information ... OK * checking top-level files ... OK * checking for left-over files ... OK * checking index information ... OK * checking package subdirectories ... OK * checking code files for non-ASCII characters ... OK * checking R files for syntax errors ... OK * checking whether the package can be loaded ... OK * checking whether the package can be loaded with stated dependencies ... OK * checking whether the package can be unloaded cleanly ... OK * checking whether the namespace can be loaded with stated dependencies ... OK * checking whether the namespace can be unloaded cleanly ... OK * checking loading without being on the library search path ... OK * checking dependencies in R code ... OK * checking S3 generic/method consistency ... OK * checking replacement functions ... OK * checking foreign function calls ... OK * checking R code for possible problems ... OK * checking Rd files ... OK * checking Rd metadata ... OK * checking Rd cross-references ... OK * checking for missing documentation entries ... OK * checking for code/documentation mismatches ... OK * checking Rd \usage sections ... OK * checking Rd contents ... OK * checking for unstated dependencies in examples ... OK * checking contents of ‘data’ directory ... OK * checking data for non-ASCII characters ... OK * checking data for ASCII and uncompressed saves ... OK * checking R/sysdata.rda ... OK * checking files in ‘vignettes’ ... OK * checking examples ... OK Examples with CPU (user + system) or elapsed time > 5s user system elapsed step_aldex 23.657 0.388 24.097 step_deseq 8.854 0.012 8.885 step_metagenomeseq 4.982 0.158 13.313 prep 3.878 0.160 48.906 import_steps 3.491 0.217 53.197 export_steps 2.168 0.127 16.707 recipe 1.261 0.057 22.462 * checking for unstated dependencies in ‘tests’ ... OK * checking tests ... Running ‘testthat.R’ OK * checking for unstated dependencies in vignettes ... OK * checking package vignettes ... OK * checking running R code from vignettes ... SKIPPED * checking re-building of vignette outputs ... SKIPPED * checking PDF version of manual ... OK * DONE Status: OK
dar.Rcheck/00install.out
############################################################################## ############################################################################## ### ### Running command: ### ### /home/biocbuild/R/R/bin/R CMD INSTALL dar ### ############################################################################## ############################################################################## * installing to library ‘/home/biocbuild/R/R-devel_2025-02-19/site-library’ * installing *source* package ‘dar’ ... ** this is package ‘dar’ version ‘1.4.0’ ** using staged installation ** R ** data ** inst ** byte-compile and prepare package for lazy loading ** help *** installing help indices *** copying figures ** building package indices ** installing vignettes ** testing if installed package can be loaded from temporary location ** testing if installed package can be loaded from final location ** testing if installed package keeps a record of temporary installation path * DONE (dar)
dar.Rcheck/tests/testthat.Rout
R Under development (unstable) (2025-02-19 r87757) -- "Unsuffered Consequences" Copyright (C) 2025 The R Foundation for Statistical Computing Platform: aarch64-unknown-linux-gnu R is free software and comes with ABSOLUTELY NO WARRANTY. You are welcome to redistribute it under certain conditions. Type 'license()' or 'licence()' for distribution details. R is a collaborative project with many contributors. Type 'contributors()' for more information and 'citation()' on how to cite R or R packages in publications. Type 'demo()' for some demos, 'help()' for on-line help, or 'help.start()' for an HTML browser interface to help. Type 'q()' to quit R. > library(testthat) > library(dar) > > test_check("dar") Starting 2 test processes [ FAIL 0 | WARN 0 | SKIP 10 | PASS 81 ] ══ Skipped tests (10) ══════════════════════════════════════════════════════════ • On CRAN (9): 'test-roxytest-tests-bake.R:18:3', 'test-roxytest-tests-lefse.R:15:3', 'test-roxytest-tests-misc.R:73:3', 'test-roxytest-tests-misc.R:101:3', 'test-roxytest-tests-misc.R:108:3', 'test-roxytest-tests-pkg_check.R:6:3', 'test-roxytest-tests-maaslin2.R:16:3', 'test-roxytest-tests-read_data.R:24:3', 'test-roxytest-tests-steps_and_checks.R:7:3' • Temporary disabling due to problems with the ANCOM package (1): 'test-roxytest-tests-ancom.R:6:3' [ FAIL 0 | WARN 0 | SKIP 10 | PASS 81 ] > > proc.time() user system elapsed 312.492 7.665 397.966
dar.Rcheck/dar-Ex.timings
name | user | system | elapsed | |
abundance_plt | 3.704 | 0.183 | 3.903 | |
add_tax | 0.225 | 0.000 | 0.226 | |
add_var | 0.209 | 0.004 | 0.213 | |
bake | 0.646 | 0.008 | 0.656 | |
contains_rarefaction | 0.306 | 0.016 | 0.324 | |
cool | 0.442 | 0.016 | 0.459 | |
corr_heatmap | 4.443 | 0.044 | 4.509 | |
exclusion_plt | 1.234 | 0.000 | 1.236 | |
export_steps | 2.168 | 0.127 | 16.707 | |
find_intersections | 0.264 | 0.012 | 0.277 | |
get_comparisons | 0.034 | 0.000 | 0.034 | |
get_phy | 0.028 | 0.000 | 0.028 | |
get_tax | 0.033 | 0.000 | 0.033 | |
get_var | 0.027 | 0.008 | 0.034 | |
import_steps | 3.491 | 0.217 | 53.197 | |
intersection_df | 0.252 | 0.004 | 0.257 | |
intersection_plt | 2.355 | 0.040 | 2.403 | |
mutual_plt | 2.773 | 0.064 | 2.844 | |
otu_table | 0.574 | 0.004 | 0.580 | |
overlap_df | 0.368 | 0.016 | 0.384 | |
phy_qc | 1.725 | 0.024 | 1.753 | |
prep | 3.878 | 0.160 | 48.906 | |
rand_id | 0.001 | 0.000 | 0.000 | |
read_data | 1.944 | 0.387 | 2.339 | |
recipe | 1.261 | 0.057 | 22.462 | |
required_deps | 0.061 | 0.004 | 0.065 | |
sample_data | 0.043 | 0.000 | 0.043 | |
step_aldex | 23.657 | 0.388 | 24.097 | |
step_ancom | 0 | 0 | 0 | |
step_corncob | 2.755 | 0.060 | 2.858 | |
step_deseq | 8.854 | 0.012 | 8.885 | |
step_filter_by_abundance | 0.179 | 0.000 | 0.179 | |
step_filter_by_prevalence | 0.048 | 0.000 | 0.048 | |
step_filter_by_rarity | 0.048 | 0.000 | 0.048 | |
step_filter_by_variance | 0.044 | 0.004 | 0.048 | |
step_filter_taxa | 0.048 | 0.000 | 0.049 | |
step_lefse | 0.085 | 0.004 | 0.089 | |
step_maaslin | 4.190 | 0.040 | 4.238 | |
step_metagenomeseq | 4.982 | 0.158 | 13.313 | |
step_rarefaction | 0.061 | 0.024 | 0.084 | |
step_subset_taxa | 0.064 | 0.004 | 0.068 | |
step_wilcox | 2.550 | 0.466 | 3.025 | |
steps_ids | 0.018 | 0.003 | 0.021 | |
tax_table | 0.069 | 0.004 | 0.073 | |
tidyeval | 0.023 | 0.004 | 0.026 | |
to_tibble | 0.636 | 0.060 | 0.698 | |
use_rarefy | 0.017 | 0.000 | 0.016 | |
zero_otu | 0.659 | 0.032 | 0.693 | |